{"text_format":"1","workbook":"xlsx","n_sheets":22,"sheets":["（非）編集用","トップ","補正結果","（非）年度選択","（非）補正前計算式","（非）補正後計算式 ","①","②","③","④","⑤","⑥","（非）⑤排出係数","（非）⑤小売2013年度実績","（非）⑤小売2014実績","（非）⑤小売2015実績","（非）⑤小売2016実績","（非）⑤小売2017実績","（非）⑤小売2018実績","（非）⑥証書種別・排出係数","⑦","（非）メンテナンスシート"],"not_rendered":{"charts":0,"images":0,"macros":1,"external_links":2,"defined_names":66,"comments":3,"pivot_tables":0},"unopened":[],"bounds":{"document_bytes":16777216,"sheet_cells":100000,"rows_first":2000,"rows_last":500,"rows_between":2000,"halvings":0,"cell_chars":16384,"cell_head_chars":4096},"cells_cut":0,"cells_raw":0,"read":"whole","date_system":"1900"}

{"sheet":"（非）編集用","index":0,"n_rows":0,"n_cols":0,"rows_kept":0,"cut":false,"hidden":true,"merged":[]}

{"sheet":"トップ","index":1,"n_rows":21,"n_cols":4,"rows_kept":21,"cut":false,"hidden":false,"merged":[[19,1,19,2],[20,1,20,2],[11,1,11,2],[12,1,12,2],[13,1,13,2],[14,1,14,2],[15,1,15,2],[5,1,5,2],[6,1,6,2],[7,1,7,2],[2,0,2,3],[10,1,10,2]]}
["地球温暖化対策報告書補正ファイル",null,2020,"年度"]
[" バージョン 1.0",null,"↑提出年度を入力してください"]
["♯本ファイルにおいて各補正を行い、補正後の数値を報告書（その１）又は報告書作成ツールに転記してください。\n♯補正を行う場合でも本ファイルは提出不要です。"]
[]
["１　補正手順"]
[1,"「補正結果」シートの「補正前」欄に補正前の数値を入力"]
[2,"「トップ」シートの「補正事由一覧」から該当する補正事由を選択し、各シートに補正する数値を入力"]
[3,"「補正結果」シートの「補正後」欄の各数値を、地球温暖化対策報告書その１に転記\n※補正結果をコピーして様式に張り付ける場合は、「値の貼り付け」で貼り付けてください。"]
[]
["２　補正事由一覧（地球温暖化の対策に係る取組の実績の評価）"]
["ア","「特定（指定）地球温暖化対策事業所」として都に報告を行っていた事業所を新たに「中小規模事業所」として報告する場合",null,"評価基準2(5)ア"]
["イ","「中小規模事業所」として都に報告を行っていた事業所を新たに「特定（指定）地球温暖化対策事業所」として報告する場合",null,"評価基準2(5)イ"]
["ウ","会社合併を行った場合",null,"評価基準2(5)ウ"]
["エ","会社分割を行った場合",null,"評価基準2(5)エ"]
["オ","事業所等において再生可能エネルギー電気の受入を行った場合",null,"評価基準2(5)オ"]
["カ","事業所等において証書による環境価値の利用を行った場合",null,"評価基準2(5)カ"]
["※規則別表第１に定める温室効果ガスの排出の量の算定方法が変更になった場合の補正は本シートで行うことはできません."]
[]
["３　補正事由一覧（再生可能エネルギーの利用に係る措置の評価）"]
["ア","他の事業者が都内に有する事業所等の屋根等を賃借し、再生可能エネルギー発電設備を設置している場合",null,"評価基準3(5)ア"]
["イ","事業者として証書による環境価値を都内において利用した場合",null,"評価基準3(5)イ"]

{"sheet":"補正結果","index":2,"n_rows":27,"n_cols":128,"rows_kept":27,"cut":false,"hidden":false,"merged":[[7,2,7,13],[7,14,7,26],[7,27,7,30],[7,31,7,39],[7,40,7,48],[7,49,7,51],[5,21,5,30],[6,2,6,13],[6,14,6,26],[6,27,6,30],[6,31,6,39],[6,40,6,48],[13,14,13,19],[13,20,13,25],[13,26,13,31],[13,32,13,37],[13,38,13,43],[10,2,10,13],[10,14,10,15],[10,16,10,23],[10,24,10,25],[10,26,10,30],[15,2,15,13],[15,14,15,19],[15,20,15,25],[15,26,15,31],[15,32,15,37],[15,38,15,43],[14,2,14,13],[14,14,14,19],[14,20,14,25],[14,26,14,31],[14,32,14,37],[14,38,14,43],[22,2,22,13],[22,14,22,26],[22,27,22,30],[19,2,19,13],[16,38,16,43],[18,14,18,26],[19,14,19,26],[18,27,18,30],[19,27,19,30],[16,2,16,13],[16,14,16,19],[16,20,16,25],[16,26,16,31],[16,32,16,37],[37,16,37,17],[23,2,23,13],[23,14,23,26],[23,27,23,30],[26,2,27,13],[26,14,27,26],[26,27,27,30],[37,14,37,15],[37,20,37,21],[37,22,37,23],[58,2,62,51],[18,2,18,13],[52,12,52,31],[52,32,52,51],[53,12,53,31],[53,32,53,51],[54,12,54,31],[54,32,54,51],[49,32,49,36],[49,37,49,51],[50,12,50,31],[50,32,50,51],[51,12,51,31],[51,32,51,51],[44,2,44,13],[44,14,44,19],[46,2,46,14],[47,2,47,11],[47,12,47,51],[48,2,55,11],[48,12,48,31],[48,32,48,51],[49,12,49,16],[49,17,49,31],[14,44,14,51],[15,44,15,51],[10,32,10,51],[16,44,16,51],[55,12,55,31],[55,32,55,51],[57,2,57,11],[40,2,40,19],[40,20,40,30],[40,31,40,34],[41,2,41,19],[41,20,41,34],[43,2,43,20],[37,27,37,46],[38,2,38,19],[38,20,38,30],[38,31,38,34],[39,2,39,19],[39,20,39,30],[39,31,39,34],[34,2,34,13],[34,14,34,15],[34,16,34,25],[37,2,37,13],[34,55,34,66],[19,55,19,66],[15,67,15,72],[15,55,15,66],[13,67,13,72],[23,67,23,79],[26,55,27,66],[26,67,27,79],[26,80,27,83],[16,55,16,66],[16,67,16,72],[13,73,13,78],[13,79,13,84],[16,73,16,78],[16,79,16,84],[23,80,23,83],[34,67,34,68],[34,69,34,78],[23,55,23,66],[3,1,3,52],[3,54,3,105],[5,74,5,83],[6,55,6,66],[6,67,6,79],[6,80,6,83],[6,84,6,92],[6,93,6,101],[6,102,6,104],[6,49,6,51],[7,55,7,66],[7,67,7,79],[7,80,7,83],[7,84,7,92],[7,93,7,101],[7,102,7,104],[10,55,10,66],[10,67,10,68],[10,69,10,76],[10,77,10,78],[10,79,10,83],[10,85,10,104],[13,91,13,96],[14,55,14,66],[14,67,14,72],[14,73,14,78],[14,79,14,84],[14,85,14,90],[14,91,14,96],[14,97,14,104],[15,73,15,78],[15,79,15,84],[15,85,15,90],[15,91,15,96],[15,97,15,104],[13,85,13,90],[16,91,16,96],[16,97,16,104],[18,55,18,66],[18,67,18,79],[18,80,18,83],[19,67,19,79],[19,80,19,83],[22,55,22,66],[22,67,22,79],[22,80,22,83],[16,85,16,90],[37,73,37,74],[37,75,37,76],[37,80,37,99],[38,55,38,72],[38,73,38,83],[38,84,38,87],[39,55,39,72],[39,73,39,83],[39,84,39,87],[37,55,37,66],[37,67,37,68],[37,69,37,70],[55,65,55,84],[55,85,55,104],[40,55,40,72],[40,73,40,83],[40,84,40,87],[41,55,41,72],[41,73,41,87],[43,55,43,73],[44,55,44,66],[44,67,44,72],[46,55,46,67],[2,54,2,105],[1,1,1,52],[1,54,1,105],[57,55,57,64],[58,55,62,104],[47,55,47,64],[47,65,47,104],[48,55,55,64],[48,65,48,84],[48,85,48,104],[49,65,49,69],[49,70,49,84],[49,85,49,89],[49,90,49,104],[50,65,50,84],[50,85,50,104],[51,65,51,84],[51,85,51,104],[52,65,52,84],[52,85,52,104],[53,65,53,84],[53,85,53,104],[54,65,54,84],[54,85,54,104],[13,120,13,122],[13,123,13,125],[13,127,13,128],[14,109,14,111],[14,112,14,115],[14,116,14,119],[14,120,14,122],[14,123,14,125],[14,127,14,128],[3,107,3,129],[1,107,1,129],[2,107,2,129],[22,109,22,113],[22,114,22,117],[22,127,22,128],[23,109,23,113],[23,114,23,117],[23,127,23,128],[21,127,21,128],[15,109,15,111],[15,112,15,115],[15,116,15,119],[15,120,15,122],[15,123,15,125],[15,127,15,128],[16,109,16,111],[16,112,16,115],[16,116,16,119],[16,120,16,122],[16,123,16,125],[13,109,13,111],[13,112,13,115],[13,116,13,119]]}
[]
[null,"♯補正前の数値を青色のセルに記入してください。",null,null,null,null,null,null,null,null,null,null,null,null,null,null,null,null,null,null,null,null,null,null,null,null,null,null,null,null,null,null,null,null,null,null,null,null,null,null,null,null,null,null,null,null,null,null,null,null,null,null,null,null,"♯補正によって変更になった箇所は黄色セルで表示されます。"]
[null,null,null,null,null,null,null,null,null,null,null,null,null,null,null,null,null,null,null,null,null,null,null,null,null,null,null,null,null,null,null,null,null,null,null,null,null,null,null,null,null,null,null,null,null,null,null,null,null,null,null,null,null,null,"表示された数値をコピーし、報告書様式（データ）の各入力欄に貼り付けてください。",null,null,null,null,null,null,null,null,null,null,null,null,null,null,null,null,null,null,null,null,null,null,null,null,null,null,null,null,null,null,null,null,null,null,null,null,null,null,null,null,null,null,null,null,null,null,null,null,null,null,null,null,"赤枠内の数値をコピーし、報告書作成ツールver.6.0の「事業者情報」シートに貼り付けてください。"]
[null,"補正前",null,null,null,null,null,null,null,null,null,null,null,null,null,null,null,null,null,null,null,null,null,null,null,null,null,null,null,null,null,null,null,null,null,null,null,null,null,null,null,null,null,null,null,null,null,null,null,null,null,null,null,null,"補正後",null,null,null,null,null,null,null,null,null,null,null,null,null,null,null,null,null,null,null,null,null,null,null,null,null,null,null,null,null,null,null,null,null,null,null,null,null,null,null,null,null,null,null,null,null,null,null,null,null,null,null,null,"補正後（報告書作成ツール）"]
[]
[null,null,"１　報告する事業所等の全体の状況",null,null,null,null,null,null,null,null,null,null,null,null,null,null,null,null,null,null,{"$f":"トップ!C1-1","v":2019},null,null,null,null,null,null,null,null,null,null,null,null,null,null,null,null,null,null,null,null,null,null,null,null,null,null,null,null,null,null,null,null,null,"１　報告する事業所等の全体の状況",null,null,null,null,null,null,null,null,null,null,null,null,null,null,null,null,null,null,2019]
[null,null,"条例第8条の23第1項\n報告事業所数",null,null,null,null,null,null,null,null,null,null,null,null,null,null,null,null,null,null,null,null,null,null,null,null,"事業所",null,null,null,null,null,null,null,null,null,null,null,null,null,null,null,null,null,null,null,null,null,null,null,null,null,null,null,"条例第8条の23第1項\n報告事業所数",null,null,null,null,null,null,null,null,null,null,null,{"$f":"O7","v":0},null,null,null,null,null,null,null,null,null,null,null,null,"事業所"]
[null,null,"条例第8条の23第2項\n報告事業所数",null,null,null,null,null,null,null,null,null,null,null,null,null,null,null,null,null,null,null,null,null,null,null,null,"事業所",null,null,null,null,null,null,null,null,null,null,null,null,null,null,null,null,null,null,null,null,null,null,null,null,null,null,null,"条例第8条の23第2項\n報告事業所数",null,null,null,null,null,null,null,null,null,null,null,{"$f":"O8","v":0},null,null,null,null,null,null,null,null,null,null,null,null,"事業所"]
[]
[null,null,"２　評価の対象とする事業所等の範囲",null,null,null,null,null,null,null,null,null,null,null,null,null,null,null,null,null,null,null,null,null,null,null,null,null,null,null,null,null,null,null,null,null,null,null,null,null,null,null,null,null,null,null,null,null,null,null,null,null,null,null,null,"２　評価の対象とする事業所等の範囲"]
[null,null,"評価対象事業所等",null,null,null,null,null,null,null,null,null,null,null,null,null,"義務提出事業所等",null,null,null,null,null,null,null,null,null,"全事業所",null,null,null,null,null,null,null,null,null,null,null,null,null,null,null,null,null,null,null,null,null,null,null,null,null,null,null,null,"評価対象事業所等",null,null,null,null,null,null,null,null,null,null,null,null,null,"義務提出事業所等",null,null,null,null,null,null,null,null,null,"全事業所"]
[]
[null,null,"３　評価対象事業所等における直近５か年度の状況",null,null,null,null,null,null,null,null,null,null,null,null,null,null,null,null,null,null,null,null,null,null,null,null,null,null,null,null,null,null,null,null,null,null,null,null,null,null,null,null,null,null,null,null,null,null,null,null,null,null,null,null,"３　評価対象事業所等における直近５か年度の状況",null,null,null,null,null,null,null,null,null,null,null,null,null,null,null,null,null,null,null,null,null,null,null,null,null,null,null,null,null,null,null,null,null,null,null,null,null,null,null,null,null,null,null,null,null,null,null,null,null,null,null,null,"評価対象事業所における直近５か年度の状況"]
[null,null,null,null,null,null,null,null,null,null,null,null,null,null,{"$f":"V6-4&\"年度\"","v":"2015年度"},null,null,null,null,null,{"$f":"V6-3&\"年度\"","v":"2016年度"},null,null,null,null,null,{"$f":"V6-2&\"年度\"","v":"2017年度"},null,null,null,null,null,{"$f":"V6-1&\"年度\"","v":"2018年度"},null,null,null,null,null,{"$f":"V6&\"年度\"","v":"2019年度"},null,null,null,null,null,null,null,null,null,null,null,null,null,null,null,null,null,null,null,null,null,null,null,null,null,null,null,null,"2015年度",null,null,null,null,null,"2016年度",null,null,null,null,null,"2017年度",null,null,null,null,null,"2018年度",null,null,null,null,null,"2019年度",null,null,null,null,null,null,null,null,null,null,null,null,null,null,null,null,null,{"$f":"O14","v":"2015年度"},null,null,{"$f":"U14","v":"2016年度"},null,null,null,{"$f":"AA14","v":"2017年度"},null,null,null,{"$f":"AG14","v":"2018年度"},null,null,{"$f":"AM14","v":"2019年度"},null,null,null,"実績年度の\n補正した値"]
[null,null,"合計二酸化炭素排出量",null,null,null,null,null,null,null,null,null,null,null,null,null,null,null,null,null,null,null,null,null,null,null,null,null,null,null,null,null,null,null,null,null,null,null,null,null,null,null,null,null,"t",null,null,null,null,null,null,null,null,null,null,"合計二酸化炭素排出量",null,null,null,null,null,null,null,null,null,null,null,{"$f":"O15+①!C4+②!C4+③!C4+④!C4+⑤!C5+⑥!C4","v":0},null,null,null,null,null,{"$f":"U15+①!D4+②!D4+③!D4+④!D4+⑤!D5+⑥!D4","v":0},null,null,null,null,null,{"$f":"AA15+①!E4+②!E4+③!E4+④!E4+⑤!E5+⑥!E4","v":0},null,null,null,null,null,{"$f":"AG15+①!F4+②!F4+③!F4+④!F4+⑤!F5+⑥!F4","v":0},null,null,null,null,null,{"$f":"AM15+⑤!G5+⑥!G4","v":0},null,null,null,null,null,"t",null,null,null,null,null,null,null,null,null,null,"合計二酸化炭素排出量 (t)",{"$f":"BP15","v":0},null,null,{"$f":"BV15","v":0},null,null,null,{"$f":"CB15","v":0},null,null,null,{"$f":"CH15","v":0},null,null,null,null,null,null,{"$f":"CN15","v":0}]
[null,null,"合計延床面積",null,null,null,null,null,null,null,null,null,null,null,null,null,null,null,null,null,null,null,null,null,null,null,null,null,null,null,null,null,null,null,null,null,null,null,null,null,null,null,null,null,"㎡",null,null,null,null,null,null,null,null,null,null,"合計延床面積",null,null,null,null,null,null,null,null,null,null,null,{"$f":"O16+①!C5+②!C5+③!C5+④!C5","v":0},null,null,null,null,null,{"$f":"U16+①!D5+②!D5+③!D5+④!D5","v":0},null,null,null,null,null,{"$f":"AA16+①!E5+②!E5+③!E5+④!E5","v":0},null,null,null,null,null,{"$f":"AG16+①!F5+②!F5+③!F5+④!F5","v":0},null,null,null,null,null,{"$f":"AM16","v":0},null,null,null,null,null,"㎡",null,null,null,null,null,null,null,null,null,null,"合計延床面積 (m2)",{"$f":"BP16","v":0},null,null,{"$f":"BV16","v":0},null,null,null,{"$f":"CB16","v":0},null,null,null,{"$f":"CH16","v":0},null,null,null,null,null,null,{"$f":"CN16","v":0}]
[null,null,"合計原単位",null,null,null,null,null,null,null,null,null,null,null,{"$f":"IFERROR(ROUNDDOWN(O15*1000/O16,5),\"0.00000 \")","v":"0.00000 "},null,null,null,null,null,{"$f":"IFERROR(ROUNDDOWN(U15*1000/U16,5),\" 0.00000\")","v":" 0.00000"},null,null,null,null,null,{"$f":"IFERROR(ROUNDDOWN(AA15*1000/AA16,5),\"0.00000\")","v":"0.00000"},null,null,null,null,null,{"$f":"IFERROR(ROUNDDOWN(AG15*1000/AG16,5),\"0.00000\")","v":"0.00000"},null,null,null,null,null,{"$f":"IFERROR(ROUNDDOWN(AM15*1000/AM16,5),\"0.00000 \")","v":"0.00000 "},null,null,null,null,null,"kg-CO2/㎡",null,null,null,null,null,null,null,null,null,null,"合計原単位",null,null,null,null,null,null,null,null,null,null,null,{"$f":"IFERROR(ROUNDDOWN(BP15*1000/BP16,5),\"0.00000 \")","v":"0.00000 "},null,null,null,null,null,{"$f":"IFERROR(ROUNDDOWN(BV15*1000/BV16,5),\" 0.00000\")","v":" 0.00000"},null,null,null,null,null,{"$f":"IFERROR(ROUNDDOWN(CB15*1000/CB16,5),\"0.00000\")","v":"0.00000"},null,null,null,null,null,{"$f":"IFERROR(ROUNDDOWN(CH15*1000/CH16,5),\"0.00000\")","v":"0.00000"},null,null,null,null,null,{"$f":"IFERROR(ROUNDDOWN(CN15*1000/CN16,5),\"0.00000 \")","v":"0.00000 "},null,null,null,null,null,"kg-CO2/㎡"]
[]
[null,null,"平均合計二酸化炭素\n排出量削減率",null,null,null,null,null,null,null,null,null,null,null,{"$f":"IFERROR(ROUNDDOWN('（非）補正前計算式'!O19*100,2),\"0.00\")","v":0},null,null,null,null,null,null,null,null,null,null,null,null,"%",null,null,null,null,{"$f":"IF(AND('（非）補正前計算式'!E15=TRUE,'（非）補正前計算式'!I15=TRUE),\"！エラー！どちらかを選択してください。\",\" \")","v":" "},null,null,null,null,null,null,null,null,null,null,null,null,null,null,null,null,null,null,null,null,null,null,"平均合計二酸化炭素\n排出量削減率",null,null,null,null,null,null,null,null,null,null,null,{"$f":"IFERROR(ROUNDDOWN('（非）補正後計算式 '!O19*100,2),\"0.00\")","v":0},null,null,null,null,null,null,null,null,null,null,null,null,"%",null,null,null,null," "]
[null,null,"平均合計原単位改善率",null,null,null,null,null,null,null,null,null,null,null,{"$f":"IFERROR(ROUNDDOWN('（非）補正前計算式'!O22*100,2),\"0.00\")","v":0},null,null,null,null,null,null,null,null,null,null,null,null,"%",null,null,null,null,null,null,null,null,null,null,null,null,null,null,null,null,null,null,null,null,null,null,null,null,null,null,null,"平均合計原単位改善率",null,null,null,null,null,null,null,null,null,null,null,{"$f":"IFERROR(ROUNDDOWN('（非）補正後計算式 '!O22*100,2),\"0.00\")","v":0},null,null,null,null,null,null,null,null,null,null,null,null,"%"]
[]
[null,null,"４　再生可能エネルギーの利用事業所数及び割合",null,null,null,null,null,null,null,null,null,null,null,null,null,null,null,null,null,null,null,null,null,null,null,null,null,null,null,null,null,null,null,null,null,null,null,null,null,null,null,null,null,null,null,null,null,null,null,null,null,null,null,null,"４　再生可能エネルギーの利用事業所数及び割合",null,null,null,null,null,null,null,null,null,null,null,null,null,null,null,null,null,null,null,null,null,null,null,null,null,null,null,null,null,null,null,null,null,null,null,null,null,null,null,null,null,null,null,null,null,null,null,null,null,null,null,null,"再生可能エネルギーの利用事業所数及び割合",null,null,null,null,null,null,null,null,null,null,null,null,null,null,null,null,null,null,"補正した値"]
[null,null,"再生可能エネルギー\n利用事業所数",null,null,null,null,null,null,null,null,null,null,null,null,null,null,null,null,null,null,null,null,null,null,null,null,"事業所",null,null,null,null,null,null,null,null,null,null,null,null,null,null,null,null,null,null,null,null,null,null,null,null,null,null,null,"再生可能エネルギー\n利用事業所数",null,null,null,null,null,null,null,null,null,null,null,{"$f":"IF(O23+⑦!C4>'（非）補正後計算式 '!O25,'（非）補正後計算式 '!O25,O23+⑦!C4)","v":0},null,null,null,null,null,null,null,null,null,null,null,null,"事業所",null,null,null,null,null,null,null,null,null,null,null,null,null,null,null,null,null,null,null,null,null,null,null,null,null,null,null,"再生可能エネルギー\n利用事業所数",null,null,null,null,null,"事業所",null,null,null,null,null,null,null,null,null,null,null,null,{"$f":"BP23","v":0}]
[null,null,"再生可能エネルギー\n利用事業所率",null,null,null,null,null,null,null,null,null,null,null,{"$f":"IFERROR(ROUNDDOWN(O23/'（非）補正前計算式'!O25*100,2),\"0.00\")","v":"0.00"},null,null,null,null,null,null,null,null,null,null,null,null,"%",null,null,null,null,null,null,null,null,null,null,null,null,null,null,null,null,null,null,null,null,null,null,null,null,null,null,null,"再生可能エネルギー\n利用事業所率",null,null,null,null,null,null,null,null,null,null,null,{"$f":"IFERROR(ROUNDDOWN(BP23/'（非）補正前計算式'!O25*100,2),\"0.00\")","v":"0.00"},null,null,null,null,null,null,null,null,null,null,null,null,"%",null,null,null,null,null,null,null,null,null,null,null,null,null,null,null,null,null,null,null,null,null,null,null,null,null,null,null,"再生可能エネルギー\n利用事業所率",null,null,null,null,null,"%",null,null,null,null,null,null,null,null,null,null,null,null,{"$f":"BP24","v":"0.00"}]
[]
[null,null,"５　評価結果",null,null,null,null,null,null,null,null,null,null,null,null,null,null,null,null,null,null,null,null,null,null,null,null,null,null,null,null,null,null,null,null,null,null,null,null,null,null,null,null,null,null,null,null,null,null,null,null,null,null,null,null,"５　評価結果"]
[null,null,"地球温暖化対策の\n取組に係る評価",null,null,null,null,null,null,null,null,null,null,null,{"$f":"IF('（非）補正前計算式'!AG32=TRUE,'（非）補正前計算式'!U32,IF('（非）補正前計算式'!O32=TRUE,'（非）補正前計算式'!C32,IF('（非）補正前計算式'!AG30=TRUE,'（非）補正前計算式'!U30,IF('（非）補正前計算式'!O30=TRUE,'（非）補正前計算式'!C30,IF('（非）補正前計算式'!AG28=TRUE,'（非）補正前計算式'!U28,'（非）補正前計算式'!C28)))))","v":"―"},null,null,null,null,null,null,null,null,null,null,null,null,"ランク",null,null,null,null,null,null,null,null,null,null,null,null,null,null,null,null,null,null,null,null,null,null,null,null,null,null,null,"地球温暖化対策の\n取組に係る評価",null,null,null,null,null,null,null,null,null,null,null,{"$f":"IF('（非）補正後計算式 '!AG32,'（非）補正後計算式 '!U32,IF('（非）補正後計算式 '!O32=TRUE,'（非）補正後計算式 '!C32,IF('（非）補正後計算式 '!AG30=TRUE,'（非）補正後計算式 '!U30,IF('（非）補正後計算式 '!O30=TRUE,'（非）補正後計算式 '!C30,IF('（非）補正後計算式 '!AG28=TRUE,'（非）補正後計算式 '!U28,'（非）補正後計算式 '!C28)))))","v":"―"},null,null,null,null,null,null,null,null,null,null,null,null,"ランク"]

{"sheet":"（非）年度選択","index":3,"n_rows":12,"n_cols":2,"rows_kept":12,"cut":false,"hidden":true,"merged":[]}
["提出年度選択","実績年度選択"]
[2020,2019]
[2019,2018]
[2018,2017]
[2017,2016]
[2016,2015]
[2015,2014]
[2014,2013]
[2013,2012]
[2012,2011]
[2011,2010]
[2010,2009]

{"sheet":"（非）補正前計算式","index":4,"n_rows":33,"n_cols":42,"rows_kept":33,"cut":false,"hidden":true,"merged":[[27,14,28,19],[3,20,3,25],[3,14,3,19],[3,2,3,13],[2,20,2,25],[2,14,2,19],[27,20,28,31],[16,14,16,19],[13,26,13,31],[13,2,13,13],[13,14,13,19],[12,2,12,13],[12,14,12,19],[12,20,12,25],[12,26,12,31],[14,2,14,13],[31,41,31,46],[32,41,32,46],[7,14,7,19],[7,2,7,13],[9,44,9,49],[15,2,15,13],[15,20,15,25],[27,2,28,13],[24,14,24,19],[24,2,24,13],[11,14,11,19],[11,2,11,13],[9,14,9,19],[9,2,9,13],[21,2,21,13],[21,14,21,43],[20,20,20,25],[20,32,20,37],[39,2,39,13],[29,20,30,31],[31,20,32,31],[29,32,30,37],[31,32,32,37],[36,2,36,13],[36,14,36,19],[36,20,36,25],[35,14,35,19],[35,20,35,25],[31,14,32,19],[31,2,32,13],[29,14,30,19],[29,2,30,13],[20,26,20,31],[20,38,20,43],[27,32,28,37],[8,2,8,13],[8,14,8,19],[14,14,14,19],[14,20,14,25],[14,26,14,31],[14,32,14,37],[15,14,15,19],[15,26,15,31],[15,32,15,37],[18,2,19,13],[20,2,20,13],[18,14,19,43],[20,14,20,19],[17,14,17,19],[13,32,13,37],[13,38,13,43],[11,26,11,31],[11,32,11,37],[11,20,11,25],[13,20,13,25],[11,38,11,43],[12,38,12,43],[12,32,12,37],[14,38,14,43],[15,38,15,43]]}
[]
[null,"4　評価の対象とする事業所"]
[null,null,null,null,null,null,null,null,null,null,null,null,null,null,"義務義務",null,null,null,null,null,"全事業所"]
[null,null,"評価対象事業所\nエラーチェック",null,null,null,null,null,null,null,null,null,null,null,false,null,null,null,null,null,false]
[]
[null,"5　評価対象事業所における直近５か年度の状況"]
[]
[null,null,"削減率・改善率算出フラグ",null,null,null,null,null,null,null,null,null,null,null,{"$f":"AND(OR(O15:AL15),AM15)","v":false}]
[null,null,"評価対象年度数",null,null,null,null,null,null,null,null,null,null,null,{"$f":"COUNTIF(O13:AR14,TRUE)","v":0}]
[null,null,"対前年度比の数",null,null,null,null,null,null,null,null,null,null,null,{"$f":"IF(O9>0,MAX(O14:AR14),0)","v":0}]
[]
[null,null,null,null,null,null,null,null,null,null,null,null,null,null,{"$f":"補正結果!V6-4","v":2015},null,null,null,null,null,{"$f":"補正結果!V6-3","v":2016},null,null,null,null,null,{"$f":"補正結果!V6-2","v":2017},null,null,null,null,null,{"$f":"補正結果!V6-1","v":2018},null,null,null,null,null,{"$f":"補正結果!V6","v":2019}]
[null,null,"評価対象年度算定フラグ",null,null,null,null,null,null,null,null,null,null,null,{"$f":"IF(COUNT(補正結果!O15:T16)=2,TRUE)","v":false},null,null,null,null,null,{"$f":"IF(COUNT(補正結果!U15:Z16)=2,TRUE)","v":false},null,null,null,null,null,{"$f":"IF(COUNT(補正結果!AA15:AF16)=2,TRUE)","v":false},null,null,null,null,null,{"$f":"IF(COUNT(補正結果!AG15:AL16)=2,TRUE)","v":false},null,null,null,null,null,{"$f":"IF(COUNT(補正結果!AM15:AR16)=2,TRUE)","v":false}]
[null,null,"対前年度比数算定フラグ",null,null,null,null,null,null,null,null,null,null,null,{"$f":"IF(MATCH(INDEX(補正結果!O15:AR15,MATCH(1,INDEX(1/(補正結果!O15:AR15>0),),0)),補正結果!O15:AR15,0)=1,COUNTIF(U13:AR14,TRUE),0)","v":{"$error":"#N/A"}},null,null,null,null,null,{"$f":"IF(MATCH(INDEX(補正結果!O15:AR15,MATCH(1,INDEX(1/(補正結果!O15:AR15>0),),0)),補正結果!O15:AR15,0)=7,COUNTIF(AA13:AR14,TRUE),0)","v":{"$error":"#N/A"}},null,null,null,null,null,{"$f":"IF(MATCH(INDEX(補正結果!O15:AR15,MATCH(1,INDEX(1/(補正結果!O15:AR15>0),),0)),補正結果!O15:AR15,0)=13,COUNTIF(AG13:AR14,TRUE),0)","v":{"$error":"#N/A"}},null,null,null,null,null,{"$f":"IF(MATCH(INDEX(補正結果!O15:AR15,MATCH(1,INDEX(1/(補正結果!O15:AR15>0),),0)),補正結果!O15:AR15,0)=19,COUNTIF(AM13,TRUE),0)","v":{"$error":"#N/A"}},null,null,null,null,null,0]
[null,null,"対前年度比算定フラグ",null,null,null,null,null,null,null,null,null,null,null,{"$f":"AND(補正結果!O15>0,補正結果!O16>0)","v":false},null,null,null,null,null,{"$f":"AND(補正結果!U15>0,補正結果!U16>0)","v":false},null,null,null,null,null,{"$f":"AND(補正結果!AA15>0,補正結果!AA16>0)","v":false},null,null,null,null,null,{"$f":"AND(補正結果!AG15>0,補正結果!AG16>0)","v":false},null,null,null,null,null,{"$f":"IF(COUNT(補正結果!AM15:AR16)=2,TRUE)","v":false}]
[null,null,"合計二酸化炭素排出量対前年度比",null,null,null,null,null,null,null,null,null,null,null,null,null,null,null,null,null,{"$f":"IF(AND(O8,U15,O15),ROUNDDOWN(補正結果!U15/補正結果!O15,5),\" \")","v":" "},null,null,null,null,null,{"$f":"IF(AND(O8,AA15,OR(O15,U15)),ROUNDDOWN(補正結果!AA15/LOOKUP(1,0/O15:Z15,補正結果!O15:Z15),5),\" \")","v":" "},null,null,null,null,null,{"$f":"IF(AND(O8,AG15,OR(O15,U15,AA15)),ROUNDDOWN(補正結果!AG15/LOOKUP(1,0/O15:AF15,補正結果!O15:AF15),5),\" \")","v":" "},null,null,null,null,null,{"$f":"IF(AND(O8,AM15,OR(O15,U15,AA15,AG15)),ROUNDDOWN(補正結果!AM15/LOOKUP(1,0/O15:AL15,補正結果!O15:AL15),5),\" \")","v":" "}]
[]
[null,null,"平均二酸化炭素排出量削減率"]
[null,null,"平均合計二酸化炭素排出量削減率",null,null,null,null,null,null,null,null,null,null,null,{"$f":"IF(O8=TRUE,ROUNDDOWN(1-ROUNDDOWN(POWER(PRODUCT(U16:AR16),1/O10),5),5))","v":false}]
[]
[null,null,"合計原単位対前年度比",null,null,null,null,null,null,null,null,null,null,null,null,null,null,null,null,null,{"$f":"IF(AND(O8,U15,O15),ROUNDDOWN(補正結果!U17/補正結果!O17,5),\" \")","v":" "},null,null,null,null,null,{"$f":"IF(AND(O8,AA15,OR(O15,U15)),ROUNDDOWN(補正結果!AA17/LOOKUP(1,0/O15:Z15,補正結果!O17:Z17),5),\" \")","v":" "},null,null,null,null,null,{"$f":"IF(AND(O8,AG15,OR(O15,U15,AA15)),ROUNDDOWN(補正結果!AG17/LOOKUP(1,0/O15:AF15,補正結果!O17:AF17),5),\" \")","v":" "},null,null,null,null,null,{"$f":"IF(AND(O8,AM15,OR(O15,U15,AA15,AG15)),ROUNDDOWN(補正結果!AM17/LOOKUP(1,0/O15:AL15,補正結果!O17:AL17),5),\" \")","v":" "}]
[null,null,"平均合計原単位改善率",null,null,null,null,null,null,null,null,null,null,null,{"$f":"IF(O8=TRUE,ROUNDDOWN(1-ROUNDDOWN(POWER(PRODUCT(U21:AR21),1/O10),5),5))","v":false}]
[]
[null,"６　再生可能エネルギーの利用事業所数及び割合"]
[null,null,"再エネ評価対象事業所数",null,null,null,null,null,null,null,null,null,null,null,{"$f":"IF((U4=TRUE),補正結果!O7+補正結果!O8,補正結果!O7)","v":0}]
[]
[null,"７　評価結果"]
[null,null,"―",null,null,null,null,null,null,null,null,null,null,null,null,null,null,null,null,null,"優良",null,null,null,null,null,null,null,null,null,null,null,{"$f":"IF(SUM(補正結果!O20)>=1.3,TRUE,FALSE)","v":false}]
[]
[null,null,"Ｓ",null,null,null,null,null,null,null,null,null,null,null,{"$f":"IF(AND(SUM(補正結果!O19)>=1.3,SUM(補正結果!O20)>=1.3),TRUE,FALSE)","v":false},null,null,null,null,null,"Ｓ☆",null,null,null,null,null,null,null,null,null,null,null,{"$f":"IF(AND(O30=TRUE,SUM(補正結果!O24)>=30),TRUE,FALSE)","v":false}]
[]
[null,null,"ＳＳ",null,null,null,null,null,null,null,null,null,null,null,{"$f":"IF(AND(SUM(補正結果!O19)>=1.3,SUM(補正結果!O20)>=2.6),TRUE,FALSE)","v":false},null,null,null,null,null,"ＳＳ☆",null,null,null,null,null,null,null,null,null,null,null,{"$f":"IF(AND(O32=TRUE,SUM(補正結果!O24)>=30),TRUE,FALSE)","v":false},null,null,null,null,null,null,null,null,"結果"]
[null,null,null,null,null,null,null,null,null,null,null,null,null,null,null,null,null,null,null,null,null,null,null,null,null,null,null,null,null,null,null,null,null,null,null,null,null,null,null,null,null,{"$f":"IF(AG32=TRUE,U32,IF(O32=TRUE,C32,IF(AG30=TRUE,U30,IF(O30=TRUE,C30,IF(AG28=TRUE,U28,C28)))))","v":"―"}]

{"sheet":"（非）補正後計算式 ","index":5,"n_rows":33,"n_cols":42,"rows_kept":33,"cut":false,"hidden":true,"merged":[[9,44,9,49],[7,2,7,13],[7,14,7,19],[2,14,2,19],[2,20,2,25],[3,2,3,13],[3,14,3,19],[3,20,3,25],[13,14,13,19],[13,20,13,25],[8,2,8,13],[8,14,8,19],[9,2,9,13],[9,14,9,19],[11,38,11,43],[12,2,12,13],[12,14,12,19],[12,20,12,25],[12,26,12,31],[12,32,12,37],[12,38,12,43],[11,2,11,13],[11,14,11,19],[11,20,11,25],[11,26,11,31],[11,32,11,37],[13,26,13,31],[13,32,13,37],[15,38,15,43],[14,2,14,13],[14,14,14,19],[14,20,14,25],[14,26,14,31],[14,32,14,37],[14,38,14,43],[15,2,15,13],[15,14,15,19],[15,20,15,25],[15,26,15,31],[15,32,15,37],[13,38,13,43],[13,2,13,13],[16,14,16,19],[17,14,17,19],[18,2,19,13],[18,14,19,43],[20,2,20,13],[20,14,20,19],[20,20,20,25],[20,26,20,31],[20,32,20,37],[20,38,20,43],[21,2,21,13],[21,14,21,43],[24,2,24,13],[24,14,24,19],[27,2,28,13],[27,14,28,19],[27,20,28,31],[27,32,28,37],[29,2,30,13],[29,14,30,19],[29,20,30,31],[29,32,30,37],[31,2,32,13],[31,14,32,19],[31,20,32,31],[31,32,32,37],[39,2,39,13],[31,41,31,46],[32,41,32,46],[35,14,35,19],[35,20,35,25],[36,2,36,13],[36,14,36,19],[36,20,36,25]]}
[]
[null,"4　評価の対象とする事業所"]
[null,null,null,null,null,null,null,null,null,null,null,null,null,null,"義務義務",null,null,null,null,null,"全事業所"]
[null,null,"評価対象事業所\nエラーチェック",null,null,null,null,null,null,null,null,null,null,null,false,null,null,null,null,null,false]
[]
[null,"5　評価対象事業所における直近５か年度の状況"]
[]
[null,null,"削減率・改善率算出フラグ",null,null,null,null,null,null,null,null,null,null,null,{"$f":"AND(OR(O15:AL15),AM15)","v":false}]
[null,null,"評価対象年度数",null,null,null,null,null,null,null,null,null,null,null,{"$f":"COUNTIF(O13:AR14,TRUE)","v":0}]
[null,null,"対前年度比の数",null,null,null,null,null,null,null,null,null,null,null,{"$f":"IF(O9>0,MAX(O14:AR14),0)","v":0}]
[]
[null,null,null,null,null,null,null,null,null,null,null,null,null,null,{"$f":"補正結果!V6-4","v":2015},null,null,null,null,null,{"$f":"補正結果!V6-3","v":2016},null,null,null,null,null,{"$f":"補正結果!V6-2","v":2017},null,null,null,null,null,{"$f":"補正結果!V6-1","v":2018},null,null,null,null,null,{"$f":"補正結果!V6","v":2019}]
[null,null,"評価対象年度算定フラグ",null,null,null,null,null,null,null,null,null,null,null,{"$f":"IF(COUNT(補正結果!O15:T16)=2,TRUE)","v":false},null,null,null,null,null,{"$f":"IF(COUNT(補正結果!U15:Z16)=2,TRUE)","v":false},null,null,null,null,null,{"$f":"IF(COUNT(補正結果!AA15:AF16)=2,TRUE)","v":false},null,null,null,null,null,{"$f":"IF(COUNT(補正結果!AG15:AL16)=2,TRUE)","v":false},null,null,null,null,null,{"$f":"IF(COUNT(補正結果!AM15:AR16)=2,TRUE)","v":false}]
[null,null,"対前年度比数算定フラグ",null,null,null,null,null,null,null,null,null,null,null,{"$f":"IF(MATCH(INDEX(補正結果!O15:AR15,MATCH(1,INDEX(1/(補正結果!O15:AR15>0),),0)),補正結果!O15:AR15,0)=1,COUNTIF(U13:AR14,TRUE),0)","v":{"$error":"#N/A"}},null,null,null,null,null,{"$f":"IF(MATCH(INDEX(補正結果!O15:AR15,MATCH(1,INDEX(1/(補正結果!O15:AR15>0),),0)),補正結果!O15:AR15,0)=7,COUNTIF(AA13:AR14,TRUE),0)","v":{"$error":"#N/A"}},null,null,null,null,null,{"$f":"IF(MATCH(INDEX(補正結果!O15:AR15,MATCH(1,INDEX(1/(補正結果!O15:AR15>0),),0)),補正結果!O15:AR15,0)=13,COUNTIF(AG13:AR14,TRUE),0)","v":{"$error":"#N/A"}},null,null,null,null,null,{"$f":"IF(MATCH(INDEX(補正結果!O15:AR15,MATCH(1,INDEX(1/(補正結果!O15:AR15>0),),0)),補正結果!O15:AR15,0)=19,COUNTIF(AM13,TRUE),0)","v":{"$error":"#N/A"}},null,null,null,null,null,0]
[null,null,"対前年度比算定フラグ",null,null,null,null,null,null,null,null,null,null,null,{"$f":"AND(補正結果!O15>0,補正結果!O16>0)","v":false},null,null,null,null,null,{"$f":"AND(補正結果!U15>0,補正結果!U16>0)","v":false},null,null,null,null,null,{"$f":"AND(補正結果!AA15>0,補正結果!AA16>0)","v":false},null,null,null,null,null,{"$f":"AND(補正結果!AG15>0,補正結果!AG16>0)","v":false},null,null,null,null,null,{"$f":"IF(COUNT(補正結果!AM15:AR16)=2,TRUE)","v":false}]
[null,null,"合計二酸化炭素排出量対前年度比",null,null,null,null,null,null,null,null,null,null,null,null,null,null,null,null,null,{"$f":"IF(AND(O8,U15,O15),ROUNDDOWN(補正結果!BV15/補正結果!BP15,5),\" \")","v":" "},null,null,null,null,null,{"$f":"IF(AND(O8,AA15,OR(O15,U15)),ROUNDDOWN(補正結果!CB15/LOOKUP(1,0/O15:Z15,補正結果!BP15:CA15),5),\" \")","v":" "},null,null,null,null,null,{"$f":"IF(AND(O8,AG15,OR(O15,U15,AA15)),ROUNDDOWN(補正結果!CH15/LOOKUP(1,0/O15:AF15,補正結果!BP15:CG15),5),\" \")","v":" "},null,null,null,null,null,{"$f":"IF(AND(O8,AM15,OR(O15,U15,AA15,AG15)),ROUNDDOWN(補正結果!CN15/LOOKUP(1,0/O15:AL15,補正結果!BP15:CM15),5),\" \")","v":" "}]
[]
[null,null,"平均二酸化炭素排出量削減率"]
[null,null,"平均合計二酸化炭素排出量削減率",null,null,null,null,null,null,null,null,null,null,null,{"$f":"IF(O8=TRUE,ROUNDDOWN(1-ROUNDDOWN(POWER(PRODUCT(U16:AR16),1/O10),5),5))","v":false}]
[]
[null,null,"合計原単位対前年度比",null,null,null,null,null,null,null,null,null,null,null,null,null,null,null,null,null,{"$f":"IF(AND(O8,U15,O15),ROUNDDOWN(補正結果!BV17/補正結果!BP17,5),\" \")","v":" "},null,null,null,null,null,{"$f":"IF(AND(O8,AA15,OR(O15,U15)),ROUNDDOWN(補正結果!CB17/LOOKUP(1,0/O15:Z15,補正結果!BP17:CA17),5),\" \")","v":" "},null,null,null,null,null,{"$f":"IF(AND(O8,AG15,OR(O15,U15,AA15)),ROUNDDOWN(補正結果!CH17/LOOKUP(1,0/O15:AF15,補正結果!BP17:CG17),5),\" \")","v":" "},null,null,null,null,null,{"$f":"IF(AND(O8,AM15,OR(O15,U15,AA15,AG15)),ROUNDDOWN(補正結果!CN17/LOOKUP(1,0/O15:AL15,補正結果!BP17:CM17),5),\" \")","v":" "}]
[null,null,"平均合計原単位改善率",null,null,null,null,null,null,null,null,null,null,null,{"$f":"IF(O8=TRUE,ROUNDDOWN(1-ROUNDDOWN(POWER(PRODUCT(U21:AR21),1/O10),5),5))","v":false}]
[]
[null,"６　再生可能エネルギーの利用事業所数及び割合"]
[null,null,"再エネ評価対象事業所数",null,null,null,null,null,null,null,null,null,null,null,{"$f":"IF((U4=TRUE),補正結果!O7+補正結果!O8,補正結果!O7)","v":0}]
[]
[null,"７　評価結果"]
[null,null,"―",null,null,null,null,null,null,null,null,null,null,null,null,null,null,null,null,null,"優良",null,null,null,null,null,null,null,null,null,null,null,{"$f":"IF(SUM(補正結果!BP20)>=1.3,TRUE,FALSE)","v":false}]
[]
[null,null,"Ｓ",null,null,null,null,null,null,null,null,null,null,null,{"$f":"IF(AND(SUM(補正結果!BP19)>=1.3,SUM(補正結果!BP20)>=1.3),TRUE,FALSE)","v":false},null,null,null,null,null,"Ｓ☆",null,null,null,null,null,null,null,null,null,null,null,{"$f":"IF(AND(O30=TRUE,SUM(補正結果!BP24)>=30),TRUE,FALSE)","v":false}]
[]
[null,null,"ＳＳ",null,null,null,null,null,null,null,null,null,null,null,{"$f":"IF(AND(SUM(補正結果!BP19)>=1.3,SUM(補正結果!BP20)>=2.6),TRUE,FALSE)","v":false},null,null,null,null,null,"ＳＳ☆",null,null,null,null,null,null,null,null,null,null,null,{"$f":"IF(AND(O32=TRUE,SUM(補正結果!BP24)>=30),TRUE,FALSE)","v":false},null,null,null,null,null,null,null,null,"結果"]
[null,null,null,null,null,null,null,null,null,null,null,null,null,null,null,null,null,null,null,null,null,null,null,null,null,null,null,null,null,null,null,null,null,null,null,null,null,null,null,null,null,{"$f":"IF(AG32=TRUE,U32,IF(O32=TRUE,C32,IF(AG30=TRUE,U30,IF(O30=TRUE,C30,IF(AG28=TRUE,U28,C28)))))","v":"―"}]

{"sheet":"①","index":6,"n_rows":210,"n_cols":14,"rows_kept":210,"cut":false,"hidden":false,"merged":[[106,1,107,1],[106,2,107,5],[106,6,106,7],[107,6,107,7],[108,1,109,1],[108,2,109,5],[108,6,108,7],[109,6,109,7],[114,1,115,1],[114,2,115,5],[114,6,114,7],[115,6,115,7],[110,1,111,1],[110,2,111,5],[110,6,110,7],[111,6,111,7],[112,1,113,1],[112,2,113,5],[112,6,112,7],[113,6,113,7],[16,0,17,0],[18,0,19,0],[32,0,33,0],[34,0,35,0],[36,0,37,0],[38,0,39,0],[40,0,41,0],[42,0,43,0],[20,0,21,0],[22,0,23,0],[24,0,25,0],[26,0,27,0],[28,0,29,0],[30,0,31,0],[56,0,57,0],[58,0,59,0],[60,0,61,0],[62,0,63,0],[64,0,65,0],[66,0,67,0],[44,0,45,0],[46,0,47,0],[48,0,49,0],[50,0,51,0],[52,0,53,0],[54,0,55,0],[82,0,83,0],[84,0,85,0],[86,0,87,0],[88,0,89,0],[90,0,91,0],[68,0,69,0],[70,0,71,0],[72,0,73,0],[74,0,75,0],[76,0,77,0],[78,0,79,0],[146,0,147,0],[148,0,149,0],[150,0,151,0],[152,0,153,0],[154,0,155,0],[156,0,157,0],[134,0,135,0],[136,0,137,0],[138,0,139,0],[144,0,145,0],[26,1,27,1],[140,0,141,0],[142,0,143,0],[120,0,121,0],[122,0,123,0],[124,0,125,0],[126,0,127,0],[128,0,129,0],[130,0,131,0],[110,0,111,0],[112,0,113,0],[114,0,115,0],[116,0,117,0],[118,0,119,0],[104,0,105,0],[106,0,107,0],[108,0,109,0],[92,0,93,0],[94,0,95,0],[96,0,97,0],[98,0,99,0],[100,0,101,0],[102,0,103,0],[80,0,81,0],[40,1,41,1],[42,1,43,1],[44,1,45,1],[46,1,47,1],[48,1,49,1],[50,1,51,1],[28,1,29,1],[30,1,31,1],[32,1,33,1],[34,1,35,1],[36,1,37,1],[38,1,39,1],[64,1,65,1],[66,1,67,1],[68,1,69,1],[70,1,71,1],[72,1,73,1],[74,1,75,1],[52,1,53,1],[54,1,55,1],[56,1,57,1],[58,1,59,1],[60,1,61,1],[62,1,63,1],[102,1,103,1],[104,1,105,1],[88,1,89,1],[90,1,91,1],[92,1,93,1],[94,1,95,1],[96,1,97,1],[98,1,99,1],[76,1,77,1],[78,1,79,1],[80,1,81,1],[82,1,83,1],[84,1,85,1],[86,1,87,1],[72,2,73,5],[74,2,75,5],[76,2,77,5],[78,2,79,5],[68,2,69,5],[70,2,71,5],[88,2,89,5],[90,2,91,5],[100,1,101,1],[16,13,17,13],[18,13,19,13],[96,2,97,5],[98,2,99,5],[100,2,101,5],[48,2,49,5],[50,2,51,5],[52,2,53,5],[54,2,55,5],[44,2,45,5],[46,2,47,5],[24,2,25,5],[26,2,27,5],[28,2,29,5],[30,2,31,5],[32,13,33,13],[34,13,35,13],[36,13,37,13],[38,13,39,13],[40,13,41,13],[42,13,43,13],[20,13,21,13],[92,2,93,5],[94,2,95,5],[36,6,36,7],[37,6,37,7],[38,6,38,7],[28,6,28,7],[29,6,29,7],[78,13,79,13],[56,13,57,13],[58,13,59,13],[60,13,61,13],[62,13,63,13],[64,13,65,13],[66,13,67,13],[44,13,45,13],[46,13,47,13],[48,13,49,13],[50,13,51,13],[52,13,53,13],[54,13,55,13],[68,13,69,13],[70,13,71,13],[72,13,73,13],[74,13,75,13],[76,13,77,13],[30,6,30,7],[22,13,23,13],[24,13,25,13],[26,13,27,13],[28,13,29,13],[30,13,31,13],[104,13,105,13],[92,13,93,13],[94,13,95,13],[96,13,97,13],[98,13,99,13],[100,13,101,13],[102,13,103,13],[80,13,81,13],[82,13,83,13],[84,13,85,13],[86,13,87,13],[88,13,89,13],[90,13,91,13],[31,6,31,7],[32,6,32,7],[21,6,21,7],[22,6,22,7],[23,6,23,7],[24,6,24,7],[25,6,25,7],[26,6,26,7],[27,6,27,7],[45,6,45,7],[46,6,46,7],[47,6,47,7],[48,6,48,7],[49,6,49,7],[50,6,50,7],[39,6,39,7],[40,6,40,7],[41,6,41,7],[42,6,42,7],[43,6,43,7],[44,6,44,7],[57,6,57,7],[58,6,58,7],[59,6,59,7],[60,6,60,7],[61,6,61,7],[62,6,62,7],[51,6,51,7],[52,6,52,7],[53,6,53,7],[54,6,54,7],[55,6,55,7],[56,6,56,7],[69,6,69,7],[70,6,70,7],[71,6,71,7],[72,6,72,7],[73,6,73,7],[74,6,74,7],[63,6,63,7],[64,6,64,7],[65,6,65,7],[66,6,66,7],[67,6,67,7],[68,6,68,7],[83,6,83,7],[84,6,84,7],[85,6,85,7],[86,6,86,7],[102,2,103,5],[80,2,81,5],[82,2,83,5],[84,2,85,5],[75,6,75,7],[76,6,76,7],[77,6,77,7],[78,6,78,7],[79,6,79,7],[80,6,80,7],[36,2,37,5],[38,2,39,5],[40,2,41,5],[42,2,43,5],[105,6,105,7],[10,2,11,5],[12,2,13,5],[14,2,15,5],[16,2,17,5],[18,2,19,5],[20,2,21,5],[22,2,23,5],[99,6,99,7],[100,6,100,7],[101,6,101,7],[102,6,102,7],[103,6,103,7],[104,6,104,7],[93,6,93,7],[94,6,94,7],[95,6,95,7],[96,6,96,7],[97,6,97,7],[98,6,98,7],[10,13,11,13],[9,6,9,7],[14,1,15,1],[12,1,13,1],[10,1,11,1],[15,6,15,7],[10,0,11,0],[12,0,13,0],[14,0,15,0],[10,6,10,7],[14,6,14,7],[13,6,13,7],[12,6,12,7],[11,6,11,7],[12,13,13,13],[14,13,15,13],[32,2,33,5],[34,2,35,5],[3,0,3,1],[4,0,4,1],[2,0,2,1],[8,0,9,0],[8,1,9,1],[8,2,9,5],[8,6,8,7],[7,2,7,5],[7,6,7,7],[33,6,33,7],[34,6,34,7],[35,6,35,7],[16,6,16,7],[17,6,17,7],[18,6,18,7],[19,6,19,7],[20,6,20,7],[16,1,17,1],[18,1,19,1],[20,1,21,1],[22,1,23,1],[24,1,25,1],[122,1,123,1],[122,2,123,5],[122,6,122,7],[123,6,123,7],[124,1,125,1],[124,2,125,5],[124,6,124,7],[125,6,125,7],[56,2,57,5],[58,2,59,5],[60,2,61,5],[62,2,63,5],[64,2,65,5],[66,2,67,5],[104,2,105,5],[86,2,87,5],[87,6,87,7],[88,6,88,7],[89,6,89,7],[90,6,90,7],[91,6,91,7],[92,6,92,7],[81,6,81,7],[82,6,82,7],[126,1,127,1],[126,2,127,5],[126,6,126,7],[127,6,127,7],[128,1,129,1],[128,2,129,5],[128,6,128,7],[129,6,129,7],[130,1,131,1],[130,2,131,5],[130,6,130,7],[131,6,131,7],[132,1,133,1],[132,2,133,5],[132,6,132,7],[133,6,133,7],[134,1,135,1],[134,2,135,5],[134,6,134,7],[135,6,135,7],[136,1,137,1],[136,2,137,5],[136,6,136,7],[137,6,137,7],[138,1,139,1],[138,2,139,5],[138,6,138,7],[139,6,139,7],[140,1,141,1],[140,2,141,5],[140,6,140,7],[141,6,141,7],[142,1,143,1],[142,2,143,5],[142,6,142,7],[143,6,143,7],[120,1,121,1],[120,2,121,5],[120,6,120,7],[121,6,121,7],[116,1,117,1],[116,2,117,5],[116,6,116,7],[117,6,117,7],[118,1,119,1],[118,2,119,5],[118,6,118,7],[119,6,119,7],[144,1,145,1],[144,2,145,5],[144,6,144,7],[145,6,145,7],[146,1,147,1],[146,2,147,5],[146,6,146,7],[147,6,147,7],[148,1,149,1],[148,2,149,5],[148,6,148,7],[149,6,149,7],[150,1,151,1],[150,2,151,5],[150,6,150,7],[151,6,151,7],[152,1,153,1],[152,2,153,5],[152,6,152,7],[153,6,153,7],[154,1,155,1],[154,2,155,5],[154,6,154,7],[155,6,155,7],[156,1,157,1],[156,2,157,5],[156,6,156,7],[157,6,157,7],[158,1,159,1],[158,2,159,5],[158,6,158,7],[159,6,159,7],[160,1,161,1],[160,2,161,5],[160,6,160,7],[161,6,161,7],[162,1,163,1],[162,2,163,5],[162,6,162,7],[163,6,163,7],[164,1,165,1],[164,2,165,5],[164,6,164,7],[165,6,165,7],[166,0,167,0],[166,1,167,1],[166,2,167,5],[166,6,166,7],[167,6,167,7],[164,0,165,0],[168,1,169,1],[168,2,169,5],[168,6,168,7],[169,6,169,7],[170,0,171,0],[170,1,171,1],[170,2,171,5],[170,6,170,7],[171,6,171,7],[168,0,169,0],[172,1,173,1],[172,2,173,5],[172,6,172,7],[173,6,173,7],[174,0,175,0],[174,1,175,1],[174,2,175,5],[174,6,174,7],[175,6,175,7],[172,0,173,0],[182,0,183,0],[182,1,183,1],[182,2,183,5],[182,6,182,7],[183,6,183,7],[176,1,177,1],[176,2,177,5],[176,6,176,7],[177,6,177,7],[178,0,179,0],[178,1,179,1],[178,2,179,5],[178,6,178,7],[179,6,179,7],[176,0,177,0],[188,0,189,0],[188,1,189,1],[188,2,189,5],[188,6,188,7],[189,6,189,7],[132,0,133,0],[158,0,159,0],[160,0,161,0],[162,0,163,0],[184,0,185,0],[184,1,185,1],[184,2,185,5],[184,6,184,7],[185,6,185,7],[186,0,187,0],[186,1,187,1],[186,2,187,5],[186,6,186,7],[187,6,187,7],[180,0,181,0],[180,1,181,1],[180,2,181,5],[180,6,180,7],[181,6,181,7],[190,0,191,0],[190,1,191,1],[190,2,191,5],[190,6,190,7],[191,6,191,7],[192,0,193,0],[192,1,193,1],[192,2,193,5],[192,6,192,7],[193,6,193,7],[194,0,195,0],[194,1,195,1],[194,2,195,5],[194,6,194,7],[195,6,195,7],[196,0,197,0],[196,1,197,1],[196,2,197,5],[196,6,196,7],[197,6,197,7],[198,0,199,0],[198,1,199,1],[198,2,199,5],[198,6,198,7],[199,6,199,7],[200,0,201,0],[200,1,201,1],[200,2,201,5],[200,6,200,7],[201,6,201,7],[202,0,203,0],[202,1,203,1],[202,2,203,5],[202,6,202,7],[203,6,203,7],[204,0,205,0],[204,1,205,1],[204,2,205,5],[204,6,204,7],[205,6,205,7],[206,0,207,0],[206,1,207,1],[206,2,207,5],[206,6,206,7],[207,6,207,7],[208,0,209,0],[208,1,209,1],[208,2,209,5],[208,6,208,7],[209,6,209,7]]}
[]
["♯大規模事業所として都に報告を行っていた実績を青色セルに記入してください。"]
["補正値合計",null,{"$f":"補正結果!O14","v":"2015年度"},{"$f":"補正結果!U14","v":"2016年度"},{"$f":"補正結果!AA14","v":"2017年度"},{"$f":"補正結果!AG14","v":"2018年度"}]
["補正二酸化炭素排出量（t）",null,{"$f":"SUMIF(G:H,\"二酸化炭素排出量(t)\",I:I)","v":0},{"$f":"SUMIF(G:H,\"二酸化炭素排出量(t)\",J:J)","v":0},{"$f":"SUMIF(G:H,\"二酸化炭素排出量(t)\",K:K)","v":0},{"$f":"SUMIF(G:H,\"二酸化炭素排出量(t)\",L:L)","v":0}]
["補正延床面積（㎡）",null,{"$f":"SUMIF(G:H,\"延床面積(㎡)\",I:I)","v":0},{"$f":"SUMIF(G:H,\"延床面積(㎡)\",J:J)","v":0},{"$f":"SUMIF(G:H,\"延床面積(㎡)\",K:K)","v":0},{"$f":"SUMIF(G:H,\"延床面積(㎡)\",L:L)","v":0}]
[]
[]
["No.","事業所番号","事業所名",null,null,null,"報告項目",null,{"$f":"補正結果!O14","v":"2015年度"},{"$f":"補正結果!U14","v":"2016年度"},{"$f":"補正結果!AA14","v":"2017年度"},{"$f":"補正結果!AG14","v":"2018年度"},{"$f":"補正結果!AM14","v":"2019年度"},"エラーチェック"]
[{"$f":"IFERROR(MAX(INDIRECT(ADDRESS(1,COLUMN())):INDIRECT(ADDRESS(ROW()-1,COLUMN())))+1,1)","v":1},null,null,null,null,null,"二酸化炭素排出量(t)"]
[null,null,null,null,null,null,"延床面積(㎡)"]
[1,null,null,null,null,null,"二酸化炭素排出量(t)"]
[null,null,null,null,null,null,"延床面積(㎡)"]
[{"$f":"IFERROR(MAX(INDIRECT(ADDRESS(1,COLUMN())):INDIRECT(ADDRESS(ROW()-1,COLUMN())))+1,1)","v":2},null,null,null,null,null,"二酸化炭素排出量(t)"]
[null,null,null,null,null,null,"延床面積(㎡)"]
[{"$f":"IFERROR(MAX(INDIRECT(ADDRESS(1,COLUMN())):INDIRECT(ADDRESS(ROW()-1,COLUMN())))+1,1)","v":3},null,null,null,null,null,"二酸化炭素排出量(t)"]
[null,null,null,null,null,null,"延床面積(㎡)"]
[{"$f":"IFERROR(MAX(INDIRECT(ADDRESS(1,COLUMN())):INDIRECT(ADDRESS(ROW()-1,COLUMN())))+1,1)","v":4},null,null,null,null,null,"二酸化炭素排出量(t)"]
[null,null,null,null,null,null,"延床面積(㎡)"]
[{"$f":"IFERROR(MAX(INDIRECT(ADDRESS(1,COLUMN())):INDIRECT(ADDRESS(ROW()-1,COLUMN())))+1,1)","v":5},null,null,null,null,null,"二酸化炭素排出量(t)"]
[null,null,null,null,null,null,"延床面積(㎡)"]
[{"$f":"IFERROR(MAX(INDIRECT(ADDRESS(1,COLUMN())):INDIRECT(ADDRESS(ROW()-1,COLUMN())))+1,1)","v":6},null,null,null,null,null,"二酸化炭素排出量(t)"]
[null,null,null,null,null,null,"延床面積(㎡)"]
[{"$f":"IFERROR(MAX(INDIRECT(ADDRESS(1,COLUMN())):INDIRECT(ADDRESS(ROW()-1,COLUMN())))+1,1)","v":7},null,null,null,null,null,"二酸化炭素排出量(t)"]
[null,null,null,null,null,null,"延床面積(㎡)"]
[{"$f":"IFERROR(MAX(INDIRECT(ADDRESS(1,COLUMN())):INDIRECT(ADDRESS(ROW()-1,COLUMN())))+1,1)","v":8},null,null,null,null,null,"二酸化炭素排出量(t)"]
[null,null,null,null,null,null,"延床面積(㎡)"]
[{"$f":"IFERROR(MAX(INDIRECT(ADDRESS(1,COLUMN())):INDIRECT(ADDRESS(ROW()-1,COLUMN())))+1,1)","v":9},null,null,null,null,null,"二酸化炭素排出量(t)"]
[null,null,null,null,null,null,"延床面積(㎡)"]
[{"$f":"IFERROR(MAX(INDIRECT(ADDRESS(1,COLUMN())):INDIRECT(ADDRESS(ROW()-1,COLUMN())))+1,1)","v":10},null,null,null,null,null,"二酸化炭素排出量(t)"]
[null,null,null,null,null,null,"延床面積(㎡)"]
[{"$f":"IFERROR(MAX(INDIRECT(ADDRESS(1,COLUMN())):INDIRECT(ADDRESS(ROW()-1,COLUMN())))+1,1)","v":11},null,null,null,null,null,"二酸化炭素排出量(t)"]
[null,null,null,null,null,null,"延床面積(㎡)"]
[{"$f":"IFERROR(MAX(INDIRECT(ADDRESS(1,COLUMN())):INDIRECT(ADDRESS(ROW()-1,COLUMN())))+1,1)","v":12},null,null,null,null,null,"二酸化炭素排出量(t)"]
[null,null,null,null,null,null,"延床面積(㎡)"]
[{"$f":"IFERROR(MAX(INDIRECT(ADDRESS(1,COLUMN())):INDIRECT(ADDRESS(ROW()-1,COLUMN())))+1,1)","v":13},null,null,null,null,null,"二酸化炭素排出量(t)"]
[null,null,null,null,null,null,"延床面積(㎡)"]
[{"$f":"IFERROR(MAX(INDIRECT(ADDRESS(1,COLUMN())):INDIRECT(ADDRESS(ROW()-1,COLUMN())))+1,1)","v":14},null,null,null,null,null,"二酸化炭素排出量(t)"]
[null,null,null,null,null,null,"延床面積(㎡)"]
[{"$f":"IFERROR(MAX(INDIRECT(ADDRESS(1,COLUMN())):INDIRECT(ADDRESS(ROW()-1,COLUMN())))+1,1)","v":15},null,null,null,null,null,"二酸化炭素排出量(t)"]
[null,null,null,null,null,null,"延床面積(㎡)"]
[{"$f":"IFERROR(MAX(INDIRECT(ADDRESS(1,COLUMN())):INDIRECT(ADDRESS(ROW()-1,COLUMN())))+1,1)","v":16},null,null,null,null,null,"二酸化炭素排出量(t)"]
[null,null,null,null,null,null,"延床面積(㎡)"]
[{"$f":"IFERROR(MAX(INDIRECT(ADDRESS(1,COLUMN())):INDIRECT(ADDRESS(ROW()-1,COLUMN())))+1,1)","v":17},null,null,null,null,null,"二酸化炭素排出量(t)"]
[null,null,null,null,null,null,"延床面積(㎡)"]
[{"$f":"IFERROR(MAX(INDIRECT(ADDRESS(1,COLUMN())):INDIRECT(ADDRESS(ROW()-1,COLUMN())))+1,1)","v":18},null,null,null,null,null,"二酸化炭素排出量(t)"]
[null,null,null,null,null,null,"延床面積(㎡)"]
[{"$f":"IFERROR(MAX(INDIRECT(ADDRESS(1,COLUMN())):INDIRECT(ADDRESS(ROW()-1,COLUMN())))+1,1)","v":19},null,null,null,null,null,"二酸化炭素排出量(t)"]
[null,null,null,null,null,null,"延床面積(㎡)"]
[{"$f":"IFERROR(MAX(INDIRECT(ADDRESS(1,COLUMN())):INDIRECT(ADDRESS(ROW()-1,COLUMN())))+1,1)","v":20},null,null,null,null,null,"二酸化炭素排出量(t)"]
[null,null,null,null,null,null,"延床面積(㎡)"]
[{"$f":"IFERROR(MAX(INDIRECT(ADDRESS(1,COLUMN())):INDIRECT(ADDRESS(ROW()-1,COLUMN())))+1,1)","v":21},null,null,null,null,null,"二酸化炭素排出量(t)"]
[null,null,null,null,null,null,"延床面積(㎡)"]
[{"$f":"IFERROR(MAX(INDIRECT(ADDRESS(1,COLUMN())):INDIRECT(ADDRESS(ROW()-1,COLUMN())))+1,1)","v":22},null,null,null,null,null,"二酸化炭素排出量(t)"]
[null,null,null,null,null,null,"延床面積(㎡)"]
[{"$f":"IFERROR(MAX(INDIRECT(ADDRESS(1,COLUMN())):INDIRECT(ADDRESS(ROW()-1,COLUMN())))+1,1)","v":23},null,null,null,null,null,"二酸化炭素排出量(t)"]
[null,null,null,null,null,null,"延床面積(㎡)"]
[{"$f":"IFERROR(MAX(INDIRECT(ADDRESS(1,COLUMN())):INDIRECT(ADDRESS(ROW()-1,COLUMN())))+1,1)","v":24},null,null,null,null,null,"二酸化炭素排出量(t)"]
[null,null,null,null,null,null,"延床面積(㎡)"]
[{"$f":"IFERROR(MAX(INDIRECT(ADDRESS(1,COLUMN())):INDIRECT(ADDRESS(ROW()-1,COLUMN())))+1,1)","v":25},null,null,null,null,null,"二酸化炭素排出量(t)"]
[null,null,null,null,null,null,"延床面積(㎡)"]
[{"$f":"IFERROR(MAX(INDIRECT(ADDRESS(1,COLUMN())):INDIRECT(ADDRESS(ROW()-1,COLUMN())))+1,1)","v":26},null,null,null,null,null,"二酸化炭素排出量(t)"]
[null,null,null,null,null,null,"延床面積(㎡)"]
[{"$f":"IFERROR(MAX(INDIRECT(ADDRESS(1,COLUMN())):INDIRECT(ADDRESS(ROW()-1,COLUMN())))+1,1)","v":27},null,null,null,null,null,"二酸化炭素排出量(t)"]
[null,null,null,null,null,null,"延床面積(㎡)"]
[{"$f":"IFERROR(MAX(INDIRECT(ADDRESS(1,COLUMN())):INDIRECT(ADDRESS(ROW()-1,COLUMN())))+1,1)","v":28},null,null,null,null,null,"二酸化炭素排出量(t)"]
[null,null,null,null,null,null,"延床面積(㎡)"]
[{"$f":"IFERROR(MAX(INDIRECT(ADDRESS(1,COLUMN())):INDIRECT(ADDRESS(ROW()-1,COLUMN())))+1,1)","v":29},null,null,null,null,null,"二酸化炭素排出量(t)"]
[null,null,null,null,null,null,"延床面積(㎡)"]
[{"$f":"IFERROR(MAX(INDIRECT(ADDRESS(1,COLUMN())):INDIRECT(ADDRESS(ROW()-1,COLUMN())))+1,1)","v":30},null,null,null,null,null,"二酸化炭素排出量(t)"]
[null,null,null,null,null,null,"延床面積(㎡)"]
[{"$f":"IFERROR(MAX(INDIRECT(ADDRESS(1,COLUMN())):INDIRECT(ADDRESS(ROW()-1,COLUMN())))+1,1)","v":31},null,null,null,null,null,"二酸化炭素排出量(t)"]
[null,null,null,null,null,null,"延床面積(㎡)"]
[{"$f":"IFERROR(MAX(INDIRECT(ADDRESS(1,COLUMN())):INDIRECT(ADDRESS(ROW()-1,COLUMN())))+1,1)","v":32},null,null,null,null,null,"二酸化炭素排出量(t)"]
[null,null,null,null,null,null,"延床面積(㎡)"]
[{"$f":"IFERROR(MAX(INDIRECT(ADDRESS(1,COLUMN())):INDIRECT(ADDRESS(ROW()-1,COLUMN())))+1,1)","v":33},null,null,null,null,null,"二酸化炭素排出量(t)"]
[null,null,null,null,null,null,"延床面積(㎡)"]
[{"$f":"IFERROR(MAX(INDIRECT(ADDRESS(1,COLUMN())):INDIRECT(ADDRESS(ROW()-1,COLUMN())))+1,1)","v":34},null,null,null,null,null,"二酸化炭素排出量(t)"]
[null,null,null,null,null,null,"延床面積(㎡)"]
[{"$f":"IFERROR(MAX(INDIRECT(ADDRESS(1,COLUMN())):INDIRECT(ADDRESS(ROW()-1,COLUMN())))+1,1)","v":35},null,null,null,null,null,"二酸化炭素排出量(t)"]
[null,null,null,null,null,null,"延床面積(㎡)"]
[{"$f":"IFERROR(MAX(INDIRECT(ADDRESS(1,COLUMN())):INDIRECT(ADDRESS(ROW()-1,COLUMN())))+1,1)","v":36},null,null,null,null,null,"二酸化炭素排出量(t)"]
[null,null,null,null,null,null,"延床面積(㎡)"]
[{"$f":"IFERROR(MAX(INDIRECT(ADDRESS(1,COLUMN())):INDIRECT(ADDRESS(ROW()-1,COLUMN())))+1,1)","v":37},null,null,null,null,null,"二酸化炭素排出量(t)"]
[null,null,null,null,null,null,"延床面積(㎡)"]
[{"$f":"IFERROR(MAX(INDIRECT(ADDRESS(1,COLUMN())):INDIRECT(ADDRESS(ROW()-1,COLUMN())))+1,1)","v":38},null,null,null,null,null,"二酸化炭素排出量(t)"]
[null,null,null,null,null,null,"延床面積(㎡)"]
[{"$f":"IFERROR(MAX(INDIRECT(ADDRESS(1,COLUMN())):INDIRECT(ADDRESS(ROW()-1,COLUMN())))+1,1)","v":39},null,null,null,null,null,"二酸化炭素排出量(t)"]
[null,null,null,null,null,null,"延床面積(㎡)"]
[{"$f":"IFERROR(MAX(INDIRECT(ADDRESS(1,COLUMN())):INDIRECT(ADDRESS(ROW()-1,COLUMN())))+1,1)","v":40},null,null,null,null,null,"二酸化炭素排出量(t)"]
[null,null,null,null,null,null,"延床面積(㎡)"]
[{"$f":"IFERROR(MAX(INDIRECT(ADDRESS(1,COLUMN())):INDIRECT(ADDRESS(ROW()-1,COLUMN())))+1,1)","v":41},null,null,null,null,null,"二酸化炭素排出量(t)"]
[null,null,null,null,null,null,"延床面積(㎡)"]
[{"$f":"IFERROR(MAX(INDIRECT(ADDRESS(1,COLUMN())):INDIRECT(ADDRESS(ROW()-1,COLUMN())))+1,1)","v":42},null,null,null,null,null,"二酸化炭素排出量(t)"]
[null,null,null,null,null,null,"延床面積(㎡)"]
[{"$f":"IFERROR(MAX(INDIRECT(ADDRESS(1,COLUMN())):INDIRECT(ADDRESS(ROW()-1,COLUMN())))+1,1)","v":43},null,null,null,null,null,"二酸化炭素排出量(t)"]
[null,null,null,null,null,null,"延床面積(㎡)"]
[{"$f":"IFERROR(MAX(INDIRECT(ADDRESS(1,COLUMN())):INDIRECT(ADDRESS(ROW()-1,COLUMN())))+1,1)","v":44},null,null,null,null,null,"二酸化炭素排出量(t)"]
[null,null,null,null,null,null,"延床面積(㎡)"]
[{"$f":"IFERROR(MAX(INDIRECT(ADDRESS(1,COLUMN())):INDIRECT(ADDRESS(ROW()-1,COLUMN())))+1,1)","v":45},null,null,null,null,null,"二酸化炭素排出量(t)"]
[null,null,null,null,null,null,"延床面積(㎡)"]
[{"$f":"IFERROR(MAX(INDIRECT(ADDRESS(1,COLUMN())):INDIRECT(ADDRESS(ROW()-1,COLUMN())))+1,1)","v":46},null,null,null,null,null,"二酸化炭素排出量(t)"]
[null,null,null,null,null,null,"延床面積(㎡)"]
[{"$f":"IFERROR(MAX(INDIRECT(ADDRESS(1,COLUMN())):INDIRECT(ADDRESS(ROW()-1,COLUMN())))+1,1)","v":47},null,null,null,null,null,"二酸化炭素排出量(t)"]
[null,null,null,null,null,null,"延床面積(㎡)"]
[{"$f":"IFERROR(MAX(INDIRECT(ADDRESS(1,COLUMN())):INDIRECT(ADDRESS(ROW()-1,COLUMN())))+1,1)","v":48},null,null,null,null,null,"二酸化炭素排出量(t)"]
[null,null,null,null,null,null,"延床面積(㎡)"]
[{"$f":"IFERROR(MAX(INDIRECT(ADDRESS(1,COLUMN())):INDIRECT(ADDRESS(ROW()-1,COLUMN())))+1,1)","v":49},null,null,null,null,null,"二酸化炭素排出量(t)"]
[null,null,null,null,null,null,"延床面積(㎡)"]
[{"$f":"IFERROR(MAX(INDIRECT(ADDRESS(1,COLUMN())):INDIRECT(ADDRESS(ROW()-1,COLUMN())))+1,1)","v":50},null,null,null,null,null,"二酸化炭素排出量(t)"]
[null,null,null,null,null,null,"延床面積(㎡)"]
[{"$f":"IFERROR(MAX(INDIRECT(ADDRESS(1,COLUMN())):INDIRECT(ADDRESS(ROW()-1,COLUMN())))+1,1)","v":51},null,null,null,null,null,"二酸化炭素排出量(t)"]
[null,null,null,null,null,null,"延床面積(㎡)"]
[{"$f":"IFERROR(MAX(INDIRECT(ADDRESS(1,COLUMN())):INDIRECT(ADDRESS(ROW()-1,COLUMN())))+1,1)","v":52},null,null,null,null,null,"二酸化炭素排出量(t)"]
[null,null,null,null,null,null,"延床面積(㎡)"]
[{"$f":"IFERROR(MAX(INDIRECT(ADDRESS(1,COLUMN())):INDIRECT(ADDRESS(ROW()-1,COLUMN())))+1,1)","v":53},null,null,null,null,null,"二酸化炭素排出量(t)"]
[null,null,null,null,null,null,"延床面積(㎡)"]
[{"$f":"IFERROR(MAX(INDIRECT(ADDRESS(1,COLUMN())):INDIRECT(ADDRESS(ROW()-1,COLUMN())))+1,1)","v":54},null,null,null,null,null,"二酸化炭素排出量(t)"]
[null,null,null,null,null,null,"延床面積(㎡)"]
[{"$f":"IFERROR(MAX(INDIRECT(ADDRESS(1,COLUMN())):INDIRECT(ADDRESS(ROW()-1,COLUMN())))+1,1)","v":55},null,null,null,null,null,"二酸化炭素排出量(t)"]
[null,null,null,null,null,null,"延床面積(㎡)"]
[{"$f":"IFERROR(MAX(INDIRECT(ADDRESS(1,COLUMN())):INDIRECT(ADDRESS(ROW()-1,COLUMN())))+1,1)","v":56},null,null,null,null,null,"二酸化炭素排出量(t)"]
[null,null,null,null,null,null,"延床面積(㎡)"]
[{"$f":"IFERROR(MAX(INDIRECT(ADDRESS(1,COLUMN())):INDIRECT(ADDRESS(ROW()-1,COLUMN())))+1,1)","v":57},null,null,null,null,null,"二酸化炭素排出量(t)"]
[null,null,null,null,null,null,"延床面積(㎡)"]
[{"$f":"IFERROR(MAX(INDIRECT(ADDRESS(1,COLUMN())):INDIRECT(ADDRESS(ROW()-1,COLUMN())))+1,1)","v":58},null,null,null,null,null,"二酸化炭素排出量(t)"]
[null,null,null,null,null,null,"延床面積(㎡)"]
[{"$f":"IFERROR(MAX(INDIRECT(ADDRESS(1,COLUMN())):INDIRECT(ADDRESS(ROW()-1,COLUMN())))+1,1)","v":59},null,null,null,null,null,"二酸化炭素排出量(t)"]
[null,null,null,null,null,null,"延床面積(㎡)"]
[{"$f":"IFERROR(MAX(INDIRECT(ADDRESS(1,COLUMN())):INDIRECT(ADDRESS(ROW()-1,COLUMN())))+1,1)","v":60},null,null,null,null,null,"二酸化炭素排出量(t)"]
[null,null,null,null,null,null,"延床面積(㎡)"]
[{"$f":"IFERROR(MAX(INDIRECT(ADDRESS(1,COLUMN())):INDIRECT(ADDRESS(ROW()-1,COLUMN())))+1,1)","v":61},null,null,null,null,null,"二酸化炭素排出量(t)"]
[null,null,null,null,null,null,"延床面積(㎡)"]
[{"$f":"IFERROR(MAX(INDIRECT(ADDRESS(1,COLUMN())):INDIRECT(ADDRESS(ROW()-1,COLUMN())))+1,1)","v":62},null,null,null,null,null,"二酸化炭素排出量(t)"]
[null,null,null,null,null,null,"延床面積(㎡)"]
[{"$f":"IFERROR(MAX(INDIRECT(ADDRESS(1,COLUMN())):INDIRECT(ADDRESS(ROW()-1,COLUMN())))+1,1)","v":63},null,null,null,null,null,"二酸化炭素排出量(t)"]
[null,null,null,null,null,null,"延床面積(㎡)"]
[{"$f":"IFERROR(MAX(INDIRECT(ADDRESS(1,COLUMN())):INDIRECT(ADDRESS(ROW()-1,COLUMN())))+1,1)","v":64},null,null,null,null,null,"二酸化炭素排出量(t)"]
[null,null,null,null,null,null,"延床面積(㎡)"]
[{"$f":"IFERROR(MAX(INDIRECT(ADDRESS(1,COLUMN())):INDIRECT(ADDRESS(ROW()-1,COLUMN())))+1,1)","v":65},null,null,null,null,null,"二酸化炭素排出量(t)"]
[null,null,null,null,null,null,"延床面積(㎡)"]
[{"$f":"IFERROR(MAX(INDIRECT(ADDRESS(1,COLUMN())):INDIRECT(ADDRESS(ROW()-1,COLUMN())))+1,1)","v":66},null,null,null,null,null,"二酸化炭素排出量(t)"]
[null,null,null,null,null,null,"延床面積(㎡)"]
[{"$f":"IFERROR(MAX(INDIRECT(ADDRESS(1,COLUMN())):INDIRECT(ADDRESS(ROW()-1,COLUMN())))+1,1)","v":67},null,null,null,null,null,"二酸化炭素排出量(t)"]
[null,null,null,null,null,null,"延床面積(㎡)"]
[{"$f":"IFERROR(MAX(INDIRECT(ADDRESS(1,COLUMN())):INDIRECT(ADDRESS(ROW()-1,COLUMN())))+1,1)","v":68},null,null,null,null,null,"二酸化炭素排出量(t)"]
[null,null,null,null,null,null,"延床面積(㎡)"]
[{"$f":"IFERROR(MAX(INDIRECT(ADDRESS(1,COLUMN())):INDIRECT(ADDRESS(ROW()-1,COLUMN())))+1,1)","v":69},null,null,null,null,null,"二酸化炭素排出量(t)"]
[null,null,null,null,null,null,"延床面積(㎡)"]
[{"$f":"IFERROR(MAX(INDIRECT(ADDRESS(1,COLUMN())):INDIRECT(ADDRESS(ROW()-1,COLUMN())))+1,1)","v":70},null,null,null,null,null,"二酸化炭素排出量(t)"]
[null,null,null,null,null,null,"延床面積(㎡)"]
[{"$f":"IFERROR(MAX(INDIRECT(ADDRESS(1,COLUMN())):INDIRECT(ADDRESS(ROW()-1,COLUMN())))+1,1)","v":71},null,null,null,null,null,"二酸化炭素排出量(t)"]
[null,null,null,null,null,null,"延床面積(㎡)"]
[{"$f":"IFERROR(MAX(INDIRECT(ADDRESS(1,COLUMN())):INDIRECT(ADDRESS(ROW()-1,COLUMN())))+1,1)","v":72},null,null,null,null,null,"二酸化炭素排出量(t)"]
[null,null,null,null,null,null,"延床面積(㎡)"]
[{"$f":"IFERROR(MAX(INDIRECT(ADDRESS(1,COLUMN())):INDIRECT(ADDRESS(ROW()-1,COLUMN())))+1,1)","v":73},null,null,null,null,null,"二酸化炭素排出量(t)"]
[null,null,null,null,null,null,"延床面積(㎡)"]
[{"$f":"IFERROR(MAX(INDIRECT(ADDRESS(1,COLUMN())):INDIRECT(ADDRESS(ROW()-1,COLUMN())))+1,1)","v":74},null,null,null,null,null,"二酸化炭素排出量(t)"]
[null,null,null,null,null,null,"延床面積(㎡)"]
[{"$f":"IFERROR(MAX(INDIRECT(ADDRESS(1,COLUMN())):INDIRECT(ADDRESS(ROW()-1,COLUMN())))+1,1)","v":75},null,null,null,null,null,"二酸化炭素排出量(t)"]
[null,null,null,null,null,null,"延床面積(㎡)"]
[{"$f":"IFERROR(MAX(INDIRECT(ADDRESS(1,COLUMN())):INDIRECT(ADDRESS(ROW()-1,COLUMN())))+1,1)","v":76},null,null,null,null,null,"二酸化炭素排出量(t)"]
[null,null,null,null,null,null,"延床面積(㎡)"]
[{"$f":"IFERROR(MAX(INDIRECT(ADDRESS(1,COLUMN())):INDIRECT(ADDRESS(ROW()-1,COLUMN())))+1,1)","v":77},null,null,null,null,null,"二酸化炭素排出量(t)"]
[null,null,null,null,null,null,"延床面積(㎡)"]
[{"$f":"IFERROR(MAX(INDIRECT(ADDRESS(1,COLUMN())):INDIRECT(ADDRESS(ROW()-1,COLUMN())))+1,1)","v":78},null,null,null,null,null,"二酸化炭素排出量(t)"]
[null,null,null,null,null,null,"延床面積(㎡)"]
[{"$f":"IFERROR(MAX(INDIRECT(ADDRESS(1,COLUMN())):INDIRECT(ADDRESS(ROW()-1,COLUMN())))+1,1)","v":79},null,null,null,null,null,"二酸化炭素排出量(t)"]
[null,null,null,null,null,null,"延床面積(㎡)"]
[{"$f":"IFERROR(MAX(INDIRECT(ADDRESS(1,COLUMN())):INDIRECT(ADDRESS(ROW()-1,COLUMN())))+1,1)","v":80},null,null,null,null,null,"二酸化炭素排出量(t)"]
[null,null,null,null,null,null,"延床面積(㎡)"]
[{"$f":"IFERROR(MAX(INDIRECT(ADDRESS(1,COLUMN())):INDIRECT(ADDRESS(ROW()-1,COLUMN())))+1,1)","v":81},null,null,null,null,null,"二酸化炭素排出量(t)"]
[null,null,null,null,null,null,"延床面積(㎡)"]
[{"$f":"IFERROR(MAX(INDIRECT(ADDRESS(1,COLUMN())):INDIRECT(ADDRESS(ROW()-1,COLUMN())))+1,1)","v":82},null,null,null,null,null,"二酸化炭素排出量(t)"]
[null,null,null,null,null,null,"延床面積(㎡)"]
[{"$f":"IFERROR(MAX(INDIRECT(ADDRESS(1,COLUMN())):INDIRECT(ADDRESS(ROW()-1,COLUMN())))+1,1)","v":83},null,null,null,null,null,"二酸化炭素排出量(t)"]
[null,null,null,null,null,null,"延床面積(㎡)"]
[{"$f":"IFERROR(MAX(INDIRECT(ADDRESS(1,COLUMN())):INDIRECT(ADDRESS(ROW()-1,COLUMN())))+1,1)","v":84},null,null,null,null,null,"二酸化炭素排出量(t)"]
[null,null,null,null,null,null,"延床面積(㎡)"]
[{"$f":"IFERROR(MAX(INDIRECT(ADDRESS(1,COLUMN())):INDIRECT(ADDRESS(ROW()-1,COLUMN())))+1,1)","v":85},null,null,null,null,null,"二酸化炭素排出量(t)"]
[null,null,null,null,null,null,"延床面積(㎡)"]
[{"$f":"IFERROR(MAX(INDIRECT(ADDRESS(1,COLUMN())):INDIRECT(ADDRESS(ROW()-1,COLUMN())))+1,1)","v":86},null,null,null,null,null,"二酸化炭素排出量(t)"]
[null,null,null,null,null,null,"延床面積(㎡)"]
[{"$f":"IFERROR(MAX(INDIRECT(ADDRESS(1,COLUMN())):INDIRECT(ADDRESS(ROW()-1,COLUMN())))+1,1)","v":87},null,null,null,null,null,"二酸化炭素排出量(t)"]
[null,null,null,null,null,null,"延床面積(㎡)"]
[{"$f":"IFERROR(MAX(INDIRECT(ADDRESS(1,COLUMN())):INDIRECT(ADDRESS(ROW()-1,COLUMN())))+1,1)","v":88},null,null,null,null,null,"二酸化炭素排出量(t)"]
[null,null,null,null,null,null,"延床面積(㎡)"]
[{"$f":"IFERROR(MAX(INDIRECT(ADDRESS(1,COLUMN())):INDIRECT(ADDRESS(ROW()-1,COLUMN())))+1,1)","v":89},null,null,null,null,null,"二酸化炭素排出量(t)"]
[null,null,null,null,null,null,"延床面積(㎡)"]
[{"$f":"IFERROR(MAX(INDIRECT(ADDRESS(1,COLUMN())):INDIRECT(ADDRESS(ROW()-1,COLUMN())))+1,1)","v":90},null,null,null,null,null,"二酸化炭素排出量(t)"]
[null,null,null,null,null,null,"延床面積(㎡)"]
[{"$f":"IFERROR(MAX(INDIRECT(ADDRESS(1,COLUMN())):INDIRECT(ADDRESS(ROW()-1,COLUMN())))+1,1)","v":91},null,null,null,null,null,"二酸化炭素排出量(t)"]
[null,null,null,null,null,null,"延床面積(㎡)"]
[{"$f":"IFERROR(MAX(INDIRECT(ADDRESS(1,COLUMN())):INDIRECT(ADDRESS(ROW()-1,COLUMN())))+1,1)","v":92},null,null,null,null,null,"二酸化炭素排出量(t)"]
[null,null,null,null,null,null,"延床面積(㎡)"]
[{"$f":"IFERROR(MAX(INDIRECT(ADDRESS(1,COLUMN())):INDIRECT(ADDRESS(ROW()-1,COLUMN())))+1,1)","v":93},null,null,null,null,null,"二酸化炭素排出量(t)"]
[null,null,null,null,null,null,"延床面積(㎡)"]
[{"$f":"IFERROR(MAX(INDIRECT(ADDRESS(1,COLUMN())):INDIRECT(ADDRESS(ROW()-1,COLUMN())))+1,1)","v":94},null,null,null,null,null,"二酸化炭素排出量(t)"]
[null,null,null,null,null,null,"延床面積(㎡)"]
[{"$f":"IFERROR(MAX(INDIRECT(ADDRESS(1,COLUMN())):INDIRECT(ADDRESS(ROW()-1,COLUMN())))+1,1)","v":95},null,null,null,null,null,"二酸化炭素排出量(t)"]
[null,null,null,null,null,null,"延床面積(㎡)"]
[{"$f":"IFERROR(MAX(INDIRECT(ADDRESS(1,COLUMN())):INDIRECT(ADDRESS(ROW()-1,COLUMN())))+1,1)","v":96},null,null,null,null,null,"二酸化炭素排出量(t)"]
[null,null,null,null,null,null,"延床面積(㎡)"]
[{"$f":"IFERROR(MAX(INDIRECT(ADDRESS(1,COLUMN())):INDIRECT(ADDRESS(ROW()-1,COLUMN())))+1,1)","v":97},null,null,null,null,null,"二酸化炭素排出量(t)"]
[null,null,null,null,null,null,"延床面積(㎡)"]
[{"$f":"IFERROR(MAX(INDIRECT(ADDRESS(1,COLUMN())):INDIRECT(ADDRESS(ROW()-1,COLUMN())))+1,1)","v":98},null,null,null,null,null,"二酸化炭素排出量(t)"]
[null,null,null,null,null,null,"延床面積(㎡)"]
[{"$f":"IFERROR(MAX(INDIRECT(ADDRESS(1,COLUMN())):INDIRECT(ADDRESS(ROW()-1,COLUMN())))+1,1)","v":99},null,null,null,null,null,"二酸化炭素排出量(t)"]
[null,null,null,null,null,null,"延床面積(㎡)"]
[{"$f":"IFERROR(MAX(INDIRECT(ADDRESS(1,COLUMN())):INDIRECT(ADDRESS(ROW()-1,COLUMN())))+1,1)","v":100},null,null,null,null,null,"二酸化炭素排出量(t)"]
[null,null,null,null,null,null,"延床面積(㎡)"]

{"sheet":"②","index":7,"n_rows":210,"n_cols":14,"rows_kept":210,"cut":false,"hidden":false,"merged":[[112,0,113,0],[112,1,113,1],[112,2,113,5],[112,6,112,7],[112,13,113,13],[113,6,113,7],[110,0,111,0],[110,1,111,1],[110,2,111,5],[110,6,110,7],[110,13,111,13],[111,6,111,7],[116,0,117,0],[116,1,117,1],[116,2,117,5],[116,6,116,7],[116,13,117,13],[117,6,117,7],[114,0,115,0],[114,1,115,1],[114,2,115,5],[114,6,114,7],[114,13,115,13],[115,6,115,7],[120,0,121,0],[120,1,121,1],[120,2,121,5],[120,6,120,7],[120,13,121,13],[121,6,121,7],[118,0,119,0],[118,1,119,1],[118,2,119,5],[118,6,118,7],[118,13,119,13],[119,6,119,7],[206,0,207,0],[206,1,207,1],[206,2,207,5],[206,6,206,7],[206,13,207,13],[207,6,207,7],[208,0,209,0],[208,1,209,1],[208,2,209,5],[208,6,208,7],[208,13,209,13],[209,6,209,7],[202,0,203,0],[202,1,203,1],[202,2,203,5],[202,6,202,7],[202,13,203,13],[203,6,203,7],[204,0,205,0],[204,1,205,1],[204,2,205,5],[204,6,204,7],[204,13,205,13],[205,6,205,7],[198,0,199,0],[198,1,199,1],[198,2,199,5],[198,6,198,7],[198,13,199,13],[199,6,199,7],[200,0,201,0],[200,1,201,1],[200,2,201,5],[200,6,200,7],[200,13,201,13],[201,6,201,7],[194,0,195,0],[194,1,195,1],[194,2,195,5],[194,6,194,7],[194,13,195,13],[195,6,195,7],[196,0,197,0],[196,1,197,1],[196,2,197,5],[196,6,196,7],[196,13,197,13],[197,6,197,7],[190,0,191,0],[190,1,191,1],[190,2,191,5],[190,6,190,7],[190,13,191,13],[191,6,191,7],[192,0,193,0],[192,1,193,1],[192,2,193,5],[192,6,192,7],[192,13,193,13],[193,6,193,7],[186,0,187,0],[186,1,187,1],[186,2,187,5],[186,6,186,7],[186,13,187,13],[187,6,187,7],[188,0,189,0],[188,1,189,1],[188,2,189,5],[188,6,188,7],[188,13,189,13],[189,6,189,7],[182,0,183,0],[182,1,183,1],[182,2,183,5],[182,6,182,7],[182,13,183,13],[183,6,183,7],[184,0,185,0],[184,1,185,1],[184,2,185,5],[184,6,184,7],[184,13,185,13],[185,6,185,7],[178,0,179,0],[178,1,179,1],[178,2,179,5],[178,6,178,7],[178,13,179,13],[179,6,179,7],[180,0,181,0],[180,1,181,1],[180,2,181,5],[180,6,180,7],[180,13,181,13],[181,6,181,7],[174,0,175,0],[174,1,175,1],[174,2,175,5],[174,6,174,7],[174,13,175,13],[175,6,175,7],[176,0,177,0],[176,1,177,1],[176,2,177,5],[176,6,176,7],[176,13,177,13],[177,6,177,7],[170,0,171,0],[170,1,171,1],[170,2,171,5],[170,6,170,7],[170,13,171,13],[171,6,171,7],[172,0,173,0],[172,1,173,1],[172,2,173,5],[172,6,172,7],[172,13,173,13],[173,6,173,7],[166,0,167,0],[166,1,167,1],[166,2,167,5],[166,6,166,7],[166,13,167,13],[167,6,167,7],[168,0,169,0],[168,1,169,1],[168,2,169,5],[168,6,168,7],[168,13,169,13],[169,6,169,7],[162,0,163,0],[162,1,163,1],[162,2,163,5],[162,6,162,7],[162,13,163,13],[163,6,163,7],[164,0,165,0],[164,1,165,1],[164,2,165,5],[164,6,164,7],[164,13,165,13],[165,6,165,7],[158,0,159,0],[158,1,159,1],[158,2,159,5],[158,6,158,7],[158,13,159,13],[159,6,159,7],[160,0,161,0],[160,1,161,1],[160,2,161,5],[160,6,160,7],[160,13,161,13],[161,6,161,7],[154,0,155,0],[154,1,155,1],[154,2,155,5],[154,6,154,7],[154,13,155,13],[155,6,155,7],[156,0,157,0],[156,1,157,1],[156,2,157,5],[156,6,156,7],[156,13,157,13],[157,6,157,7],[150,0,151,0],[150,1,151,1],[150,2,151,5],[150,6,150,7],[150,13,151,13],[151,6,151,7],[152,0,153,0],[152,1,153,1],[152,2,153,5],[152,6,152,7],[152,13,153,13],[153,6,153,7],[146,0,147,0],[146,1,147,1],[146,2,147,5],[146,6,146,7],[146,13,147,13],[147,6,147,7],[148,0,149,0],[148,1,149,1],[148,2,149,5],[148,6,148,7],[148,13,149,13],[149,6,149,7],[142,0,143,0],[142,1,143,1],[142,2,143,5],[142,6,142,7],[142,13,143,13],[143,6,143,7],[144,0,145,0],[144,1,145,1],[144,2,145,5],[144,6,144,7],[144,13,145,13],[145,6,145,7],[138,0,139,0],[138,1,139,1],[138,2,139,5],[138,6,138,7],[138,13,139,13],[139,6,139,7],[140,0,141,0],[140,1,141,1],[140,2,141,5],[140,6,140,7],[140,13,141,13],[141,6,141,7],[134,0,135,0],[134,1,135,1],[134,2,135,5],[134,6,134,7],[134,13,135,13],[135,6,135,7],[136,0,137,0],[136,1,137,1],[136,2,137,5],[136,6,136,7],[136,13,137,13],[137,6,137,7],[130,0,131,0],[130,1,131,1],[130,2,131,5],[130,6,130,7],[130,13,131,13],[131,6,131,7],[132,0,133,0],[132,1,133,1],[132,2,133,5],[132,6,132,7],[132,13,133,13],[133,6,133,7],[126,0,127,0],[126,1,127,1],[126,2,127,5],[126,6,126,7],[126,13,127,13],[127,6,127,7],[128,0,129,0],[128,1,129,1],[128,2,129,5],[128,6,128,7],[128,13,129,13],[129,6,129,7],[122,0,123,0],[122,1,123,1],[122,2,123,5],[122,6,122,7],[122,13,123,13],[123,6,123,7],[124,0,125,0],[124,1,125,1],[124,2,125,5],[124,6,124,7],[124,13,125,13],[125,6,125,7],[10,13,11,13],[11,6,11,7],[12,0,13,0],[12,1,13,1],[12,2,13,5],[12,6,12,7],[12,13,13,13],[13,6,13,7],[2,0,2,1],[3,0,3,1],[4,0,4,1],[7,2,7,5],[7,6,7,7],[10,0,11,0],[10,1,11,1],[10,2,11,5],[10,6,10,7],[8,0,9,0],[8,1,9,1],[8,2,9,5],[8,6,8,7],[8,13,9,13],[9,6,9,7],[16,0,17,0],[16,1,17,1],[16,2,17,5],[16,6,16,7],[16,13,17,13],[17,6,17,7],[14,0,15,0],[14,1,15,1],[14,2,15,5],[14,6,14,7],[14,13,15,13],[15,6,15,7],[20,0,21,0],[20,1,21,1],[20,2,21,5],[20,6,20,7],[20,13,21,13],[21,6,21,7],[18,0,19,0],[18,1,19,1],[18,2,19,5],[18,6,18,7],[18,13,19,13],[19,6,19,7],[24,0,25,0],[24,1,25,1],[24,2,25,5],[24,6,24,7],[24,13,25,13],[25,6,25,7],[22,0,23,0],[22,1,23,1],[22,2,23,5],[22,6,22,7],[22,13,23,13],[23,6,23,7],[28,0,29,0],[28,1,29,1],[28,2,29,5],[28,6,28,7],[28,13,29,13],[29,6,29,7],[26,0,27,0],[26,1,27,1],[26,2,27,5],[26,6,26,7],[26,13,27,13],[27,6,27,7],[32,0,33,0],[32,1,33,1],[32,2,33,5],[32,6,32,7],[32,13,33,13],[33,6,33,7],[30,0,31,0],[30,1,31,1],[30,2,31,5],[30,6,30,7],[30,13,31,13],[31,6,31,7],[36,0,37,0],[36,1,37,1],[36,2,37,5],[36,6,36,7],[36,13,37,13],[37,6,37,7],[34,0,35,0],[34,1,35,1],[34,2,35,5],[34,6,34,7],[34,13,35,13],[35,6,35,7],[40,0,41,0],[40,1,41,1],[40,2,41,5],[40,6,40,7],[40,13,41,13],[41,6,41,7],[38,0,39,0],[38,1,39,1],[38,2,39,5],[38,6,38,7],[38,13,39,13],[39,6,39,7],[44,0,45,0],[44,1,45,1],[44,2,45,5],[44,6,44,7],[44,13,45,13],[45,6,45,7],[42,0,43,0],[42,1,43,1],[42,2,43,5],[42,6,42,7],[42,13,43,13],[43,6,43,7],[48,0,49,0],[48,1,49,1],[48,2,49,5],[48,6,48,7],[48,13,49,13],[49,6,49,7],[46,0,47,0],[46,1,47,1],[46,2,47,5],[46,6,46,7],[46,13,47,13],[47,6,47,7],[52,0,53,0],[52,1,53,1],[52,2,53,5],[52,6,52,7],[52,13,53,13],[53,6,53,7],[50,0,51,0],[50,1,51,1],[50,2,51,5],[50,6,50,7],[50,13,51,13],[51,6,51,7],[56,0,57,0],[56,1,57,1],[56,2,57,5],[56,6,56,7],[56,13,57,13],[57,6,57,7],[54,0,55,0],[54,1,55,1],[54,2,55,5],[54,6,54,7],[54,13,55,13],[55,6,55,7],[60,0,61,0],[60,1,61,1],[60,2,61,5],[60,6,60,7],[60,13,61,13],[61,6,61,7],[58,0,59,0],[58,1,59,1],[58,2,59,5],[58,6,58,7],[58,13,59,13],[59,6,59,7],[64,0,65,0],[64,1,65,1],[64,2,65,5],[64,6,64,7],[64,13,65,13],[65,6,65,7],[62,0,63,0],[62,1,63,1],[62,2,63,5],[62,6,62,7],[62,13,63,13],[63,6,63,7],[68,0,69,0],[68,1,69,1],[68,2,69,5],[68,6,68,7],[68,13,69,13],[69,6,69,7],[66,0,67,0],[66,1,67,1],[66,2,67,5],[66,6,66,7],[66,13,67,13],[67,6,67,7],[72,0,73,0],[72,1,73,1],[72,2,73,5],[72,6,72,7],[72,13,73,13],[73,6,73,7],[70,0,71,0],[70,1,71,1],[70,2,71,5],[70,6,70,7],[70,13,71,13],[71,6,71,7],[76,0,77,0],[76,1,77,1],[76,2,77,5],[76,6,76,7],[76,13,77,13],[77,6,77,7],[74,0,75,0],[74,1,75,1],[74,2,75,5],[74,6,74,7],[74,13,75,13],[75,6,75,7],[80,0,81,0],[80,1,81,1],[80,2,81,5],[80,6,80,7],[80,13,81,13],[81,6,81,7],[78,0,79,0],[78,1,79,1],[78,2,79,5],[78,6,78,7],[78,13,79,13],[79,6,79,7],[84,0,85,0],[84,1,85,1],[84,2,85,5],[84,6,84,7],[84,13,85,13],[85,6,85,7],[82,0,83,0],[82,1,83,1],[82,2,83,5],[82,6,82,7],[82,13,83,13],[83,6,83,7],[88,0,89,0],[88,1,89,1],[88,2,89,5],[88,6,88,7],[88,13,89,13],[89,6,89,7],[86,0,87,0],[86,1,87,1],[86,2,87,5],[86,6,86,7],[86,13,87,13],[87,6,87,7],[92,0,93,0],[92,1,93,1],[92,2,93,5],[92,6,92,7],[92,13,93,13],[93,6,93,7],[90,0,91,0],[90,1,91,1],[90,2,91,5],[90,6,90,7],[90,13,91,13],[91,6,91,7],[96,0,97,0],[96,1,97,1],[96,2,97,5],[96,6,96,7],[96,13,97,13],[97,6,97,7],[94,0,95,0],[94,1,95,1],[94,2,95,5],[94,6,94,7],[94,13,95,13],[95,6,95,7],[100,0,101,0],[100,1,101,1],[100,2,101,5],[100,6,100,7],[100,13,101,13],[101,6,101,7],[98,0,99,0],[98,1,99,1],[98,2,99,5],[98,6,98,7],[98,13,99,13],[99,6,99,7],[104,0,105,0],[104,1,105,1],[104,2,105,5],[104,6,104,7],[104,13,105,13],[105,6,105,7],[102,0,103,0],[102,1,103,1],[102,2,103,5],[102,6,102,7],[102,13,103,13],[103,6,103,7],[108,0,109,0],[108,1,109,1],[108,2,109,5],[108,6,108,7],[108,13,109,13],[109,6,109,7],[106,0,107,0],[106,1,107,1],[106,2,107,5],[106,6,106,7],[106,13,107,13],[107,6,107,7]]}
[]
["♯中小規模事業所として都に報告を行っていた実績を青色セルに記入してください。"]
["補正値合計",null,{"$f":"補正結果!O14","v":"2015年度"},{"$f":"補正結果!U14","v":"2016年度"},{"$f":"補正結果!AA14","v":"2017年度"},{"$f":"補正結果!AG14","v":"2018年度"}]
["補正二酸化炭素排出量（t）",null,{"$f":"SUMIF(G:H,\"二酸化炭素排出量(t)\",I:I)*-1","v":0},{"$f":"SUMIF(G:H,\"二酸化炭素排出量(t)\",J:J)*-1","v":0},{"$f":"SUMIF(G:H,\"二酸化炭素排出量(t)\",K:K)*-1","v":0},{"$f":"SUMIF(G:H,\"二酸化炭素排出量(t)\",L:L)*-1","v":0}]
["補正延床面積（㎡）",null,{"$f":"SUMIF(G:H,\"延床面積(㎡)\",I:I)*-1","v":0},{"$f":"SUMIF(G:H,\"延床面積(㎡)\",J:J)*-1","v":0},{"$f":"SUMIF(G:H,\"延床面積(㎡)\",K:K)*-1","v":0},{"$f":"SUMIF(G:H,\"延床面積(㎡)\",L:L)*-1","v":0}]
[]
[]
["No.","事業所番号","事業所名",null,null,null,"報告項目",null,{"$f":"補正結果!O14","v":"2015年度"},{"$f":"補正結果!U14","v":"2016年度"},{"$f":"補正結果!AA14","v":"2017年度"},{"$f":"補正結果!AG14","v":"2018年度"},{"$f":"補正結果!AM14","v":"2019年度"},"エラーチェック"]
[{"$f":"IFERROR(MAX(INDIRECT(ADDRESS(1,COLUMN())):INDIRECT(ADDRESS(ROW()-1,COLUMN())))+1,1)","v":1},null,null,null,null,null,"二酸化炭素排出量(t)"]
[null,null,null,null,null,null,"延床面積(㎡)"]
[1,null,null,null,null,null,"二酸化炭素排出量(t)"]
[null,null,null,null,null,null,"延床面積(㎡)"]
[{"$f":"IFERROR(MAX(INDIRECT(ADDRESS(1,COLUMN())):INDIRECT(ADDRESS(ROW()-1,COLUMN())))+1,1)","v":2},null,null,null,null,null,"二酸化炭素排出量(t)"]
[null,null,null,null,null,null,"延床面積(㎡)"]
[{"$f":"IFERROR(MAX(INDIRECT(ADDRESS(1,COLUMN())):INDIRECT(ADDRESS(ROW()-1,COLUMN())))+1,1)","v":3},null,null,null,null,null,"二酸化炭素排出量(t)"]
[null,null,null,null,null,null,"延床面積(㎡)"]
[{"$f":"IFERROR(MAX(INDIRECT(ADDRESS(1,COLUMN())):INDIRECT(ADDRESS(ROW()-1,COLUMN())))+1,1)","v":4},null,null,null,null,null,"二酸化炭素排出量(t)"]
[null,null,null,null,null,null,"延床面積(㎡)"]
[{"$f":"IFERROR(MAX(INDIRECT(ADDRESS(1,COLUMN())):INDIRECT(ADDRESS(ROW()-1,COLUMN())))+1,1)","v":5},null,null,null,null,null,"二酸化炭素排出量(t)"]
[null,null,null,null,null,null,"延床面積(㎡)"]
[{"$f":"IFERROR(MAX(INDIRECT(ADDRESS(1,COLUMN())):INDIRECT(ADDRESS(ROW()-1,COLUMN())))+1,1)","v":6},null,null,null,null,null,"二酸化炭素排出量(t)"]
[null,null,null,null,null,null,"延床面積(㎡)"]
[{"$f":"IFERROR(MAX(INDIRECT(ADDRESS(1,COLUMN())):INDIRECT(ADDRESS(ROW()-1,COLUMN())))+1,1)","v":7},null,null,null,null,null,"二酸化炭素排出量(t)"]
[null,null,null,null,null,null,"延床面積(㎡)"]
[{"$f":"IFERROR(MAX(INDIRECT(ADDRESS(1,COLUMN())):INDIRECT(ADDRESS(ROW()-1,COLUMN())))+1,1)","v":8},null,null,null,null,null,"二酸化炭素排出量(t)"]
[null,null,null,null,null,null,"延床面積(㎡)"]
[{"$f":"IFERROR(MAX(INDIRECT(ADDRESS(1,COLUMN())):INDIRECT(ADDRESS(ROW()-1,COLUMN())))+1,1)","v":9},null,null,null,null,null,"二酸化炭素排出量(t)"]
[null,null,null,null,null,null,"延床面積(㎡)"]
[{"$f":"IFERROR(MAX(INDIRECT(ADDRESS(1,COLUMN())):INDIRECT(ADDRESS(ROW()-1,COLUMN())))+1,1)","v":10},null,null,null,null,null,"二酸化炭素排出量(t)"]
[null,null,null,null,null,null,"延床面積(㎡)"]
[{"$f":"IFERROR(MAX(INDIRECT(ADDRESS(1,COLUMN())):INDIRECT(ADDRESS(ROW()-1,COLUMN())))+1,1)","v":11},null,null,null,null,null,"二酸化炭素排出量(t)"]
[null,null,null,null,null,null,"延床面積(㎡)"]
[{"$f":"IFERROR(MAX(INDIRECT(ADDRESS(1,COLUMN())):INDIRECT(ADDRESS(ROW()-1,COLUMN())))+1,1)","v":12},null,null,null,null,null,"二酸化炭素排出量(t)"]
[null,null,null,null,null,null,"延床面積(㎡)"]
[{"$f":"IFERROR(MAX(INDIRECT(ADDRESS(1,COLUMN())):INDIRECT(ADDRESS(ROW()-1,COLUMN())))+1,1)","v":13},null,null,null,null,null,"二酸化炭素排出量(t)"]
[null,null,null,null,null,null,"延床面積(㎡)"]
[{"$f":"IFERROR(MAX(INDIRECT(ADDRESS(1,COLUMN())):INDIRECT(ADDRESS(ROW()-1,COLUMN())))+1,1)","v":14},null,null,null,null,null,"二酸化炭素排出量(t)"]
[null,null,null,null,null,null,"延床面積(㎡)"]
[{"$f":"IFERROR(MAX(INDIRECT(ADDRESS(1,COLUMN())):INDIRECT(ADDRESS(ROW()-1,COLUMN())))+1,1)","v":15},null,null,null,null,null,"二酸化炭素排出量(t)"]
[null,null,null,null,null,null,"延床面積(㎡)"]
[{"$f":"IFERROR(MAX(INDIRECT(ADDRESS(1,COLUMN())):INDIRECT(ADDRESS(ROW()-1,COLUMN())))+1,1)","v":16},null,null,null,null,null,"二酸化炭素排出量(t)"]
[null,null,null,null,null,null,"延床面積(㎡)"]
[{"$f":"IFERROR(MAX(INDIRECT(ADDRESS(1,COLUMN())):INDIRECT(ADDRESS(ROW()-1,COLUMN())))+1,1)","v":17},null,null,null,null,null,"二酸化炭素排出量(t)"]
[null,null,null,null,null,null,"延床面積(㎡)"]
[{"$f":"IFERROR(MAX(INDIRECT(ADDRESS(1,COLUMN())):INDIRECT(ADDRESS(ROW()-1,COLUMN())))+1,1)","v":18},null,null,null,null,null,"二酸化炭素排出量(t)"]
[null,null,null,null,null,null,"延床面積(㎡)"]
[{"$f":"IFERROR(MAX(INDIRECT(ADDRESS(1,COLUMN())):INDIRECT(ADDRESS(ROW()-1,COLUMN())))+1,1)","v":19},null,null,null,null,null,"二酸化炭素排出量(t)"]
[null,null,null,null,null,null,"延床面積(㎡)"]
[{"$f":"IFERROR(MAX(INDIRECT(ADDRESS(1,COLUMN())):INDIRECT(ADDRESS(ROW()-1,COLUMN())))+1,1)","v":20},null,null,null,null,null,"二酸化炭素排出量(t)"]
[null,null,null,null,null,null,"延床面積(㎡)"]
[{"$f":"IFERROR(MAX(INDIRECT(ADDRESS(1,COLUMN())):INDIRECT(ADDRESS(ROW()-1,COLUMN())))+1,1)","v":21},null,null,null,null,null,"二酸化炭素排出量(t)"]
[null,null,null,null,null,null,"延床面積(㎡)"]
[{"$f":"IFERROR(MAX(INDIRECT(ADDRESS(1,COLUMN())):INDIRECT(ADDRESS(ROW()-1,COLUMN())))+1,1)","v":22},null,null,null,null,null,"二酸化炭素排出量(t)"]
[null,null,null,null,null,null,"延床面積(㎡)"]
[{"$f":"IFERROR(MAX(INDIRECT(ADDRESS(1,COLUMN())):INDIRECT(ADDRESS(ROW()-1,COLUMN())))+1,1)","v":23},null,null,null,null,null,"二酸化炭素排出量(t)"]
[null,null,null,null,null,null,"延床面積(㎡)"]
[{"$f":"IFERROR(MAX(INDIRECT(ADDRESS(1,COLUMN())):INDIRECT(ADDRESS(ROW()-1,COLUMN())))+1,1)","v":24},null,null,null,null,null,"二酸化炭素排出量(t)"]
[null,null,null,null,null,null,"延床面積(㎡)"]
[{"$f":"IFERROR(MAX(INDIRECT(ADDRESS(1,COLUMN())):INDIRECT(ADDRESS(ROW()-1,COLUMN())))+1,1)","v":25},null,null,null,null,null,"二酸化炭素排出量(t)"]
[null,null,null,null,null,null,"延床面積(㎡)"]
[{"$f":"IFERROR(MAX(INDIRECT(ADDRESS(1,COLUMN())):INDIRECT(ADDRESS(ROW()-1,COLUMN())))+1,1)","v":26},null,null,null,null,null,"二酸化炭素排出量(t)"]
[null,null,null,null,null,null,"延床面積(㎡)"]
[{"$f":"IFERROR(MAX(INDIRECT(ADDRESS(1,COLUMN())):INDIRECT(ADDRESS(ROW()-1,COLUMN())))+1,1)","v":27},null,null,null,null,null,"二酸化炭素排出量(t)"]
[null,null,null,null,null,null,"延床面積(㎡)"]
[{"$f":"IFERROR(MAX(INDIRECT(ADDRESS(1,COLUMN())):INDIRECT(ADDRESS(ROW()-1,COLUMN())))+1,1)","v":28},null,null,null,null,null,"二酸化炭素排出量(t)"]
[null,null,null,null,null,null,"延床面積(㎡)"]
[{"$f":"IFERROR(MAX(INDIRECT(ADDRESS(1,COLUMN())):INDIRECT(ADDRESS(ROW()-1,COLUMN())))+1,1)","v":29},null,null,null,null,null,"二酸化炭素排出量(t)"]
[null,null,null,null,null,null,"延床面積(㎡)"]
[{"$f":"IFERROR(MAX(INDIRECT(ADDRESS(1,COLUMN())):INDIRECT(ADDRESS(ROW()-1,COLUMN())))+1,1)","v":30},null,null,null,null,null,"二酸化炭素排出量(t)"]
[null,null,null,null,null,null,"延床面積(㎡)"]
[{"$f":"IFERROR(MAX(INDIRECT(ADDRESS(1,COLUMN())):INDIRECT(ADDRESS(ROW()-1,COLUMN())))+1,1)","v":31},null,null,null,null,null,"二酸化炭素排出量(t)"]
[null,null,null,null,null,null,"延床面積(㎡)"]
[{"$f":"IFERROR(MAX(INDIRECT(ADDRESS(1,COLUMN())):INDIRECT(ADDRESS(ROW()-1,COLUMN())))+1,1)","v":32},null,null,null,null,null,"二酸化炭素排出量(t)"]
[null,null,null,null,null,null,"延床面積(㎡)"]
[{"$f":"IFERROR(MAX(INDIRECT(ADDRESS(1,COLUMN())):INDIRECT(ADDRESS(ROW()-1,COLUMN())))+1,1)","v":33},null,null,null,null,null,"二酸化炭素排出量(t)"]
[null,null,null,null,null,null,"延床面積(㎡)"]
[{"$f":"IFERROR(MAX(INDIRECT(ADDRESS(1,COLUMN())):INDIRECT(ADDRESS(ROW()-1,COLUMN())))+1,1)","v":34},null,null,null,null,null,"二酸化炭素排出量(t)"]
[null,null,null,null,null,null,"延床面積(㎡)"]
[{"$f":"IFERROR(MAX(INDIRECT(ADDRESS(1,COLUMN())):INDIRECT(ADDRESS(ROW()-1,COLUMN())))+1,1)","v":35},null,null,null,null,null,"二酸化炭素排出量(t)"]
[null,null,null,null,null,null,"延床面積(㎡)"]
[{"$f":"IFERROR(MAX(INDIRECT(ADDRESS(1,COLUMN())):INDIRECT(ADDRESS(ROW()-1,COLUMN())))+1,1)","v":36},null,null,null,null,null,"二酸化炭素排出量(t)"]
[null,null,null,null,null,null,"延床面積(㎡)"]
[{"$f":"IFERROR(MAX(INDIRECT(ADDRESS(1,COLUMN())):INDIRECT(ADDRESS(ROW()-1,COLUMN())))+1,1)","v":37},null,null,null,null,null,"二酸化炭素排出量(t)"]
[null,null,null,null,null,null,"延床面積(㎡)"]
[{"$f":"IFERROR(MAX(INDIRECT(ADDRESS(1,COLUMN())):INDIRECT(ADDRESS(ROW()-1,COLUMN())))+1,1)","v":38},null,null,null,null,null,"二酸化炭素排出量(t)"]
[null,null,null,null,null,null,"延床面積(㎡)"]
[{"$f":"IFERROR(MAX(INDIRECT(ADDRESS(1,COLUMN())):INDIRECT(ADDRESS(ROW()-1,COLUMN())))+1,1)","v":39},null,null,null,null,null,"二酸化炭素排出量(t)"]
[null,null,null,null,null,null,"延床面積(㎡)"]
[{"$f":"IFERROR(MAX(INDIRECT(ADDRESS(1,COLUMN())):INDIRECT(ADDRESS(ROW()-1,COLUMN())))+1,1)","v":40},null,null,null,null,null,"二酸化炭素排出量(t)"]
[null,null,null,null,null,null,"延床面積(㎡)"]
[{"$f":"IFERROR(MAX(INDIRECT(ADDRESS(1,COLUMN())):INDIRECT(ADDRESS(ROW()-1,COLUMN())))+1,1)","v":41},null,null,null,null,null,"二酸化炭素排出量(t)"]
[null,null,null,null,null,null,"延床面積(㎡)"]
[{"$f":"IFERROR(MAX(INDIRECT(ADDRESS(1,COLUMN())):INDIRECT(ADDRESS(ROW()-1,COLUMN())))+1,1)","v":42},null,null,null,null,null,"二酸化炭素排出量(t)"]
[null,null,null,null,null,null,"延床面積(㎡)"]
[{"$f":"IFERROR(MAX(INDIRECT(ADDRESS(1,COLUMN())):INDIRECT(ADDRESS(ROW()-1,COLUMN())))+1,1)","v":43},null,null,null,null,null,"二酸化炭素排出量(t)"]
[null,null,null,null,null,null,"延床面積(㎡)"]
[{"$f":"IFERROR(MAX(INDIRECT(ADDRESS(1,COLUMN())):INDIRECT(ADDRESS(ROW()-1,COLUMN())))+1,1)","v":44},null,null,null,null,null,"二酸化炭素排出量(t)"]
[null,null,null,null,null,null,"延床面積(㎡)"]
[{"$f":"IFERROR(MAX(INDIRECT(ADDRESS(1,COLUMN())):INDIRECT(ADDRESS(ROW()-1,COLUMN())))+1,1)","v":45},null,null,null,null,null,"二酸化炭素排出量(t)"]
[null,null,null,null,null,null,"延床面積(㎡)"]
[{"$f":"IFERROR(MAX(INDIRECT(ADDRESS(1,COLUMN())):INDIRECT(ADDRESS(ROW()-1,COLUMN())))+1,1)","v":46},null,null,null,null,null,"二酸化炭素排出量(t)"]
[null,null,null,null,null,null,"延床面積(㎡)"]
[{"$f":"IFERROR(MAX(INDIRECT(ADDRESS(1,COLUMN())):INDIRECT(ADDRESS(ROW()-1,COLUMN())))+1,1)","v":47},null,null,null,null,null,"二酸化炭素排出量(t)"]
[null,null,null,null,null,null,"延床面積(㎡)"]
[{"$f":"IFERROR(MAX(INDIRECT(ADDRESS(1,COLUMN())):INDIRECT(ADDRESS(ROW()-1,COLUMN())))+1,1)","v":48},null,null,null,null,null,"二酸化炭素排出量(t)"]
[null,null,null,null,null,null,"延床面積(㎡)"]
[{"$f":"IFERROR(MAX(INDIRECT(ADDRESS(1,COLUMN())):INDIRECT(ADDRESS(ROW()-1,COLUMN())))+1,1)","v":49},null,null,null,null,null,"二酸化炭素排出量(t)"]
[null,null,null,null,null,null,"延床面積(㎡)"]
[{"$f":"IFERROR(MAX(INDIRECT(ADDRESS(1,COLUMN())):INDIRECT(ADDRESS(ROW()-1,COLUMN())))+1,1)","v":50},null,null,null,null,null,"二酸化炭素排出量(t)"]
[null,null,null,null,null,null,"延床面積(㎡)"]
[{"$f":"IFERROR(MAX(INDIRECT(ADDRESS(1,COLUMN())):INDIRECT(ADDRESS(ROW()-1,COLUMN())))+1,1)","v":51},null,null,null,null,null,"二酸化炭素排出量(t)"]
[null,null,null,null,null,null,"延床面積(㎡)"]
[{"$f":"IFERROR(MAX(INDIRECT(ADDRESS(1,COLUMN())):INDIRECT(ADDRESS(ROW()-1,COLUMN())))+1,1)","v":52},null,null,null,null,null,"二酸化炭素排出量(t)"]
[null,null,null,null,null,null,"延床面積(㎡)"]
[{"$f":"IFERROR(MAX(INDIRECT(ADDRESS(1,COLUMN())):INDIRECT(ADDRESS(ROW()-1,COLUMN())))+1,1)","v":53},null,null,null,null,null,"二酸化炭素排出量(t)"]
[null,null,null,null,null,null,"延床面積(㎡)"]
[{"$f":"IFERROR(MAX(INDIRECT(ADDRESS(1,COLUMN())):INDIRECT(ADDRESS(ROW()-1,COLUMN())))+1,1)","v":54},null,null,null,null,null,"二酸化炭素排出量(t)"]
[null,null,null,null,null,null,"延床面積(㎡)"]
[{"$f":"IFERROR(MAX(INDIRECT(ADDRESS(1,COLUMN())):INDIRECT(ADDRESS(ROW()-1,COLUMN())))+1,1)","v":55},null,null,null,null,null,"二酸化炭素排出量(t)"]
[null,null,null,null,null,null,"延床面積(㎡)"]
[{"$f":"IFERROR(MAX(INDIRECT(ADDRESS(1,COLUMN())):INDIRECT(ADDRESS(ROW()-1,COLUMN())))+1,1)","v":56},null,null,null,null,null,"二酸化炭素排出量(t)"]
[null,null,null,null,null,null,"延床面積(㎡)"]
[{"$f":"IFERROR(MAX(INDIRECT(ADDRESS(1,COLUMN())):INDIRECT(ADDRESS(ROW()-1,COLUMN())))+1,1)","v":57},null,null,null,null,null,"二酸化炭素排出量(t)"]
[null,null,null,null,null,null,"延床面積(㎡)"]
[{"$f":"IFERROR(MAX(INDIRECT(ADDRESS(1,COLUMN())):INDIRECT(ADDRESS(ROW()-1,COLUMN())))+1,1)","v":58},null,null,null,null,null,"二酸化炭素排出量(t)"]
[null,null,null,null,null,null,"延床面積(㎡)"]
[{"$f":"IFERROR(MAX(INDIRECT(ADDRESS(1,COLUMN())):INDIRECT(ADDRESS(ROW()-1,COLUMN())))+1,1)","v":59},null,null,null,null,null,"二酸化炭素排出量(t)"]
[null,null,null,null,null,null,"延床面積(㎡)"]
[{"$f":"IFERROR(MAX(INDIRECT(ADDRESS(1,COLUMN())):INDIRECT(ADDRESS(ROW()-1,COLUMN())))+1,1)","v":60},null,null,null,null,null,"二酸化炭素排出量(t)"]
[null,null,null,null,null,null,"延床面積(㎡)"]
[{"$f":"IFERROR(MAX(INDIRECT(ADDRESS(1,COLUMN())):INDIRECT(ADDRESS(ROW()-1,COLUMN())))+1,1)","v":61},null,null,null,null,null,"二酸化炭素排出量(t)"]
[null,null,null,null,null,null,"延床面積(㎡)"]
[{"$f":"IFERROR(MAX(INDIRECT(ADDRESS(1,COLUMN())):INDIRECT(ADDRESS(ROW()-1,COLUMN())))+1,1)","v":62},null,null,null,null,null,"二酸化炭素排出量(t)"]
[null,null,null,null,null,null,"延床面積(㎡)"]
[{"$f":"IFERROR(MAX(INDIRECT(ADDRESS(1,COLUMN())):INDIRECT(ADDRESS(ROW()-1,COLUMN())))+1,1)","v":63},null,null,null,null,null,"二酸化炭素排出量(t)"]
[null,null,null,null,null,null,"延床面積(㎡)"]
[{"$f":"IFERROR(MAX(INDIRECT(ADDRESS(1,COLUMN())):INDIRECT(ADDRESS(ROW()-1,COLUMN())))+1,1)","v":64},null,null,null,null,null,"二酸化炭素排出量(t)"]
[null,null,null,null,null,null,"延床面積(㎡)"]
[{"$f":"IFERROR(MAX(INDIRECT(ADDRESS(1,COLUMN())):INDIRECT(ADDRESS(ROW()-1,COLUMN())))+1,1)","v":65},null,null,null,null,null,"二酸化炭素排出量(t)"]
[null,null,null,null,null,null,"延床面積(㎡)"]
[{"$f":"IFERROR(MAX(INDIRECT(ADDRESS(1,COLUMN())):INDIRECT(ADDRESS(ROW()-1,COLUMN())))+1,1)","v":66},null,null,null,null,null,"二酸化炭素排出量(t)"]
[null,null,null,null,null,null,"延床面積(㎡)"]
[{"$f":"IFERROR(MAX(INDIRECT(ADDRESS(1,COLUMN())):INDIRECT(ADDRESS(ROW()-1,COLUMN())))+1,1)","v":67},null,null,null,null,null,"二酸化炭素排出量(t)"]
[null,null,null,null,null,null,"延床面積(㎡)"]
[{"$f":"IFERROR(MAX(INDIRECT(ADDRESS(1,COLUMN())):INDIRECT(ADDRESS(ROW()-1,COLUMN())))+1,1)","v":68},null,null,null,null,null,"二酸化炭素排出量(t)"]
[null,null,null,null,null,null,"延床面積(㎡)"]
[{"$f":"IFERROR(MAX(INDIRECT(ADDRESS(1,COLUMN())):INDIRECT(ADDRESS(ROW()-1,COLUMN())))+1,1)","v":69},null,null,null,null,null,"二酸化炭素排出量(t)"]
[null,null,null,null,null,null,"延床面積(㎡)"]
[{"$f":"IFERROR(MAX(INDIRECT(ADDRESS(1,COLUMN())):INDIRECT(ADDRESS(ROW()-1,COLUMN())))+1,1)","v":70},null,null,null,null,null,"二酸化炭素排出量(t)"]
[null,null,null,null,null,null,"延床面積(㎡)"]
[{"$f":"IFERROR(MAX(INDIRECT(ADDRESS(1,COLUMN())):INDIRECT(ADDRESS(ROW()-1,COLUMN())))+1,1)","v":71},null,null,null,null,null,"二酸化炭素排出量(t)"]
[null,null,null,null,null,null,"延床面積(㎡)"]
[{"$f":"IFERROR(MAX(INDIRECT(ADDRESS(1,COLUMN())):INDIRECT(ADDRESS(ROW()-1,COLUMN())))+1,1)","v":72},null,null,null,null,null,"二酸化炭素排出量(t)"]
[null,null,null,null,null,null,"延床面積(㎡)"]
[{"$f":"IFERROR(MAX(INDIRECT(ADDRESS(1,COLUMN())):INDIRECT(ADDRESS(ROW()-1,COLUMN())))+1,1)","v":73},null,null,null,null,null,"二酸化炭素排出量(t)"]
[null,null,null,null,null,null,"延床面積(㎡)"]
[{"$f":"IFERROR(MAX(INDIRECT(ADDRESS(1,COLUMN())):INDIRECT(ADDRESS(ROW()-1,COLUMN())))+1,1)","v":74},null,null,null,null,null,"二酸化炭素排出量(t)"]
[null,null,null,null,null,null,"延床面積(㎡)"]
[{"$f":"IFERROR(MAX(INDIRECT(ADDRESS(1,COLUMN())):INDIRECT(ADDRESS(ROW()-1,COLUMN())))+1,1)","v":75},null,null,null,null,null,"二酸化炭素排出量(t)"]
[null,null,null,null,null,null,"延床面積(㎡)"]
[{"$f":"IFERROR(MAX(INDIRECT(ADDRESS(1,COLUMN())):INDIRECT(ADDRESS(ROW()-1,COLUMN())))+1,1)","v":76},null,null,null,null,null,"二酸化炭素排出量(t)"]
[null,null,null,null,null,null,"延床面積(㎡)"]
[{"$f":"IFERROR(MAX(INDIRECT(ADDRESS(1,COLUMN())):INDIRECT(ADDRESS(ROW()-1,COLUMN())))+1,1)","v":77},null,null,null,null,null,"二酸化炭素排出量(t)"]
[null,null,null,null,null,null,"延床面積(㎡)"]
[{"$f":"IFERROR(MAX(INDIRECT(ADDRESS(1,COLUMN())):INDIRECT(ADDRESS(ROW()-1,COLUMN())))+1,1)","v":78},null,null,null,null,null,"二酸化炭素排出量(t)"]
[null,null,null,null,null,null,"延床面積(㎡)"]
[{"$f":"IFERROR(MAX(INDIRECT(ADDRESS(1,COLUMN())):INDIRECT(ADDRESS(ROW()-1,COLUMN())))+1,1)","v":79},null,null,null,null,null,"二酸化炭素排出量(t)"]
[null,null,null,null,null,null,"延床面積(㎡)"]
[{"$f":"IFERROR(MAX(INDIRECT(ADDRESS(1,COLUMN())):INDIRECT(ADDRESS(ROW()-1,COLUMN())))+1,1)","v":80},null,null,null,null,null,"二酸化炭素排出量(t)"]
[null,null,null,null,null,null,"延床面積(㎡)"]
[{"$f":"IFERROR(MAX(INDIRECT(ADDRESS(1,COLUMN())):INDIRECT(ADDRESS(ROW()-1,COLUMN())))+1,1)","v":81},null,null,null,null,null,"二酸化炭素排出量(t)"]
[null,null,null,null,null,null,"延床面積(㎡)"]
[{"$f":"IFERROR(MAX(INDIRECT(ADDRESS(1,COLUMN())):INDIRECT(ADDRESS(ROW()-1,COLUMN())))+1,1)","v":82},null,null,null,null,null,"二酸化炭素排出量(t)"]
[null,null,null,null,null,null,"延床面積(㎡)"]
[{"$f":"IFERROR(MAX(INDIRECT(ADDRESS(1,COLUMN())):INDIRECT(ADDRESS(ROW()-1,COLUMN())))+1,1)","v":83},null,null,null,null,null,"二酸化炭素排出量(t)"]
[null,null,null,null,null,null,"延床面積(㎡)"]
[{"$f":"IFERROR(MAX(INDIRECT(ADDRESS(1,COLUMN())):INDIRECT(ADDRESS(ROW()-1,COLUMN())))+1,1)","v":84},null,null,null,null,null,"二酸化炭素排出量(t)"]
[null,null,null,null,null,null,"延床面積(㎡)"]
[{"$f":"IFERROR(MAX(INDIRECT(ADDRESS(1,COLUMN())):INDIRECT(ADDRESS(ROW()-1,COLUMN())))+1,1)","v":85},null,null,null,null,null,"二酸化炭素排出量(t)"]
[null,null,null,null,null,null,"延床面積(㎡)"]
[{"$f":"IFERROR(MAX(INDIRECT(ADDRESS(1,COLUMN())):INDIRECT(ADDRESS(ROW()-1,COLUMN())))+1,1)","v":86},null,null,null,null,null,"二酸化炭素排出量(t)"]
[null,null,null,null,null,null,"延床面積(㎡)"]
[{"$f":"IFERROR(MAX(INDIRECT(ADDRESS(1,COLUMN())):INDIRECT(ADDRESS(ROW()-1,COLUMN())))+1,1)","v":87},null,null,null,null,null,"二酸化炭素排出量(t)"]
[null,null,null,null,null,null,"延床面積(㎡)"]
[{"$f":"IFERROR(MAX(INDIRECT(ADDRESS(1,COLUMN())):INDIRECT(ADDRESS(ROW()-1,COLUMN())))+1,1)","v":88},null,null,null,null,null,"二酸化炭素排出量(t)"]
[null,null,null,null,null,null,"延床面積(㎡)"]
[{"$f":"IFERROR(MAX(INDIRECT(ADDRESS(1,COLUMN())):INDIRECT(ADDRESS(ROW()-1,COLUMN())))+1,1)","v":89},null,null,null,null,null,"二酸化炭素排出量(t)"]
[null,null,null,null,null,null,"延床面積(㎡)"]
[{"$f":"IFERROR(MAX(INDIRECT(ADDRESS(1,COLUMN())):INDIRECT(ADDRESS(ROW()-1,COLUMN())))+1,1)","v":90},null,null,null,null,null,"二酸化炭素排出量(t)"]
[null,null,null,null,null,null,"延床面積(㎡)"]
[{"$f":"IFERROR(MAX(INDIRECT(ADDRESS(1,COLUMN())):INDIRECT(ADDRESS(ROW()-1,COLUMN())))+1,1)","v":91},null,null,null,null,null,"二酸化炭素排出量(t)"]
[null,null,null,null,null,null,"延床面積(㎡)"]
[{"$f":"IFERROR(MAX(INDIRECT(ADDRESS(1,COLUMN())):INDIRECT(ADDRESS(ROW()-1,COLUMN())))+1,1)","v":92},null,null,null,null,null,"二酸化炭素排出量(t)"]
[null,null,null,null,null,null,"延床面積(㎡)"]
[{"$f":"IFERROR(MAX(INDIRECT(ADDRESS(1,COLUMN())):INDIRECT(ADDRESS(ROW()-1,COLUMN())))+1,1)","v":93},null,null,null,null,null,"二酸化炭素排出量(t)"]
[null,null,null,null,null,null,"延床面積(㎡)"]
[{"$f":"IFERROR(MAX(INDIRECT(ADDRESS(1,COLUMN())):INDIRECT(ADDRESS(ROW()-1,COLUMN())))+1,1)","v":94},null,null,null,null,null,"二酸化炭素排出量(t)"]
[null,null,null,null,null,null,"延床面積(㎡)"]
[{"$f":"IFERROR(MAX(INDIRECT(ADDRESS(1,COLUMN())):INDIRECT(ADDRESS(ROW()-1,COLUMN())))+1,1)","v":95},null,null,null,null,null,"二酸化炭素排出量(t)"]
[null,null,null,null,null,null,"延床面積(㎡)"]
[{"$f":"IFERROR(MAX(INDIRECT(ADDRESS(1,COLUMN())):INDIRECT(ADDRESS(ROW()-1,COLUMN())))+1,1)","v":96},null,null,null,null,null,"二酸化炭素排出量(t)"]
[null,null,null,null,null,null,"延床面積(㎡)"]
[{"$f":"IFERROR(MAX(INDIRECT(ADDRESS(1,COLUMN())):INDIRECT(ADDRESS(ROW()-1,COLUMN())))+1,1)","v":97},null,null,null,null,null,"二酸化炭素排出量(t)"]
[null,null,null,null,null,null,"延床面積(㎡)"]
[{"$f":"IFERROR(MAX(INDIRECT(ADDRESS(1,COLUMN())):INDIRECT(ADDRESS(ROW()-1,COLUMN())))+1,1)","v":98},null,null,null,null,null,"二酸化炭素排出量(t)"]
[null,null,null,null,null,null,"延床面積(㎡)"]
[{"$f":"IFERROR(MAX(INDIRECT(ADDRESS(1,COLUMN())):INDIRECT(ADDRESS(ROW()-1,COLUMN())))+1,1)","v":99},null,null,null,null,null,"二酸化炭素排出量(t)"]
[null,null,null,null,null,null,"延床面積(㎡)"]
[{"$f":"IFERROR(MAX(INDIRECT(ADDRESS(1,COLUMN())):INDIRECT(ADDRESS(ROW()-1,COLUMN())))+1,1)","v":100},null,null,null,null,null,"二酸化炭素排出量(t)"]
[null,null,null,null,null,null,"延床面積(㎡)"]

{"sheet":"③","index":8,"n_rows":210,"n_cols":14,"rows_kept":210,"cut":false,"hidden":false,"merged":[[8,13,9,13],[9,6,9,7],[10,0,11,0],[10,1,11,1],[10,2,11,5],[10,6,10,7],[10,13,11,13],[11,6,11,7],[2,0,2,1],[3,0,3,1],[4,0,4,1],[7,2,7,5],[7,6,7,7],[8,0,9,0],[8,1,9,1],[8,2,9,5],[8,6,8,7],[14,0,15,0],[14,1,15,1],[14,2,15,5],[14,6,14,7],[14,13,15,13],[15,6,15,7],[12,0,13,0],[12,1,13,1],[12,2,13,5],[12,6,12,7],[12,13,13,13],[13,6,13,7],[18,0,19,0],[18,1,19,1],[18,2,19,5],[18,6,18,7],[18,13,19,13],[19,6,19,7],[16,0,17,0],[16,1,17,1],[16,2,17,5],[16,6,16,7],[16,13,17,13],[17,6,17,7],[22,0,23,0],[22,1,23,1],[22,2,23,5],[22,6,22,7],[22,13,23,13],[23,6,23,7],[20,0,21,0],[20,1,21,1],[20,2,21,5],[20,6,20,7],[20,13,21,13],[21,6,21,7],[26,0,27,0],[26,1,27,1],[26,2,27,5],[26,6,26,7],[26,13,27,13],[27,6,27,7],[24,0,25,0],[24,1,25,1],[24,2,25,5],[24,6,24,7],[24,13,25,13],[25,6,25,7],[30,0,31,0],[30,1,31,1],[30,2,31,5],[30,6,30,7],[30,13,31,13],[31,6,31,7],[28,0,29,0],[28,1,29,1],[28,2,29,5],[28,6,28,7],[28,13,29,13],[29,6,29,7],[34,0,35,0],[34,1,35,1],[34,2,35,5],[34,6,34,7],[34,13,35,13],[35,6,35,7],[32,0,33,0],[32,1,33,1],[32,2,33,5],[32,6,32,7],[32,13,33,13],[33,6,33,7],[38,0,39,0],[38,1,39,1],[38,2,39,5],[38,6,38,7],[38,13,39,13],[39,6,39,7],[36,0,37,0],[36,1,37,1],[36,2,37,5],[36,6,36,7],[36,13,37,13],[37,6,37,7],[42,0,43,0],[42,1,43,1],[42,2,43,5],[42,6,42,7],[42,13,43,13],[43,6,43,7],[40,0,41,0],[40,1,41,1],[40,2,41,5],[40,6,40,7],[40,13,41,13],[41,6,41,7],[46,0,47,0],[46,1,47,1],[46,2,47,5],[46,6,46,7],[46,13,47,13],[47,6,47,7],[44,0,45,0],[44,1,45,1],[44,2,45,5],[44,6,44,7],[44,13,45,13],[45,6,45,7],[50,0,51,0],[50,1,51,1],[50,2,51,5],[50,6,50,7],[50,13,51,13],[51,6,51,7],[48,0,49,0],[48,1,49,1],[48,2,49,5],[48,6,48,7],[48,13,49,13],[49,6,49,7],[54,0,55,0],[54,1,55,1],[54,2,55,5],[54,6,54,7],[54,13,55,13],[55,6,55,7],[52,0,53,0],[52,1,53,1],[52,2,53,5],[52,6,52,7],[52,13,53,13],[53,6,53,7],[58,0,59,0],[58,1,59,1],[58,2,59,5],[58,6,58,7],[58,13,59,13],[59,6,59,7],[56,0,57,0],[56,1,57,1],[56,2,57,5],[56,6,56,7],[56,13,57,13],[57,6,57,7],[62,0,63,0],[62,1,63,1],[62,2,63,5],[62,6,62,7],[62,13,63,13],[63,6,63,7],[60,0,61,0],[60,1,61,1],[60,2,61,5],[60,6,60,7],[60,13,61,13],[61,6,61,7],[66,0,67,0],[66,1,67,1],[66,2,67,5],[66,6,66,7],[66,13,67,13],[67,6,67,7],[64,0,65,0],[64,1,65,1],[64,2,65,5],[64,6,64,7],[64,13,65,13],[65,6,65,7],[70,0,71,0],[70,1,71,1],[70,2,71,5],[70,6,70,7],[70,13,71,13],[71,6,71,7],[68,0,69,0],[68,1,69,1],[68,2,69,5],[68,6,68,7],[68,13,69,13],[69,6,69,7],[74,0,75,0],[74,1,75,1],[74,2,75,5],[74,6,74,7],[74,13,75,13],[75,6,75,7],[72,0,73,0],[72,1,73,1],[72,2,73,5],[72,6,72,7],[72,13,73,13],[73,6,73,7],[78,0,79,0],[78,1,79,1],[78,2,79,5],[78,6,78,7],[78,13,79,13],[79,6,79,7],[76,0,77,0],[76,1,77,1],[76,2,77,5],[76,6,76,7],[76,13,77,13],[77,6,77,7],[82,0,83,0],[82,1,83,1],[82,2,83,5],[82,6,82,7],[82,13,83,13],[83,6,83,7],[80,0,81,0],[80,1,81,1],[80,2,81,5],[80,6,80,7],[80,13,81,13],[81,6,81,7],[86,0,87,0],[86,1,87,1],[86,2,87,5],[86,6,86,7],[86,13,87,13],[87,6,87,7],[84,0,85,0],[84,1,85,1],[84,2,85,5],[84,6,84,7],[84,13,85,13],[85,6,85,7],[90,0,91,0],[90,1,91,1],[90,2,91,5],[90,6,90,7],[90,13,91,13],[91,6,91,7],[88,0,89,0],[88,1,89,1],[88,2,89,5],[88,6,88,7],[88,13,89,13],[89,6,89,7],[94,0,95,0],[94,1,95,1],[94,2,95,5],[94,6,94,7],[94,13,95,13],[95,6,95,7],[92,0,93,0],[92,1,93,1],[92,2,93,5],[92,6,92,7],[92,13,93,13],[93,6,93,7],[98,0,99,0],[98,1,99,1],[98,2,99,5],[98,6,98,7],[98,13,99,13],[99,6,99,7],[96,0,97,0],[96,1,97,1],[96,2,97,5],[96,6,96,7],[96,13,97,13],[97,6,97,7],[102,0,103,0],[102,1,103,1],[102,2,103,5],[102,6,102,7],[102,13,103,13],[103,6,103,7],[100,0,101,0],[100,1,101,1],[100,2,101,5],[100,6,100,7],[100,13,101,13],[101,6,101,7],[108,0,109,0],[106,0,107,0],[106,1,107,1],[106,2,107,5],[106,6,106,7],[106,13,107,13],[107,6,107,7],[104,0,105,0],[104,1,105,1],[104,2,105,5],[104,6,104,7],[104,13,105,13],[105,6,105,7],[108,1,109,1],[108,2,109,5],[108,6,108,7],[108,13,109,13],[109,6,109,7],[140,0,141,0],[118,0,119,0],[120,0,121,0],[122,0,123,0],[124,0,125,0],[126,0,127,0],[128,0,129,0],[110,0,111,0],[112,0,113,0],[114,0,115,0],[116,0,117,0],[130,0,131,0],[132,0,133,0],[134,0,135,0],[136,0,137,0],[138,0,139,0],[166,0,167,0],[168,0,169,0],[154,0,155,0],[156,0,157,0],[158,0,159,0],[160,0,161,0],[162,0,163,0],[164,0,165,0],[142,0,143,0],[144,0,145,0],[146,0,147,0],[148,0,149,0],[150,0,151,0],[152,0,153,0],[112,1,113,1],[112,2,113,5],[112,6,112,7],[112,13,113,13],[113,6,113,7],[114,1,115,1],[114,2,115,5],[114,6,114,7],[114,13,115,13],[115,6,115,7],[116,1,117,1],[116,2,117,5],[116,6,116,7],[116,13,117,13],[117,6,117,7],[118,1,119,1],[118,2,119,5],[118,6,118,7],[118,13,119,13],[119,6,119,7],[120,1,121,1],[120,2,121,5],[120,6,120,7],[120,13,121,13],[121,6,121,7],[122,1,123,1],[122,2,123,5],[122,6,122,7],[122,13,123,13],[123,6,123,7],[124,1,125,1],[124,2,125,5],[124,6,124,7],[124,13,125,13],[125,6,125,7],[126,1,127,1],[126,2,127,5],[126,6,126,7],[126,13,127,13],[127,6,127,7],[128,1,129,1],[128,2,129,5],[128,6,128,7],[128,13,129,13],[129,6,129,7],[130,1,131,1],[130,2,131,5],[130,6,130,7],[130,13,131,13],[131,6,131,7],[132,1,133,1],[132,2,133,5],[132,6,132,7],[132,13,133,13],[133,6,133,7],[134,1,135,1],[134,2,135,5],[134,6,134,7],[134,13,135,13],[135,6,135,7],[141,6,141,7],[142,1,143,1],[142,2,143,5],[142,6,142,7],[142,13,143,13],[143,6,143,7],[136,1,137,1],[136,2,137,5],[136,6,136,7],[136,13,137,13],[137,6,137,7],[138,1,139,1],[138,2,139,5],[138,6,138,7],[138,13,139,13],[139,6,139,7],[110,1,111,1],[110,2,111,5],[110,6,110,7],[110,13,111,13],[111,6,111,7],[148,1,149,1],[148,2,149,5],[148,6,148,7],[148,13,149,13],[149,6,149,7],[144,1,145,1],[144,2,145,5],[144,6,144,7],[144,13,145,13],[145,6,145,7],[146,1,147,1],[146,2,147,5],[146,6,146,7],[146,13,147,13],[147,6,147,7],[140,1,141,1],[140,2,141,5],[140,6,140,7],[140,13,141,13],[150,1,151,1],[150,2,151,5],[150,6,150,7],[150,13,151,13],[151,6,151,7],[152,1,153,1],[152,2,153,5],[152,6,152,7],[152,13,153,13],[153,6,153,7],[154,1,155,1],[154,2,155,5],[154,6,154,7],[154,13,155,13],[155,6,155,7],[156,1,157,1],[156,2,157,5],[156,6,156,7],[156,13,157,13],[157,6,157,7],[158,1,159,1],[158,2,159,5],[158,6,158,7],[158,13,159,13],[159,6,159,7],[160,1,161,1],[160,2,161,5],[160,6,160,7],[160,13,161,13],[161,6,161,7],[162,1,163,1],[162,2,163,5],[162,6,162,7],[162,13,163,13],[163,6,163,7],[164,1,165,1],[164,2,165,5],[164,6,164,7],[164,13,165,13],[165,6,165,7],[166,1,167,1],[166,2,167,5],[166,6,166,7],[166,13,167,13],[167,6,167,7],[168,1,169,1],[168,2,169,5],[168,6,168,7],[168,13,169,13],[169,6,169,7],[170,0,171,0],[170,1,171,1],[170,2,171,5],[170,6,170,7],[170,13,171,13],[171,6,171,7],[172,0,173,0],[172,1,173,1],[172,2,173,5],[172,6,172,7],[172,13,173,13],[173,6,173,7],[174,0,175,0],[174,1,175,1],[174,2,175,5],[174,6,174,7],[174,13,175,13],[175,6,175,7],[176,0,177,0],[176,1,177,1],[176,2,177,5],[176,6,176,7],[176,13,177,13],[177,6,177,7],[178,0,179,0],[178,1,179,1],[178,2,179,5],[178,6,178,7],[178,13,179,13],[179,6,179,7],[180,0,181,0],[180,1,181,1],[180,2,181,5],[180,6,180,7],[180,13,181,13],[181,6,181,7],[182,0,183,0],[182,1,183,1],[182,2,183,5],[182,6,182,7],[182,13,183,13],[183,6,183,7],[184,0,185,0],[184,1,185,1],[184,2,185,5],[184,6,184,7],[184,13,185,13],[185,6,185,7],[186,0,187,0],[186,1,187,1],[186,2,187,5],[186,6,186,7],[186,13,187,13],[187,6,187,7],[188,0,189,0],[188,1,189,1],[188,2,189,5],[188,6,188,7],[188,13,189,13],[189,6,189,7],[190,0,191,0],[190,1,191,1],[190,2,191,5],[190,6,190,7],[190,13,191,13],[191,6,191,7],[192,0,193,0],[192,1,193,1],[192,2,193,5],[192,6,192,7],[192,13,193,13],[193,6,193,7],[194,0,195,0],[194,1,195,1],[194,2,195,5],[194,6,194,7],[194,13,195,13],[195,6,195,7],[196,0,197,0],[196,1,197,1],[196,2,197,5],[196,6,196,7],[196,13,197,13],[197,6,197,7],[198,0,199,0],[198,1,199,1],[198,2,199,5],[198,6,198,7],[198,13,199,13],[199,6,199,7],[200,0,201,0],[200,1,201,1],[200,2,201,5],[200,6,200,7],[200,13,201,13],[201,6,201,7],[202,0,203,0],[202,1,203,1],[202,2,203,5],[202,6,202,7],[202,13,203,13],[203,6,203,7],[204,0,205,0],[204,1,205,1],[204,2,205,5],[204,6,204,7],[204,13,205,13],[205,6,205,7],[206,0,207,0],[206,1,207,1],[206,2,207,5],[206,6,206,7],[206,13,207,13],[207,6,207,7],[208,0,209,0],[208,1,209,1],[208,2,209,5],[208,6,208,7],[208,13,209,13],[209,6,209,7]]}
[]
["♯今回報告書を提出する事業所のうち、合併前に消滅会社が報告を行っていた中小規模事業所の実績を青色セルにご記入ください。"]
["補正値合計",null,{"$f":"補正結果!O14","v":"2015年度"},{"$f":"補正結果!U14","v":"2016年度"},{"$f":"補正結果!AA14","v":"2017年度"},{"$f":"補正結果!AG14","v":"2018年度"}]
["補正二酸化炭素排出量（t）",null,{"$f":"SUMIF(G:H,\"二酸化炭素排出量(t)\",I:I)","v":0},{"$f":"SUMIF(G:H,\"二酸化炭素排出量(t)\",J:J)","v":0},{"$f":"SUMIF(G:H,\"二酸化炭素排出量(t)\",K:K)","v":0},{"$f":"SUMIF(G:H,\"二酸化炭素排出量(t)\",L:L)","v":0}]
["補正延床面積（㎡）",null,{"$f":"SUMIF(G:H,\"延床面積(㎡)\",I:I)","v":0},{"$f":"SUMIF(G:H,\"延床面積(㎡)\",J:J)","v":0},{"$f":"SUMIF(G:H,\"延床面積(㎡)\",K:K)","v":0},{"$f":"SUMIF(G:H,\"延床面積(㎡)\",L:L)","v":0}]
[]
[]
["No.","事業所番号","事業所名",null,null,null,"報告項目",null,{"$f":"補正結果!O14","v":"2015年度"},{"$f":"補正結果!U14","v":"2016年度"},{"$f":"補正結果!AA14","v":"2017年度"},{"$f":"補正結果!AG14","v":"2018年度"},{"$f":"補正結果!AM14","v":"2019年度"},"エラーチェック"]
[{"$f":"IFERROR(MAX(INDIRECT(ADDRESS(1,COLUMN())):INDIRECT(ADDRESS(ROW()-1,COLUMN())))+1,1)","v":1},null,null,null,null,null,"二酸化炭素排出量(t)"]
[null,null,null,null,null,null,"延床面積(㎡)"]
[1,null,null,null,null,null,"二酸化炭素排出量(t)"]
[null,null,null,null,null,null,"延床面積(㎡)"]
[{"$f":"IFERROR(MAX(INDIRECT(ADDRESS(1,COLUMN())):INDIRECT(ADDRESS(ROW()-1,COLUMN())))+1,1)","v":2},null,null,null,null,null,"二酸化炭素排出量(t)"]
[null,null,null,null,null,null,"延床面積(㎡)"]
[{"$f":"IFERROR(MAX(INDIRECT(ADDRESS(1,COLUMN())):INDIRECT(ADDRESS(ROW()-1,COLUMN())))+1,1)","v":3},null,null,null,null,null,"二酸化炭素排出量(t)"]
[null,null,null,null,null,null,"延床面積(㎡)"]
[{"$f":"IFERROR(MAX(INDIRECT(ADDRESS(1,COLUMN())):INDIRECT(ADDRESS(ROW()-1,COLUMN())))+1,1)","v":4},null,null,null,null,null,"二酸化炭素排出量(t)"]
[null,null,null,null,null,null,"延床面積(㎡)"]
[{"$f":"IFERROR(MAX(INDIRECT(ADDRESS(1,COLUMN())):INDIRECT(ADDRESS(ROW()-1,COLUMN())))+1,1)","v":5},null,null,null,null,null,"二酸化炭素排出量(t)"]
[null,null,null,null,null,null,"延床面積(㎡)"]
[{"$f":"IFERROR(MAX(INDIRECT(ADDRESS(1,COLUMN())):INDIRECT(ADDRESS(ROW()-1,COLUMN())))+1,1)","v":6},null,null,null,null,null,"二酸化炭素排出量(t)"]
[null,null,null,null,null,null,"延床面積(㎡)"]
[{"$f":"IFERROR(MAX(INDIRECT(ADDRESS(1,COLUMN())):INDIRECT(ADDRESS(ROW()-1,COLUMN())))+1,1)","v":7},null,null,null,null,null,"二酸化炭素排出量(t)"]
[null,null,null,null,null,null,"延床面積(㎡)"]
[{"$f":"IFERROR(MAX(INDIRECT(ADDRESS(1,COLUMN())):INDIRECT(ADDRESS(ROW()-1,COLUMN())))+1,1)","v":8},null,null,null,null,null,"二酸化炭素排出量(t)"]
[null,null,null,null,null,null,"延床面積(㎡)"]
[{"$f":"IFERROR(MAX(INDIRECT(ADDRESS(1,COLUMN())):INDIRECT(ADDRESS(ROW()-1,COLUMN())))+1,1)","v":9},null,null,null,null,null,"二酸化炭素排出量(t)"]
[null,null,null,null,null,null,"延床面積(㎡)"]
[{"$f":"IFERROR(MAX(INDIRECT(ADDRESS(1,COLUMN())):INDIRECT(ADDRESS(ROW()-1,COLUMN())))+1,1)","v":10},null,null,null,null,null,"二酸化炭素排出量(t)"]
[null,null,null,null,null,null,"延床面積(㎡)"]
[{"$f":"IFERROR(MAX(INDIRECT(ADDRESS(1,COLUMN())):INDIRECT(ADDRESS(ROW()-1,COLUMN())))+1,1)","v":11},null,null,null,null,null,"二酸化炭素排出量(t)"]
[null,null,null,null,null,null,"延床面積(㎡)"]
[{"$f":"IFERROR(MAX(INDIRECT(ADDRESS(1,COLUMN())):INDIRECT(ADDRESS(ROW()-1,COLUMN())))+1,1)","v":12},null,null,null,null,null,"二酸化炭素排出量(t)"]
[null,null,null,null,null,null,"延床面積(㎡)"]
[{"$f":"IFERROR(MAX(INDIRECT(ADDRESS(1,COLUMN())):INDIRECT(ADDRESS(ROW()-1,COLUMN())))+1,1)","v":13},null,null,null,null,null,"二酸化炭素排出量(t)"]
[null,null,null,null,null,null,"延床面積(㎡)"]
[{"$f":"IFERROR(MAX(INDIRECT(ADDRESS(1,COLUMN())):INDIRECT(ADDRESS(ROW()-1,COLUMN())))+1,1)","v":14},null,null,null,null,null,"二酸化炭素排出量(t)"]
[null,null,null,null,null,null,"延床面積(㎡)"]
[{"$f":"IFERROR(MAX(INDIRECT(ADDRESS(1,COLUMN())):INDIRECT(ADDRESS(ROW()-1,COLUMN())))+1,1)","v":15},null,null,null,null,null,"二酸化炭素排出量(t)"]
[null,null,null,null,null,null,"延床面積(㎡)"]
[{"$f":"IFERROR(MAX(INDIRECT(ADDRESS(1,COLUMN())):INDIRECT(ADDRESS(ROW()-1,COLUMN())))+1,1)","v":16},null,null,null,null,null,"二酸化炭素排出量(t)"]
[null,null,null,null,null,null,"延床面積(㎡)"]
[{"$f":"IFERROR(MAX(INDIRECT(ADDRESS(1,COLUMN())):INDIRECT(ADDRESS(ROW()-1,COLUMN())))+1,1)","v":17},null,null,null,null,null,"二酸化炭素排出量(t)"]
[null,null,null,null,null,null,"延床面積(㎡)"]
[{"$f":"IFERROR(MAX(INDIRECT(ADDRESS(1,COLUMN())):INDIRECT(ADDRESS(ROW()-1,COLUMN())))+1,1)","v":18},null,null,null,null,null,"二酸化炭素排出量(t)"]
[null,null,null,null,null,null,"延床面積(㎡)"]
[{"$f":"IFERROR(MAX(INDIRECT(ADDRESS(1,COLUMN())):INDIRECT(ADDRESS(ROW()-1,COLUMN())))+1,1)","v":19},null,null,null,null,null,"二酸化炭素排出量(t)"]
[null,null,null,null,null,null,"延床面積(㎡)"]
[{"$f":"IFERROR(MAX(INDIRECT(ADDRESS(1,COLUMN())):INDIRECT(ADDRESS(ROW()-1,COLUMN())))+1,1)","v":20},null,null,null,null,null,"二酸化炭素排出量(t)"]
[null,null,null,null,null,null,"延床面積(㎡)"]
[{"$f":"IFERROR(MAX(INDIRECT(ADDRESS(1,COLUMN())):INDIRECT(ADDRESS(ROW()-1,COLUMN())))+1,1)","v":21},null,null,null,null,null,"二酸化炭素排出量(t)"]
[null,null,null,null,null,null,"延床面積(㎡)"]
[{"$f":"IFERROR(MAX(INDIRECT(ADDRESS(1,COLUMN())):INDIRECT(ADDRESS(ROW()-1,COLUMN())))+1,1)","v":22},null,null,null,null,null,"二酸化炭素排出量(t)"]
[null,null,null,null,null,null,"延床面積(㎡)"]
[{"$f":"IFERROR(MAX(INDIRECT(ADDRESS(1,COLUMN())):INDIRECT(ADDRESS(ROW()-1,COLUMN())))+1,1)","v":23},null,null,null,null,null,"二酸化炭素排出量(t)"]
[null,null,null,null,null,null,"延床面積(㎡)"]
[{"$f":"IFERROR(MAX(INDIRECT(ADDRESS(1,COLUMN())):INDIRECT(ADDRESS(ROW()-1,COLUMN())))+1,1)","v":24},null,null,null,null,null,"二酸化炭素排出量(t)"]
[null,null,null,null,null,null,"延床面積(㎡)"]
[{"$f":"IFERROR(MAX(INDIRECT(ADDRESS(1,COLUMN())):INDIRECT(ADDRESS(ROW()-1,COLUMN())))+1,1)","v":25},null,null,null,null,null,"二酸化炭素排出量(t)"]
[null,null,null,null,null,null,"延床面積(㎡)"]
[{"$f":"IFERROR(MAX(INDIRECT(ADDRESS(1,COLUMN())):INDIRECT(ADDRESS(ROW()-1,COLUMN())))+1,1)","v":26},null,null,null,null,null,"二酸化炭素排出量(t)"]
[null,null,null,null,null,null,"延床面積(㎡)"]
[{"$f":"IFERROR(MAX(INDIRECT(ADDRESS(1,COLUMN())):INDIRECT(ADDRESS(ROW()-1,COLUMN())))+1,1)","v":27},null,null,null,null,null,"二酸化炭素排出量(t)"]
[null,null,null,null,null,null,"延床面積(㎡)"]
[{"$f":"IFERROR(MAX(INDIRECT(ADDRESS(1,COLUMN())):INDIRECT(ADDRESS(ROW()-1,COLUMN())))+1,1)","v":28},null,null,null,null,null,"二酸化炭素排出量(t)"]
[null,null,null,null,null,null,"延床面積(㎡)"]
[{"$f":"IFERROR(MAX(INDIRECT(ADDRESS(1,COLUMN())):INDIRECT(ADDRESS(ROW()-1,COLUMN())))+1,1)","v":29},null,null,null,null,null,"二酸化炭素排出量(t)"]
[null,null,null,null,null,null,"延床面積(㎡)"]
[{"$f":"IFERROR(MAX(INDIRECT(ADDRESS(1,COLUMN())):INDIRECT(ADDRESS(ROW()-1,COLUMN())))+1,1)","v":30},null,null,null,null,null,"二酸化炭素排出量(t)"]
[null,null,null,null,null,null,"延床面積(㎡)"]
[{"$f":"IFERROR(MAX(INDIRECT(ADDRESS(1,COLUMN())):INDIRECT(ADDRESS(ROW()-1,COLUMN())))+1,1)","v":31},null,null,null,null,null,"二酸化炭素排出量(t)"]
[null,null,null,null,null,null,"延床面積(㎡)"]
[{"$f":"IFERROR(MAX(INDIRECT(ADDRESS(1,COLUMN())):INDIRECT(ADDRESS(ROW()-1,COLUMN())))+1,1)","v":32},null,null,null,null,null,"二酸化炭素排出量(t)"]
[null,null,null,null,null,null,"延床面積(㎡)"]
[{"$f":"IFERROR(MAX(INDIRECT(ADDRESS(1,COLUMN())):INDIRECT(ADDRESS(ROW()-1,COLUMN())))+1,1)","v":33},null,null,null,null,null,"二酸化炭素排出量(t)"]
[null,null,null,null,null,null,"延床面積(㎡)"]
[{"$f":"IFERROR(MAX(INDIRECT(ADDRESS(1,COLUMN())):INDIRECT(ADDRESS(ROW()-1,COLUMN())))+1,1)","v":34},null,null,null,null,null,"二酸化炭素排出量(t)"]
[null,null,null,null,null,null,"延床面積(㎡)"]
[{"$f":"IFERROR(MAX(INDIRECT(ADDRESS(1,COLUMN())):INDIRECT(ADDRESS(ROW()-1,COLUMN())))+1,1)","v":35},null,null,null,null,null,"二酸化炭素排出量(t)"]
[null,null,null,null,null,null,"延床面積(㎡)"]
[{"$f":"IFERROR(MAX(INDIRECT(ADDRESS(1,COLUMN())):INDIRECT(ADDRESS(ROW()-1,COLUMN())))+1,1)","v":36},null,null,null,null,null,"二酸化炭素排出量(t)"]
[null,null,null,null,null,null,"延床面積(㎡)"]
[{"$f":"IFERROR(MAX(INDIRECT(ADDRESS(1,COLUMN())):INDIRECT(ADDRESS(ROW()-1,COLUMN())))+1,1)","v":37},null,null,null,null,null,"二酸化炭素排出量(t)"]
[null,null,null,null,null,null,"延床面積(㎡)"]
[{"$f":"IFERROR(MAX(INDIRECT(ADDRESS(1,COLUMN())):INDIRECT(ADDRESS(ROW()-1,COLUMN())))+1,1)","v":38},null,null,null,null,null,"二酸化炭素排出量(t)"]
[null,null,null,null,null,null,"延床面積(㎡)"]
[{"$f":"IFERROR(MAX(INDIRECT(ADDRESS(1,COLUMN())):INDIRECT(ADDRESS(ROW()-1,COLUMN())))+1,1)","v":39},null,null,null,null,null,"二酸化炭素排出量(t)"]
[null,null,null,null,null,null,"延床面積(㎡)"]
[{"$f":"IFERROR(MAX(INDIRECT(ADDRESS(1,COLUMN())):INDIRECT(ADDRESS(ROW()-1,COLUMN())))+1,1)","v":40},null,null,null,null,null,"二酸化炭素排出量(t)"]
[null,null,null,null,null,null,"延床面積(㎡)"]
[{"$f":"IFERROR(MAX(INDIRECT(ADDRESS(1,COLUMN())):INDIRECT(ADDRESS(ROW()-1,COLUMN())))+1,1)","v":41},null,null,null,null,null,"二酸化炭素排出量(t)"]
[null,null,null,null,null,null,"延床面積(㎡)"]
[{"$f":"IFERROR(MAX(INDIRECT(ADDRESS(1,COLUMN())):INDIRECT(ADDRESS(ROW()-1,COLUMN())))+1,1)","v":42},null,null,null,null,null,"二酸化炭素排出量(t)"]
[null,null,null,null,null,null,"延床面積(㎡)"]
[{"$f":"IFERROR(MAX(INDIRECT(ADDRESS(1,COLUMN())):INDIRECT(ADDRESS(ROW()-1,COLUMN())))+1,1)","v":43},null,null,null,null,null,"二酸化炭素排出量(t)"]
[null,null,null,null,null,null,"延床面積(㎡)"]
[{"$f":"IFERROR(MAX(INDIRECT(ADDRESS(1,COLUMN())):INDIRECT(ADDRESS(ROW()-1,COLUMN())))+1,1)","v":44},null,null,null,null,null,"二酸化炭素排出量(t)"]
[null,null,null,null,null,null,"延床面積(㎡)"]
[{"$f":"IFERROR(MAX(INDIRECT(ADDRESS(1,COLUMN())):INDIRECT(ADDRESS(ROW()-1,COLUMN())))+1,1)","v":45},null,null,null,null,null,"二酸化炭素排出量(t)"]
[null,null,null,null,null,null,"延床面積(㎡)"]
[{"$f":"IFERROR(MAX(INDIRECT(ADDRESS(1,COLUMN())):INDIRECT(ADDRESS(ROW()-1,COLUMN())))+1,1)","v":46},null,null,null,null,null,"二酸化炭素排出量(t)"]
[null,null,null,null,null,null,"延床面積(㎡)"]
[{"$f":"IFERROR(MAX(INDIRECT(ADDRESS(1,COLUMN())):INDIRECT(ADDRESS(ROW()-1,COLUMN())))+1,1)","v":47},null,null,null,null,null,"二酸化炭素排出量(t)"]
[null,null,null,null,null,null,"延床面積(㎡)"]
[{"$f":"IFERROR(MAX(INDIRECT(ADDRESS(1,COLUMN())):INDIRECT(ADDRESS(ROW()-1,COLUMN())))+1,1)","v":48},null,null,null,null,null,"二酸化炭素排出量(t)"]
[null,null,null,null,null,null,"延床面積(㎡)"]
[{"$f":"IFERROR(MAX(INDIRECT(ADDRESS(1,COLUMN())):INDIRECT(ADDRESS(ROW()-1,COLUMN())))+1,1)","v":49},null,null,null,null,null,"二酸化炭素排出量(t)"]
[null,null,null,null,null,null,"延床面積(㎡)"]
[{"$f":"IFERROR(MAX(INDIRECT(ADDRESS(1,COLUMN())):INDIRECT(ADDRESS(ROW()-1,COLUMN())))+1,1)","v":50},null,null,null,null,null,"二酸化炭素排出量(t)"]
[null,null,null,null,null,null,"延床面積(㎡)"]
[{"$f":"IFERROR(MAX(INDIRECT(ADDRESS(1,COLUMN())):INDIRECT(ADDRESS(ROW()-1,COLUMN())))+1,1)","v":51},null,null,null,null,null,"二酸化炭素排出量(t)"]
[null,null,null,null,null,null,"延床面積(㎡)"]
[{"$f":"IFERROR(MAX(INDIRECT(ADDRESS(1,COLUMN())):INDIRECT(ADDRESS(ROW()-1,COLUMN())))+1,1)","v":52},null,null,null,null,null,"二酸化炭素排出量(t)"]
[null,null,null,null,null,null,"延床面積(㎡)"]
[{"$f":"IFERROR(MAX(INDIRECT(ADDRESS(1,COLUMN())):INDIRECT(ADDRESS(ROW()-1,COLUMN())))+1,1)","v":53},null,null,null,null,null,"二酸化炭素排出量(t)"]
[null,null,null,null,null,null,"延床面積(㎡)"]
[{"$f":"IFERROR(MAX(INDIRECT(ADDRESS(1,COLUMN())):INDIRECT(ADDRESS(ROW()-1,COLUMN())))+1,1)","v":54},null,null,null,null,null,"二酸化炭素排出量(t)"]
[null,null,null,null,null,null,"延床面積(㎡)"]
[{"$f":"IFERROR(MAX(INDIRECT(ADDRESS(1,COLUMN())):INDIRECT(ADDRESS(ROW()-1,COLUMN())))+1,1)","v":55},null,null,null,null,null,"二酸化炭素排出量(t)"]
[null,null,null,null,null,null,"延床面積(㎡)"]
[{"$f":"IFERROR(MAX(INDIRECT(ADDRESS(1,COLUMN())):INDIRECT(ADDRESS(ROW()-1,COLUMN())))+1,1)","v":56},null,null,null,null,null,"二酸化炭素排出量(t)"]
[null,null,null,null,null,null,"延床面積(㎡)"]
[{"$f":"IFERROR(MAX(INDIRECT(ADDRESS(1,COLUMN())):INDIRECT(ADDRESS(ROW()-1,COLUMN())))+1,1)","v":57},null,null,null,null,null,"二酸化炭素排出量(t)"]
[null,null,null,null,null,null,"延床面積(㎡)"]
[{"$f":"IFERROR(MAX(INDIRECT(ADDRESS(1,COLUMN())):INDIRECT(ADDRESS(ROW()-1,COLUMN())))+1,1)","v":58},null,null,null,null,null,"二酸化炭素排出量(t)"]
[null,null,null,null,null,null,"延床面積(㎡)"]
[{"$f":"IFERROR(MAX(INDIRECT(ADDRESS(1,COLUMN())):INDIRECT(ADDRESS(ROW()-1,COLUMN())))+1,1)","v":59},null,null,null,null,null,"二酸化炭素排出量(t)"]
[null,null,null,null,null,null,"延床面積(㎡)"]
[{"$f":"IFERROR(MAX(INDIRECT(ADDRESS(1,COLUMN())):INDIRECT(ADDRESS(ROW()-1,COLUMN())))+1,1)","v":60},null,null,null,null,null,"二酸化炭素排出量(t)"]
[null,null,null,null,null,null,"延床面積(㎡)"]
[{"$f":"IFERROR(MAX(INDIRECT(ADDRESS(1,COLUMN())):INDIRECT(ADDRESS(ROW()-1,COLUMN())))+1,1)","v":61},null,null,null,null,null,"二酸化炭素排出量(t)"]
[null,null,null,null,null,null,"延床面積(㎡)"]
[{"$f":"IFERROR(MAX(INDIRECT(ADDRESS(1,COLUMN())):INDIRECT(ADDRESS(ROW()-1,COLUMN())))+1,1)","v":62},null,null,null,null,null,"二酸化炭素排出量(t)"]
[null,null,null,null,null,null,"延床面積(㎡)"]
[{"$f":"IFERROR(MAX(INDIRECT(ADDRESS(1,COLUMN())):INDIRECT(ADDRESS(ROW()-1,COLUMN())))+1,1)","v":63},null,null,null,null,null,"二酸化炭素排出量(t)"]
[null,null,null,null,null,null,"延床面積(㎡)"]
[{"$f":"IFERROR(MAX(INDIRECT(ADDRESS(1,COLUMN())):INDIRECT(ADDRESS(ROW()-1,COLUMN())))+1,1)","v":64},null,null,null,null,null,"二酸化炭素排出量(t)"]
[null,null,null,null,null,null,"延床面積(㎡)"]
[{"$f":"IFERROR(MAX(INDIRECT(ADDRESS(1,COLUMN())):INDIRECT(ADDRESS(ROW()-1,COLUMN())))+1,1)","v":65},null,null,null,null,null,"二酸化炭素排出量(t)"]
[null,null,null,null,null,null,"延床面積(㎡)"]
[{"$f":"IFERROR(MAX(INDIRECT(ADDRESS(1,COLUMN())):INDIRECT(ADDRESS(ROW()-1,COLUMN())))+1,1)","v":66},null,null,null,null,null,"二酸化炭素排出量(t)"]
[null,null,null,null,null,null,"延床面積(㎡)"]
[{"$f":"IFERROR(MAX(INDIRECT(ADDRESS(1,COLUMN())):INDIRECT(ADDRESS(ROW()-1,COLUMN())))+1,1)","v":67},null,null,null,null,null,"二酸化炭素排出量(t)"]
[null,null,null,null,null,null,"延床面積(㎡)"]
[{"$f":"IFERROR(MAX(INDIRECT(ADDRESS(1,COLUMN())):INDIRECT(ADDRESS(ROW()-1,COLUMN())))+1,1)","v":68},null,null,null,null,null,"二酸化炭素排出量(t)"]
[null,null,null,null,null,null,"延床面積(㎡)"]
[{"$f":"IFERROR(MAX(INDIRECT(ADDRESS(1,COLUMN())):INDIRECT(ADDRESS(ROW()-1,COLUMN())))+1,1)","v":69},null,null,null,null,null,"二酸化炭素排出量(t)"]
[null,null,null,null,null,null,"延床面積(㎡)"]
[{"$f":"IFERROR(MAX(INDIRECT(ADDRESS(1,COLUMN())):INDIRECT(ADDRESS(ROW()-1,COLUMN())))+1,1)","v":70},null,null,null,null,null,"二酸化炭素排出量(t)"]
[null,null,null,null,null,null,"延床面積(㎡)"]
[{"$f":"IFERROR(MAX(INDIRECT(ADDRESS(1,COLUMN())):INDIRECT(ADDRESS(ROW()-1,COLUMN())))+1,1)","v":71},null,null,null,null,null,"二酸化炭素排出量(t)"]
[null,null,null,null,null,null,"延床面積(㎡)"]
[{"$f":"IFERROR(MAX(INDIRECT(ADDRESS(1,COLUMN())):INDIRECT(ADDRESS(ROW()-1,COLUMN())))+1,1)","v":72},null,null,null,null,null,"二酸化炭素排出量(t)"]
[null,null,null,null,null,null,"延床面積(㎡)"]
[{"$f":"IFERROR(MAX(INDIRECT(ADDRESS(1,COLUMN())):INDIRECT(ADDRESS(ROW()-1,COLUMN())))+1,1)","v":73},null,null,null,null,null,"二酸化炭素排出量(t)"]
[null,null,null,null,null,null,"延床面積(㎡)"]
[{"$f":"IFERROR(MAX(INDIRECT(ADDRESS(1,COLUMN())):INDIRECT(ADDRESS(ROW()-1,COLUMN())))+1,1)","v":74},null,null,null,null,null,"二酸化炭素排出量(t)"]
[null,null,null,null,null,null,"延床面積(㎡)"]
[{"$f":"IFERROR(MAX(INDIRECT(ADDRESS(1,COLUMN())):INDIRECT(ADDRESS(ROW()-1,COLUMN())))+1,1)","v":75},null,null,null,null,null,"二酸化炭素排出量(t)"]
[null,null,null,null,null,null,"延床面積(㎡)"]
[{"$f":"IFERROR(MAX(INDIRECT(ADDRESS(1,COLUMN())):INDIRECT(ADDRESS(ROW()-1,COLUMN())))+1,1)","v":76},null,null,null,null,null,"二酸化炭素排出量(t)"]
[null,null,null,null,null,null,"延床面積(㎡)"]
[{"$f":"IFERROR(MAX(INDIRECT(ADDRESS(1,COLUMN())):INDIRECT(ADDRESS(ROW()-1,COLUMN())))+1,1)","v":77},null,null,null,null,null,"二酸化炭素排出量(t)"]
[null,null,null,null,null,null,"延床面積(㎡)"]
[{"$f":"IFERROR(MAX(INDIRECT(ADDRESS(1,COLUMN())):INDIRECT(ADDRESS(ROW()-1,COLUMN())))+1,1)","v":78},null,null,null,null,null,"二酸化炭素排出量(t)"]
[null,null,null,null,null,null,"延床面積(㎡)"]
[{"$f":"IFERROR(MAX(INDIRECT(ADDRESS(1,COLUMN())):INDIRECT(ADDRESS(ROW()-1,COLUMN())))+1,1)","v":79},null,null,null,null,null,"二酸化炭素排出量(t)"]
[null,null,null,null,null,null,"延床面積(㎡)"]
[{"$f":"IFERROR(MAX(INDIRECT(ADDRESS(1,COLUMN())):INDIRECT(ADDRESS(ROW()-1,COLUMN())))+1,1)","v":80},null,null,null,null,null,"二酸化炭素排出量(t)"]
[null,null,null,null,null,null,"延床面積(㎡)"]
[{"$f":"IFERROR(MAX(INDIRECT(ADDRESS(1,COLUMN())):INDIRECT(ADDRESS(ROW()-1,COLUMN())))+1,1)","v":81},null,null,null,null,null,"二酸化炭素排出量(t)"]
[null,null,null,null,null,null,"延床面積(㎡)"]
[{"$f":"IFERROR(MAX(INDIRECT(ADDRESS(1,COLUMN())):INDIRECT(ADDRESS(ROW()-1,COLUMN())))+1,1)","v":82},null,null,null,null,null,"二酸化炭素排出量(t)"]
[null,null,null,null,null,null,"延床面積(㎡)"]
[{"$f":"IFERROR(MAX(INDIRECT(ADDRESS(1,COLUMN())):INDIRECT(ADDRESS(ROW()-1,COLUMN())))+1,1)","v":83},null,null,null,null,null,"二酸化炭素排出量(t)"]
[null,null,null,null,null,null,"延床面積(㎡)"]
[{"$f":"IFERROR(MAX(INDIRECT(ADDRESS(1,COLUMN())):INDIRECT(ADDRESS(ROW()-1,COLUMN())))+1,1)","v":84},null,null,null,null,null,"二酸化炭素排出量(t)"]
[null,null,null,null,null,null,"延床面積(㎡)"]
[{"$f":"IFERROR(MAX(INDIRECT(ADDRESS(1,COLUMN())):INDIRECT(ADDRESS(ROW()-1,COLUMN())))+1,1)","v":85},null,null,null,null,null,"二酸化炭素排出量(t)"]
[null,null,null,null,null,null,"延床面積(㎡)"]
[{"$f":"IFERROR(MAX(INDIRECT(ADDRESS(1,COLUMN())):INDIRECT(ADDRESS(ROW()-1,COLUMN())))+1,1)","v":86},null,null,null,null,null,"二酸化炭素排出量(t)"]
[null,null,null,null,null,null,"延床面積(㎡)"]
[{"$f":"IFERROR(MAX(INDIRECT(ADDRESS(1,COLUMN())):INDIRECT(ADDRESS(ROW()-1,COLUMN())))+1,1)","v":87},null,null,null,null,null,"二酸化炭素排出量(t)"]
[null,null,null,null,null,null,"延床面積(㎡)"]
[{"$f":"IFERROR(MAX(INDIRECT(ADDRESS(1,COLUMN())):INDIRECT(ADDRESS(ROW()-1,COLUMN())))+1,1)","v":88},null,null,null,null,null,"二酸化炭素排出量(t)"]
[null,null,null,null,null,null,"延床面積(㎡)"]
[{"$f":"IFERROR(MAX(INDIRECT(ADDRESS(1,COLUMN())):INDIRECT(ADDRESS(ROW()-1,COLUMN())))+1,1)","v":89},null,null,null,null,null,"二酸化炭素排出量(t)"]
[null,null,null,null,null,null,"延床面積(㎡)"]
[{"$f":"IFERROR(MAX(INDIRECT(ADDRESS(1,COLUMN())):INDIRECT(ADDRESS(ROW()-1,COLUMN())))+1,1)","v":90},null,null,null,null,null,"二酸化炭素排出量(t)"]
[null,null,null,null,null,null,"延床面積(㎡)"]
[{"$f":"IFERROR(MAX(INDIRECT(ADDRESS(1,COLUMN())):INDIRECT(ADDRESS(ROW()-1,COLUMN())))+1,1)","v":91},null,null,null,null,null,"二酸化炭素排出量(t)"]
[null,null,null,null,null,null,"延床面積(㎡)"]
[{"$f":"IFERROR(MAX(INDIRECT(ADDRESS(1,COLUMN())):INDIRECT(ADDRESS(ROW()-1,COLUMN())))+1,1)","v":92},null,null,null,null,null,"二酸化炭素排出量(t)"]
[null,null,null,null,null,null,"延床面積(㎡)"]
[{"$f":"IFERROR(MAX(INDIRECT(ADDRESS(1,COLUMN())):INDIRECT(ADDRESS(ROW()-1,COLUMN())))+1,1)","v":93},null,null,null,null,null,"二酸化炭素排出量(t)"]
[null,null,null,null,null,null,"延床面積(㎡)"]
[{"$f":"IFERROR(MAX(INDIRECT(ADDRESS(1,COLUMN())):INDIRECT(ADDRESS(ROW()-1,COLUMN())))+1,1)","v":94},null,null,null,null,null,"二酸化炭素排出量(t)"]
[null,null,null,null,null,null,"延床面積(㎡)"]
[{"$f":"IFERROR(MAX(INDIRECT(ADDRESS(1,COLUMN())):INDIRECT(ADDRESS(ROW()-1,COLUMN())))+1,1)","v":95},null,null,null,null,null,"二酸化炭素排出量(t)"]
[null,null,null,null,null,null,"延床面積(㎡)"]
[{"$f":"IFERROR(MAX(INDIRECT(ADDRESS(1,COLUMN())):INDIRECT(ADDRESS(ROW()-1,COLUMN())))+1,1)","v":96},null,null,null,null,null,"二酸化炭素排出量(t)"]
[null,null,null,null,null,null,"延床面積(㎡)"]
[{"$f":"IFERROR(MAX(INDIRECT(ADDRESS(1,COLUMN())):INDIRECT(ADDRESS(ROW()-1,COLUMN())))+1,1)","v":97},null,null,null,null,null,"二酸化炭素排出量(t)"]
[null,null,null,null,null,null,"延床面積(㎡)"]
[{"$f":"IFERROR(MAX(INDIRECT(ADDRESS(1,COLUMN())):INDIRECT(ADDRESS(ROW()-1,COLUMN())))+1,1)","v":98},null,null,null,null,null,"二酸化炭素排出量(t)"]
[null,null,null,null,null,null,"延床面積(㎡)"]
[{"$f":"IFERROR(MAX(INDIRECT(ADDRESS(1,COLUMN())):INDIRECT(ADDRESS(ROW()-1,COLUMN())))+1,1)","v":99},null,null,null,null,null,"二酸化炭素排出量(t)"]
[null,null,null,null,null,null,"延床面積(㎡)"]
[{"$f":"IFERROR(MAX(INDIRECT(ADDRESS(1,COLUMN())):INDIRECT(ADDRESS(ROW()-1,COLUMN())))+1,1)","v":100},null,null,null,null,null,"二酸化炭素排出量(t)"]
[null,null,null,null,null,null,"延床面積(㎡)"]

{"sheet":"④","index":9,"n_rows":210,"n_cols":14,"rows_kept":210,"cut":false,"hidden":false,"merged":[[8,13,9,13],[9,6,9,7],[10,0,11,0],[10,1,11,1],[10,2,11,5],[10,6,10,7],[10,13,11,13],[11,6,11,7],[2,0,2,1],[3,0,3,1],[4,0,4,1],[7,2,7,5],[7,6,7,7],[8,0,9,0],[8,1,9,1],[8,2,9,5],[8,6,8,7],[14,0,15,0],[14,1,15,1],[14,2,15,5],[14,6,14,7],[14,13,15,13],[15,6,15,7],[12,0,13,0],[12,1,13,1],[12,2,13,5],[12,6,12,7],[12,13,13,13],[13,6,13,7],[18,0,19,0],[18,1,19,1],[18,2,19,5],[18,6,18,7],[18,13,19,13],[19,6,19,7],[16,0,17,0],[16,1,17,1],[16,2,17,5],[16,6,16,7],[16,13,17,13],[17,6,17,7],[22,0,23,0],[22,1,23,1],[22,2,23,5],[22,6,22,7],[22,13,23,13],[23,6,23,7],[20,0,21,0],[20,1,21,1],[20,2,21,5],[20,6,20,7],[20,13,21,13],[21,6,21,7],[26,0,27,0],[26,1,27,1],[26,2,27,5],[26,6,26,7],[26,13,27,13],[27,6,27,7],[24,0,25,0],[24,1,25,1],[24,2,25,5],[24,6,24,7],[24,13,25,13],[25,6,25,7],[30,0,31,0],[30,1,31,1],[30,2,31,5],[30,6,30,7],[30,13,31,13],[31,6,31,7],[28,0,29,0],[28,1,29,1],[28,2,29,5],[28,6,28,7],[28,13,29,13],[29,6,29,7],[34,0,35,0],[34,1,35,1],[34,2,35,5],[34,6,34,7],[34,13,35,13],[35,6,35,7],[32,0,33,0],[32,1,33,1],[32,2,33,5],[32,6,32,7],[32,13,33,13],[33,6,33,7],[38,0,39,0],[38,1,39,1],[38,2,39,5],[38,6,38,7],[38,13,39,13],[39,6,39,7],[36,0,37,0],[36,1,37,1],[36,2,37,5],[36,6,36,7],[36,13,37,13],[37,6,37,7],[42,0,43,0],[42,1,43,1],[42,2,43,5],[42,6,42,7],[42,13,43,13],[43,6,43,7],[40,0,41,0],[40,1,41,1],[40,2,41,5],[40,6,40,7],[40,13,41,13],[41,6,41,7],[46,0,47,0],[46,1,47,1],[46,2,47,5],[46,6,46,7],[46,13,47,13],[47,6,47,7],[44,0,45,0],[44,1,45,1],[44,2,45,5],[44,6,44,7],[44,13,45,13],[45,6,45,7],[50,0,51,0],[50,1,51,1],[50,2,51,5],[50,6,50,7],[50,13,51,13],[51,6,51,7],[48,0,49,0],[48,1,49,1],[48,2,49,5],[48,6,48,7],[48,13,49,13],[49,6,49,7],[54,0,55,0],[54,1,55,1],[54,2,55,5],[54,6,54,7],[54,13,55,13],[55,6,55,7],[52,0,53,0],[52,1,53,1],[52,2,53,5],[52,6,52,7],[52,13,53,13],[53,6,53,7],[58,0,59,0],[58,1,59,1],[58,2,59,5],[58,6,58,7],[58,13,59,13],[59,6,59,7],[56,0,57,0],[56,1,57,1],[56,2,57,5],[56,6,56,7],[56,13,57,13],[57,6,57,7],[62,0,63,0],[62,1,63,1],[62,2,63,5],[62,6,62,7],[62,13,63,13],[63,6,63,7],[60,0,61,0],[60,1,61,1],[60,2,61,5],[60,6,60,7],[60,13,61,13],[61,6,61,7],[66,0,67,0],[66,1,67,1],[66,2,67,5],[66,6,66,7],[66,13,67,13],[67,6,67,7],[64,0,65,0],[64,1,65,1],[64,2,65,5],[64,6,64,7],[64,13,65,13],[65,6,65,7],[70,0,71,0],[70,1,71,1],[70,2,71,5],[70,6,70,7],[70,13,71,13],[71,6,71,7],[68,0,69,0],[68,1,69,1],[68,2,69,5],[68,6,68,7],[68,13,69,13],[69,6,69,7],[74,0,75,0],[74,1,75,1],[74,2,75,5],[74,6,74,7],[74,13,75,13],[75,6,75,7],[72,0,73,0],[72,1,73,1],[72,2,73,5],[72,6,72,7],[72,13,73,13],[73,6,73,7],[78,0,79,0],[78,1,79,1],[78,2,79,5],[78,6,78,7],[78,13,79,13],[79,6,79,7],[76,0,77,0],[76,1,77,1],[76,2,77,5],[76,6,76,7],[76,13,77,13],[77,6,77,7],[82,0,83,0],[82,1,83,1],[82,2,83,5],[82,6,82,7],[82,13,83,13],[83,6,83,7],[80,0,81,0],[80,1,81,1],[80,2,81,5],[80,6,80,7],[80,13,81,13],[81,6,81,7],[86,0,87,0],[86,1,87,1],[86,2,87,5],[86,6,86,7],[86,13,87,13],[87,6,87,7],[84,0,85,0],[84,1,85,1],[84,2,85,5],[84,6,84,7],[84,13,85,13],[85,6,85,7],[90,0,91,0],[90,1,91,1],[90,2,91,5],[90,6,90,7],[90,13,91,13],[91,6,91,7],[88,0,89,0],[88,1,89,1],[88,2,89,5],[88,6,88,7],[88,13,89,13],[89,6,89,7],[94,0,95,0],[94,1,95,1],[94,2,95,5],[94,6,94,7],[94,13,95,13],[95,6,95,7],[92,0,93,0],[92,1,93,1],[92,2,93,5],[92,6,92,7],[92,13,93,13],[93,6,93,7],[98,0,99,0],[98,1,99,1],[98,2,99,5],[98,6,98,7],[98,13,99,13],[99,6,99,7],[96,0,97,0],[96,1,97,1],[96,2,97,5],[96,6,96,7],[96,13,97,13],[97,6,97,7],[102,0,103,0],[102,1,103,1],[102,2,103,5],[102,6,102,7],[102,13,103,13],[103,6,103,7],[100,0,101,0],[100,1,101,1],[100,2,101,5],[100,6,100,7],[100,13,101,13],[101,6,101,7],[106,0,107,0],[106,1,107,1],[106,2,107,5],[106,6,106,7],[106,13,107,13],[107,6,107,7],[104,0,105,0],[104,1,105,1],[104,2,105,5],[104,6,104,7],[104,13,105,13],[105,6,105,7],[122,0,123,0],[124,0,125,0],[126,0,127,0],[128,0,129,0],[130,0,131,0],[132,0,133,0],[110,0,111,0],[112,0,113,0],[114,0,115,0],[116,0,117,0],[118,0,119,0],[120,0,121,0],[146,0,147,0],[148,0,149,0],[150,0,151,0],[152,0,153,0],[154,0,155,0],[156,0,157,0],[134,0,135,0],[136,0,137,0],[138,0,139,0],[140,0,141,0],[142,0,143,0],[144,0,145,0],[170,0,171,0],[172,0,173,0],[174,0,175,0],[176,0,177,0],[178,0,179,0],[180,0,181,0],[158,0,159,0],[160,0,161,0],[162,0,163,0],[164,0,165,0],[166,0,167,0],[168,0,169,0],[206,0,207,0],[208,0,209,0],[194,0,195,0],[196,0,197,0],[198,0,199,0],[200,0,201,0],[202,0,203,0],[204,0,205,0],[182,0,183,0],[184,0,185,0],[186,0,187,0],[188,0,189,0],[190,0,191,0],[192,0,193,0],[108,1,109,1],[108,2,109,5],[108,6,108,7],[108,13,109,13],[109,6,109,7],[108,0,109,0],[110,1,111,1],[110,2,111,5],[110,6,110,7],[110,13,111,13],[111,6,111,7],[112,1,113,1],[112,2,113,5],[112,6,112,7],[112,13,113,13],[113,6,113,7],[114,1,115,1],[114,2,115,5],[114,6,114,7],[114,13,115,13],[115,6,115,7],[116,1,117,1],[116,2,117,5],[116,6,116,7],[116,13,117,13],[117,6,117,7],[118,1,119,1],[118,2,119,5],[118,6,118,7],[118,13,119,13],[119,6,119,7],[120,1,121,1],[120,2,121,5],[120,6,120,7],[120,13,121,13],[121,6,121,7],[122,1,123,1],[122,2,123,5],[122,6,122,7],[122,13,123,13],[123,6,123,7],[124,1,125,1],[124,2,125,5],[124,6,124,7],[124,13,125,13],[125,6,125,7],[126,1,127,1],[126,2,127,5],[126,6,126,7],[126,13,127,13],[127,6,127,7],[128,1,129,1],[128,2,129,5],[128,6,128,7],[128,13,129,13],[129,6,129,7],[130,1,131,1],[130,2,131,5],[130,6,130,7],[130,13,131,13],[131,6,131,7],[132,1,133,1],[132,2,133,5],[132,6,132,7],[132,13,133,13],[133,6,133,7],[134,1,135,1],[134,2,135,5],[134,6,134,7],[134,13,135,13],[135,6,135,7],[136,1,137,1],[136,2,137,5],[136,6,136,7],[136,13,137,13],[137,6,137,7],[138,1,139,1],[138,2,139,5],[138,6,138,7],[138,13,139,13],[139,6,139,7],[140,1,141,1],[140,2,141,5],[140,6,140,7],[140,13,141,13],[141,6,141,7],[142,1,143,1],[142,2,143,5],[142,6,142,7],[142,13,143,13],[143,6,143,7],[144,1,145,1],[144,2,145,5],[144,6,144,7],[144,13,145,13],[145,6,145,7],[146,1,147,1],[146,2,147,5],[146,6,146,7],[146,13,147,13],[147,6,147,7],[148,1,149,1],[148,2,149,5],[148,6,148,7],[148,13,149,13],[149,6,149,7],[150,1,151,1],[150,2,151,5],[150,6,150,7],[150,13,151,13],[151,6,151,7],[152,1,153,1],[152,2,153,5],[152,6,152,7],[152,13,153,13],[153,6,153,7],[154,1,155,1],[154,2,155,5],[154,6,154,7],[154,13,155,13],[155,6,155,7],[156,1,157,1],[156,2,157,5],[156,6,156,7],[156,13,157,13],[157,6,157,7],[158,1,159,1],[158,2,159,5],[158,6,158,7],[158,13,159,13],[159,6,159,7],[160,1,161,1],[160,2,161,5],[160,6,160,7],[160,13,161,13],[161,6,161,7],[162,1,163,1],[162,2,163,5],[162,6,162,7],[162,13,163,13],[163,6,163,7],[164,1,165,1],[164,2,165,5],[164,6,164,7],[164,13,165,13],[165,6,165,7],[166,1,167,1],[166,2,167,5],[166,6,166,7],[166,13,167,13],[167,6,167,7],[168,1,169,1],[168,2,169,5],[168,6,168,7],[168,13,169,13],[169,6,169,7],[170,1,171,1],[170,2,171,5],[170,6,170,7],[170,13,171,13],[171,6,171,7],[172,1,173,1],[172,2,173,5],[172,6,172,7],[172,13,173,13],[173,6,173,7],[174,1,175,1],[174,2,175,5],[174,6,174,7],[174,13,175,13],[175,6,175,7],[176,1,177,1],[176,2,177,5],[176,6,176,7],[176,13,177,13],[177,6,177,7],[178,1,179,1],[178,2,179,5],[178,6,178,7],[178,13,179,13],[179,6,179,7],[180,1,181,1],[180,2,181,5],[180,6,180,7],[180,13,181,13],[181,6,181,7],[182,1,183,1],[182,2,183,5],[182,6,182,7],[182,13,183,13],[183,6,183,7],[184,1,185,1],[184,2,185,5],[184,6,184,7],[184,13,185,13],[185,6,185,7],[186,1,187,1],[186,2,187,5],[186,6,186,7],[186,13,187,13],[187,6,187,7],[188,1,189,1],[188,2,189,5],[188,6,188,7],[188,13,189,13],[189,6,189,7],[190,1,191,1],[190,2,191,5],[190,6,190,7],[190,13,191,13],[191,6,191,7],[192,1,193,1],[192,2,193,5],[192,6,192,7],[192,13,193,13],[193,6,193,7],[194,1,195,1],[194,2,195,5],[194,6,194,7],[194,13,195,13],[195,6,195,7],[196,1,197,1],[196,2,197,5],[196,6,196,7],[196,13,197,13],[197,6,197,7],[198,1,199,1],[198,2,199,5],[198,6,198,7],[198,13,199,13],[199,6,199,7],[200,1,201,1],[200,2,201,5],[200,6,200,7],[200,13,201,13],[201,6,201,7],[202,1,203,1],[202,2,203,5],[202,6,202,7],[202,13,203,13],[203,6,203,7],[208,1,209,1],[208,2,209,5],[208,6,208,7],[208,13,209,13],[209,6,209,7],[204,1,205,1],[204,2,205,5],[204,6,204,7],[204,13,205,13],[205,6,205,7],[206,1,207,1],[206,2,207,5],[206,6,206,7],[206,13,207,13],[207,6,207,7]]}
[]
["♯会社分割前に中小規模事業所として都に報告を行っていた実績を青色セルに記入してください。"]
["補正値合計",null,{"$f":"補正結果!O14","v":"2015年度"},{"$f":"補正結果!U14","v":"2016年度"},{"$f":"補正結果!AA14","v":"2017年度"},{"$f":"補正結果!AG14","v":"2018年度"}]
["補正二酸化炭素排出量（t）",null,{"$f":"SUMIF(G:H,\"二酸化炭素排出量(t)\",I:I)*-1","v":0},{"$f":"SUMIF(G:H,\"二酸化炭素排出量(t)\",J:J)*-1","v":0},{"$f":"SUMIF(G:H,\"二酸化炭素排出量(t)\",K:K)*-1","v":0},{"$f":"SUMIF(G:H,\"二酸化炭素排出量(t)\",L:L)*-1","v":0}]
["補正延床面積（㎡）",null,{"$f":"SUMIF(G:H,\"延床面積(㎡)\",I:I)*-1","v":0},{"$f":"SUMIF(G:H,\"延床面積(㎡)\",J:J)*-1","v":0},{"$f":"SUMIF(G:H,\"延床面積(㎡)\",K:K)*-1","v":0},{"$f":"SUMIF(G:H,\"延床面積(㎡)\",L:L)*-1","v":0}]
[]
[]
["No.","事業所番号","事業所名",null,null,null,"報告項目",null,{"$f":"補正結果!O14","v":"2015年度"},{"$f":"補正結果!U14","v":"2016年度"},{"$f":"補正結果!AA14","v":"2017年度"},{"$f":"補正結果!AG14","v":"2018年度"},{"$f":"補正結果!AM14","v":"2019年度"},"エラーチェック"]
[{"$f":"IFERROR(MAX(INDIRECT(ADDRESS(1,COLUMN())):INDIRECT(ADDRESS(ROW()-1,COLUMN())))+1,1)","v":1},null,null,null,null,null,"二酸化炭素排出量(t)"]
[null,null,null,null,null,null,"延床面積(㎡)"]
[1,null,null,null,null,null,"二酸化炭素排出量(t)"]
[null,null,null,null,null,null,"延床面積(㎡)"]
[{"$f":"IFERROR(MAX(INDIRECT(ADDRESS(1,COLUMN())):INDIRECT(ADDRESS(ROW()-1,COLUMN())))+1,1)","v":2},null,null,null,null,null,"二酸化炭素排出量(t)"]
[null,null,null,null,null,null,"延床面積(㎡)"]
[{"$f":"IFERROR(MAX(INDIRECT(ADDRESS(1,COLUMN())):INDIRECT(ADDRESS(ROW()-1,COLUMN())))+1,1)","v":3},null,null,null,null,null,"二酸化炭素排出量(t)"]
[null,null,null,null,null,null,"延床面積(㎡)"]
[{"$f":"IFERROR(MAX(INDIRECT(ADDRESS(1,COLUMN())):INDIRECT(ADDRESS(ROW()-1,COLUMN())))+1,1)","v":4},null,null,null,null,null,"二酸化炭素排出量(t)"]
[null,null,null,null,null,null,"延床面積(㎡)"]
[{"$f":"IFERROR(MAX(INDIRECT(ADDRESS(1,COLUMN())):INDIRECT(ADDRESS(ROW()-1,COLUMN())))+1,1)","v":5},null,null,null,null,null,"二酸化炭素排出量(t)"]
[null,null,null,null,null,null,"延床面積(㎡)"]
[{"$f":"IFERROR(MAX(INDIRECT(ADDRESS(1,COLUMN())):INDIRECT(ADDRESS(ROW()-1,COLUMN())))+1,1)","v":6},null,null,null,null,null,"二酸化炭素排出量(t)"]
[null,null,null,null,null,null,"延床面積(㎡)"]
[{"$f":"IFERROR(MAX(INDIRECT(ADDRESS(1,COLUMN())):INDIRECT(ADDRESS(ROW()-1,COLUMN())))+1,1)","v":7},null,null,null,null,null,"二酸化炭素排出量(t)"]
[null,null,null,null,null,null,"延床面積(㎡)"]
[{"$f":"IFERROR(MAX(INDIRECT(ADDRESS(1,COLUMN())):INDIRECT(ADDRESS(ROW()-1,COLUMN())))+1,1)","v":8},null,null,null,null,null,"二酸化炭素排出量(t)"]
[null,null,null,null,null,null,"延床面積(㎡)"]
[{"$f":"IFERROR(MAX(INDIRECT(ADDRESS(1,COLUMN())):INDIRECT(ADDRESS(ROW()-1,COLUMN())))+1,1)","v":9},null,null,null,null,null,"二酸化炭素排出量(t)"]
[null,null,null,null,null,null,"延床面積(㎡)"]
[{"$f":"IFERROR(MAX(INDIRECT(ADDRESS(1,COLUMN())):INDIRECT(ADDRESS(ROW()-1,COLUMN())))+1,1)","v":10},null,null,null,null,null,"二酸化炭素排出量(t)"]
[null,null,null,null,null,null,"延床面積(㎡)"]
[{"$f":"IFERROR(MAX(INDIRECT(ADDRESS(1,COLUMN())):INDIRECT(ADDRESS(ROW()-1,COLUMN())))+1,1)","v":11},null,null,null,null,null,"二酸化炭素排出量(t)"]
[null,null,null,null,null,null,"延床面積(㎡)"]
[{"$f":"IFERROR(MAX(INDIRECT(ADDRESS(1,COLUMN())):INDIRECT(ADDRESS(ROW()-1,COLUMN())))+1,1)","v":12},null,null,null,null,null,"二酸化炭素排出量(t)"]
[null,null,null,null,null,null,"延床面積(㎡)"]
[{"$f":"IFERROR(MAX(INDIRECT(ADDRESS(1,COLUMN())):INDIRECT(ADDRESS(ROW()-1,COLUMN())))+1,1)","v":13},null,null,null,null,null,"二酸化炭素排出量(t)"]
[null,null,null,null,null,null,"延床面積(㎡)"]
[{"$f":"IFERROR(MAX(INDIRECT(ADDRESS(1,COLUMN())):INDIRECT(ADDRESS(ROW()-1,COLUMN())))+1,1)","v":14},null,null,null,null,null,"二酸化炭素排出量(t)"]
[null,null,null,null,null,null,"延床面積(㎡)"]
[{"$f":"IFERROR(MAX(INDIRECT(ADDRESS(1,COLUMN())):INDIRECT(ADDRESS(ROW()-1,COLUMN())))+1,1)","v":15},null,null,null,null,null,"二酸化炭素排出量(t)"]
[null,null,null,null,null,null,"延床面積(㎡)"]
[{"$f":"IFERROR(MAX(INDIRECT(ADDRESS(1,COLUMN())):INDIRECT(ADDRESS(ROW()-1,COLUMN())))+1,1)","v":16},null,null,null,null,null,"二酸化炭素排出量(t)"]
[null,null,null,null,null,null,"延床面積(㎡)"]
[{"$f":"IFERROR(MAX(INDIRECT(ADDRESS(1,COLUMN())):INDIRECT(ADDRESS(ROW()-1,COLUMN())))+1,1)","v":17},null,null,null,null,null,"二酸化炭素排出量(t)"]
[null,null,null,null,null,null,"延床面積(㎡)"]
[{"$f":"IFERROR(MAX(INDIRECT(ADDRESS(1,COLUMN())):INDIRECT(ADDRESS(ROW()-1,COLUMN())))+1,1)","v":18},null,null,null,null,null,"二酸化炭素排出量(t)"]
[null,null,null,null,null,null,"延床面積(㎡)"]
[{"$f":"IFERROR(MAX(INDIRECT(ADDRESS(1,COLUMN())):INDIRECT(ADDRESS(ROW()-1,COLUMN())))+1,1)","v":19},null,null,null,null,null,"二酸化炭素排出量(t)"]
[null,null,null,null,null,null,"延床面積(㎡)"]
[{"$f":"IFERROR(MAX(INDIRECT(ADDRESS(1,COLUMN())):INDIRECT(ADDRESS(ROW()-1,COLUMN())))+1,1)","v":20},null,null,null,null,null,"二酸化炭素排出量(t)"]
[null,null,null,null,null,null,"延床面積(㎡)"]
[{"$f":"IFERROR(MAX(INDIRECT(ADDRESS(1,COLUMN())):INDIRECT(ADDRESS(ROW()-1,COLUMN())))+1,1)","v":21},null,null,null,null,null,"二酸化炭素排出量(t)"]
[null,null,null,null,null,null,"延床面積(㎡)"]
[{"$f":"IFERROR(MAX(INDIRECT(ADDRESS(1,COLUMN())):INDIRECT(ADDRESS(ROW()-1,COLUMN())))+1,1)","v":22},null,null,null,null,null,"二酸化炭素排出量(t)"]
[null,null,null,null,null,null,"延床面積(㎡)"]
[{"$f":"IFERROR(MAX(INDIRECT(ADDRESS(1,COLUMN())):INDIRECT(ADDRESS(ROW()-1,COLUMN())))+1,1)","v":23},null,null,null,null,null,"二酸化炭素排出量(t)"]
[null,null,null,null,null,null,"延床面積(㎡)"]
[{"$f":"IFERROR(MAX(INDIRECT(ADDRESS(1,COLUMN())):INDIRECT(ADDRESS(ROW()-1,COLUMN())))+1,1)","v":24},null,null,null,null,null,"二酸化炭素排出量(t)"]
[null,null,null,null,null,null,"延床面積(㎡)"]
[{"$f":"IFERROR(MAX(INDIRECT(ADDRESS(1,COLUMN())):INDIRECT(ADDRESS(ROW()-1,COLUMN())))+1,1)","v":25},null,null,null,null,null,"二酸化炭素排出量(t)"]
[null,null,null,null,null,null,"延床面積(㎡)"]
[{"$f":"IFERROR(MAX(INDIRECT(ADDRESS(1,COLUMN())):INDIRECT(ADDRESS(ROW()-1,COLUMN())))+1,1)","v":26},null,null,null,null,null,"二酸化炭素排出量(t)"]
[null,null,null,null,null,null,"延床面積(㎡)"]
[{"$f":"IFERROR(MAX(INDIRECT(ADDRESS(1,COLUMN())):INDIRECT(ADDRESS(ROW()-1,COLUMN())))+1,1)","v":27},null,null,null,null,null,"二酸化炭素排出量(t)"]
[null,null,null,null,null,null,"延床面積(㎡)"]
[{"$f":"IFERROR(MAX(INDIRECT(ADDRESS(1,COLUMN())):INDIRECT(ADDRESS(ROW()-1,COLUMN())))+1,1)","v":28},null,null,null,null,null,"二酸化炭素排出量(t)"]
[null,null,null,null,null,null,"延床面積(㎡)"]
[{"$f":"IFERROR(MAX(INDIRECT(ADDRESS(1,COLUMN())):INDIRECT(ADDRESS(ROW()-1,COLUMN())))+1,1)","v":29},null,null,null,null,null,"二酸化炭素排出量(t)"]
[null,null,null,null,null,null,"延床面積(㎡)"]
[{"$f":"IFERROR(MAX(INDIRECT(ADDRESS(1,COLUMN())):INDIRECT(ADDRESS(ROW()-1,COLUMN())))+1,1)","v":30},null,null,null,null,null,"二酸化炭素排出量(t)"]
[null,null,null,null,null,null,"延床面積(㎡)"]
[{"$f":"IFERROR(MAX(INDIRECT(ADDRESS(1,COLUMN())):INDIRECT(ADDRESS(ROW()-1,COLUMN())))+1,1)","v":31},null,null,null,null,null,"二酸化炭素排出量(t)"]
[null,null,null,null,null,null,"延床面積(㎡)"]
[{"$f":"IFERROR(MAX(INDIRECT(ADDRESS(1,COLUMN())):INDIRECT(ADDRESS(ROW()-1,COLUMN())))+1,1)","v":32},null,null,null,null,null,"二酸化炭素排出量(t)"]
[null,null,null,null,null,null,"延床面積(㎡)"]
[{"$f":"IFERROR(MAX(INDIRECT(ADDRESS(1,COLUMN())):INDIRECT(ADDRESS(ROW()-1,COLUMN())))+1,1)","v":33},null,null,null,null,null,"二酸化炭素排出量(t)"]
[null,null,null,null,null,null,"延床面積(㎡)"]
[{"$f":"IFERROR(MAX(INDIRECT(ADDRESS(1,COLUMN())):INDIRECT(ADDRESS(ROW()-1,COLUMN())))+1,1)","v":34},null,null,null,null,null,"二酸化炭素排出量(t)"]
[null,null,null,null,null,null,"延床面積(㎡)"]
[{"$f":"IFERROR(MAX(INDIRECT(ADDRESS(1,COLUMN())):INDIRECT(ADDRESS(ROW()-1,COLUMN())))+1,1)","v":35},null,null,null,null,null,"二酸化炭素排出量(t)"]
[null,null,null,null,null,null,"延床面積(㎡)"]
[{"$f":"IFERROR(MAX(INDIRECT(ADDRESS(1,COLUMN())):INDIRECT(ADDRESS(ROW()-1,COLUMN())))+1,1)","v":36},null,null,null,null,null,"二酸化炭素排出量(t)"]
[null,null,null,null,null,null,"延床面積(㎡)"]
[{"$f":"IFERROR(MAX(INDIRECT(ADDRESS(1,COLUMN())):INDIRECT(ADDRESS(ROW()-1,COLUMN())))+1,1)","v":37},null,null,null,null,null,"二酸化炭素排出量(t)"]
[null,null,null,null,null,null,"延床面積(㎡)"]
[{"$f":"IFERROR(MAX(INDIRECT(ADDRESS(1,COLUMN())):INDIRECT(ADDRESS(ROW()-1,COLUMN())))+1,1)","v":38},null,null,null,null,null,"二酸化炭素排出量(t)"]
[null,null,null,null,null,null,"延床面積(㎡)"]
[{"$f":"IFERROR(MAX(INDIRECT(ADDRESS(1,COLUMN())):INDIRECT(ADDRESS(ROW()-1,COLUMN())))+1,1)","v":39},null,null,null,null,null,"二酸化炭素排出量(t)"]
[null,null,null,null,null,null,"延床面積(㎡)"]
[{"$f":"IFERROR(MAX(INDIRECT(ADDRESS(1,COLUMN())):INDIRECT(ADDRESS(ROW()-1,COLUMN())))+1,1)","v":40},null,null,null,null,null,"二酸化炭素排出量(t)"]
[null,null,null,null,null,null,"延床面積(㎡)"]
[{"$f":"IFERROR(MAX(INDIRECT(ADDRESS(1,COLUMN())):INDIRECT(ADDRESS(ROW()-1,COLUMN())))+1,1)","v":41},null,null,null,null,null,"二酸化炭素排出量(t)"]
[null,null,null,null,null,null,"延床面積(㎡)"]
[{"$f":"IFERROR(MAX(INDIRECT(ADDRESS(1,COLUMN())):INDIRECT(ADDRESS(ROW()-1,COLUMN())))+1,1)","v":42},null,null,null,null,null,"二酸化炭素排出量(t)"]
[null,null,null,null,null,null,"延床面積(㎡)"]
[{"$f":"IFERROR(MAX(INDIRECT(ADDRESS(1,COLUMN())):INDIRECT(ADDRESS(ROW()-1,COLUMN())))+1,1)","v":43},null,null,null,null,null,"二酸化炭素排出量(t)"]
[null,null,null,null,null,null,"延床面積(㎡)"]
[{"$f":"IFERROR(MAX(INDIRECT(ADDRESS(1,COLUMN())):INDIRECT(ADDRESS(ROW()-1,COLUMN())))+1,1)","v":44},null,null,null,null,null,"二酸化炭素排出量(t)"]
[null,null,null,null,null,null,"延床面積(㎡)"]
[{"$f":"IFERROR(MAX(INDIRECT(ADDRESS(1,COLUMN())):INDIRECT(ADDRESS(ROW()-1,COLUMN())))+1,1)","v":45},null,null,null,null,null,"二酸化炭素排出量(t)"]
[null,null,null,null,null,null,"延床面積(㎡)"]
[{"$f":"IFERROR(MAX(INDIRECT(ADDRESS(1,COLUMN())):INDIRECT(ADDRESS(ROW()-1,COLUMN())))+1,1)","v":46},null,null,null,null,null,"二酸化炭素排出量(t)"]
[null,null,null,null,null,null,"延床面積(㎡)"]
[{"$f":"IFERROR(MAX(INDIRECT(ADDRESS(1,COLUMN())):INDIRECT(ADDRESS(ROW()-1,COLUMN())))+1,1)","v":47},null,null,null,null,null,"二酸化炭素排出量(t)"]
[null,null,null,null,null,null,"延床面積(㎡)"]
[{"$f":"IFERROR(MAX(INDIRECT(ADDRESS(1,COLUMN())):INDIRECT(ADDRESS(ROW()-1,COLUMN())))+1,1)","v":48},null,null,null,null,null,"二酸化炭素排出量(t)"]
[null,null,null,null,null,null,"延床面積(㎡)"]
[{"$f":"IFERROR(MAX(INDIRECT(ADDRESS(1,COLUMN())):INDIRECT(ADDRESS(ROW()-1,COLUMN())))+1,1)","v":49},null,null,null,null,null,"二酸化炭素排出量(t)"]
[null,null,null,null,null,null,"延床面積(㎡)"]
[{"$f":"IFERROR(MAX(INDIRECT(ADDRESS(1,COLUMN())):INDIRECT(ADDRESS(ROW()-1,COLUMN())))+1,1)","v":50},null,null,null,null,null,"二酸化炭素排出量(t)"]
[null,null,null,null,null,null,"延床面積(㎡)"]
[{"$f":"IFERROR(MAX(INDIRECT(ADDRESS(1,COLUMN())):INDIRECT(ADDRESS(ROW()-1,COLUMN())))+1,1)","v":51},null,null,null,null,null,"二酸化炭素排出量(t)"]
[null,null,null,null,null,null,"延床面積(㎡)"]
[{"$f":"IFERROR(MAX(INDIRECT(ADDRESS(1,COLUMN())):INDIRECT(ADDRESS(ROW()-1,COLUMN())))+1,1)","v":52},null,null,null,null,null,"二酸化炭素排出量(t)"]
[null,null,null,null,null,null,"延床面積(㎡)"]
[{"$f":"IFERROR(MAX(INDIRECT(ADDRESS(1,COLUMN())):INDIRECT(ADDRESS(ROW()-1,COLUMN())))+1,1)","v":53},null,null,null,null,null,"二酸化炭素排出量(t)"]
[null,null,null,null,null,null,"延床面積(㎡)"]
[{"$f":"IFERROR(MAX(INDIRECT(ADDRESS(1,COLUMN())):INDIRECT(ADDRESS(ROW()-1,COLUMN())))+1,1)","v":54},null,null,null,null,null,"二酸化炭素排出量(t)"]
[null,null,null,null,null,null,"延床面積(㎡)"]
[{"$f":"IFERROR(MAX(INDIRECT(ADDRESS(1,COLUMN())):INDIRECT(ADDRESS(ROW()-1,COLUMN())))+1,1)","v":55},null,null,null,null,null,"二酸化炭素排出量(t)"]
[null,null,null,null,null,null,"延床面積(㎡)"]
[{"$f":"IFERROR(MAX(INDIRECT(ADDRESS(1,COLUMN())):INDIRECT(ADDRESS(ROW()-1,COLUMN())))+1,1)","v":56},null,null,null,null,null,"二酸化炭素排出量(t)"]
[null,null,null,null,null,null,"延床面積(㎡)"]
[{"$f":"IFERROR(MAX(INDIRECT(ADDRESS(1,COLUMN())):INDIRECT(ADDRESS(ROW()-1,COLUMN())))+1,1)","v":57},null,null,null,null,null,"二酸化炭素排出量(t)"]
[null,null,null,null,null,null,"延床面積(㎡)"]
[{"$f":"IFERROR(MAX(INDIRECT(ADDRESS(1,COLUMN())):INDIRECT(ADDRESS(ROW()-1,COLUMN())))+1,1)","v":58},null,null,null,null,null,"二酸化炭素排出量(t)"]
[null,null,null,null,null,null,"延床面積(㎡)"]
[{"$f":"IFERROR(MAX(INDIRECT(ADDRESS(1,COLUMN())):INDIRECT(ADDRESS(ROW()-1,COLUMN())))+1,1)","v":59},null,null,null,null,null,"二酸化炭素排出量(t)"]
[null,null,null,null,null,null,"延床面積(㎡)"]
[{"$f":"IFERROR(MAX(INDIRECT(ADDRESS(1,COLUMN())):INDIRECT(ADDRESS(ROW()-1,COLUMN())))+1,1)","v":60},null,null,null,null,null,"二酸化炭素排出量(t)"]
[null,null,null,null,null,null,"延床面積(㎡)"]
[{"$f":"IFERROR(MAX(INDIRECT(ADDRESS(1,COLUMN())):INDIRECT(ADDRESS(ROW()-1,COLUMN())))+1,1)","v":61},null,null,null,null,null,"二酸化炭素排出量(t)"]
[null,null,null,null,null,null,"延床面積(㎡)"]
[{"$f":"IFERROR(MAX(INDIRECT(ADDRESS(1,COLUMN())):INDIRECT(ADDRESS(ROW()-1,COLUMN())))+1,1)","v":62},null,null,null,null,null,"二酸化炭素排出量(t)"]
[null,null,null,null,null,null,"延床面積(㎡)"]
[{"$f":"IFERROR(MAX(INDIRECT(ADDRESS(1,COLUMN())):INDIRECT(ADDRESS(ROW()-1,COLUMN())))+1,1)","v":63},null,null,null,null,null,"二酸化炭素排出量(t)"]
[null,null,null,null,null,null,"延床面積(㎡)"]
[{"$f":"IFERROR(MAX(INDIRECT(ADDRESS(1,COLUMN())):INDIRECT(ADDRESS(ROW()-1,COLUMN())))+1,1)","v":64},null,null,null,null,null,"二酸化炭素排出量(t)"]
[null,null,null,null,null,null,"延床面積(㎡)"]
[{"$f":"IFERROR(MAX(INDIRECT(ADDRESS(1,COLUMN())):INDIRECT(ADDRESS(ROW()-1,COLUMN())))+1,1)","v":65},null,null,null,null,null,"二酸化炭素排出量(t)"]
[null,null,null,null,null,null,"延床面積(㎡)"]
[{"$f":"IFERROR(MAX(INDIRECT(ADDRESS(1,COLUMN())):INDIRECT(ADDRESS(ROW()-1,COLUMN())))+1,1)","v":66},null,null,null,null,null,"二酸化炭素排出量(t)"]
[null,null,null,null,null,null,"延床面積(㎡)"]
[{"$f":"IFERROR(MAX(INDIRECT(ADDRESS(1,COLUMN())):INDIRECT(ADDRESS(ROW()-1,COLUMN())))+1,1)","v":67},null,null,null,null,null,"二酸化炭素排出量(t)"]
[null,null,null,null,null,null,"延床面積(㎡)"]
[{"$f":"IFERROR(MAX(INDIRECT(ADDRESS(1,COLUMN())):INDIRECT(ADDRESS(ROW()-1,COLUMN())))+1,1)","v":68},null,null,null,null,null,"二酸化炭素排出量(t)"]
[null,null,null,null,null,null,"延床面積(㎡)"]
[{"$f":"IFERROR(MAX(INDIRECT(ADDRESS(1,COLUMN())):INDIRECT(ADDRESS(ROW()-1,COLUMN())))+1,1)","v":69},null,null,null,null,null,"二酸化炭素排出量(t)"]
[null,null,null,null,null,null,"延床面積(㎡)"]
[{"$f":"IFERROR(MAX(INDIRECT(ADDRESS(1,COLUMN())):INDIRECT(ADDRESS(ROW()-1,COLUMN())))+1,1)","v":70},null,null,null,null,null,"二酸化炭素排出量(t)"]
[null,null,null,null,null,null,"延床面積(㎡)"]
[{"$f":"IFERROR(MAX(INDIRECT(ADDRESS(1,COLUMN())):INDIRECT(ADDRESS(ROW()-1,COLUMN())))+1,1)","v":71},null,null,null,null,null,"二酸化炭素排出量(t)"]
[null,null,null,null,null,null,"延床面積(㎡)"]
[{"$f":"IFERROR(MAX(INDIRECT(ADDRESS(1,COLUMN())):INDIRECT(ADDRESS(ROW()-1,COLUMN())))+1,1)","v":72},null,null,null,null,null,"二酸化炭素排出量(t)"]
[null,null,null,null,null,null,"延床面積(㎡)"]
[{"$f":"IFERROR(MAX(INDIRECT(ADDRESS(1,COLUMN())):INDIRECT(ADDRESS(ROW()-1,COLUMN())))+1,1)","v":73},null,null,null,null,null,"二酸化炭素排出量(t)"]
[null,null,null,null,null,null,"延床面積(㎡)"]
[{"$f":"IFERROR(MAX(INDIRECT(ADDRESS(1,COLUMN())):INDIRECT(ADDRESS(ROW()-1,COLUMN())))+1,1)","v":74},null,null,null,null,null,"二酸化炭素排出量(t)"]
[null,null,null,null,null,null,"延床面積(㎡)"]
[{"$f":"IFERROR(MAX(INDIRECT(ADDRESS(1,COLUMN())):INDIRECT(ADDRESS(ROW()-1,COLUMN())))+1,1)","v":75},null,null,null,null,null,"二酸化炭素排出量(t)"]
[null,null,null,null,null,null,"延床面積(㎡)"]
[{"$f":"IFERROR(MAX(INDIRECT(ADDRESS(1,COLUMN())):INDIRECT(ADDRESS(ROW()-1,COLUMN())))+1,1)","v":76},null,null,null,null,null,"二酸化炭素排出量(t)"]
[null,null,null,null,null,null,"延床面積(㎡)"]
[{"$f":"IFERROR(MAX(INDIRECT(ADDRESS(1,COLUMN())):INDIRECT(ADDRESS(ROW()-1,COLUMN())))+1,1)","v":77},null,null,null,null,null,"二酸化炭素排出量(t)"]
[null,null,null,null,null,null,"延床面積(㎡)"]
[{"$f":"IFERROR(MAX(INDIRECT(ADDRESS(1,COLUMN())):INDIRECT(ADDRESS(ROW()-1,COLUMN())))+1,1)","v":78},null,null,null,null,null,"二酸化炭素排出量(t)"]
[null,null,null,null,null,null,"延床面積(㎡)"]
[{"$f":"IFERROR(MAX(INDIRECT(ADDRESS(1,COLUMN())):INDIRECT(ADDRESS(ROW()-1,COLUMN())))+1,1)","v":79},null,null,null,null,null,"二酸化炭素排出量(t)"]
[null,null,null,null,null,null,"延床面積(㎡)"]
[{"$f":"IFERROR(MAX(INDIRECT(ADDRESS(1,COLUMN())):INDIRECT(ADDRESS(ROW()-1,COLUMN())))+1,1)","v":80},null,null,null,null,null,"二酸化炭素排出量(t)"]
[null,null,null,null,null,null,"延床面積(㎡)"]
[{"$f":"IFERROR(MAX(INDIRECT(ADDRESS(1,COLUMN())):INDIRECT(ADDRESS(ROW()-1,COLUMN())))+1,1)","v":81},null,null,null,null,null,"二酸化炭素排出量(t)"]
[null,null,null,null,null,null,"延床面積(㎡)"]
[{"$f":"IFERROR(MAX(INDIRECT(ADDRESS(1,COLUMN())):INDIRECT(ADDRESS(ROW()-1,COLUMN())))+1,1)","v":82},null,null,null,null,null,"二酸化炭素排出量(t)"]
[null,null,null,null,null,null,"延床面積(㎡)"]
[{"$f":"IFERROR(MAX(INDIRECT(ADDRESS(1,COLUMN())):INDIRECT(ADDRESS(ROW()-1,COLUMN())))+1,1)","v":83},null,null,null,null,null,"二酸化炭素排出量(t)"]
[null,null,null,null,null,null,"延床面積(㎡)"]
[{"$f":"IFERROR(MAX(INDIRECT(ADDRESS(1,COLUMN())):INDIRECT(ADDRESS(ROW()-1,COLUMN())))+1,1)","v":84},null,null,null,null,null,"二酸化炭素排出量(t)"]
[null,null,null,null,null,null,"延床面積(㎡)"]
[{"$f":"IFERROR(MAX(INDIRECT(ADDRESS(1,COLUMN())):INDIRECT(ADDRESS(ROW()-1,COLUMN())))+1,1)","v":85},null,null,null,null,null,"二酸化炭素排出量(t)"]
[null,null,null,null,null,null,"延床面積(㎡)"]
[{"$f":"IFERROR(MAX(INDIRECT(ADDRESS(1,COLUMN())):INDIRECT(ADDRESS(ROW()-1,COLUMN())))+1,1)","v":86},null,null,null,null,null,"二酸化炭素排出量(t)"]
[null,null,null,null,null,null,"延床面積(㎡)"]
[{"$f":"IFERROR(MAX(INDIRECT(ADDRESS(1,COLUMN())):INDIRECT(ADDRESS(ROW()-1,COLUMN())))+1,1)","v":87},null,null,null,null,null,"二酸化炭素排出量(t)"]
[null,null,null,null,null,null,"延床面積(㎡)"]
[{"$f":"IFERROR(MAX(INDIRECT(ADDRESS(1,COLUMN())):INDIRECT(ADDRESS(ROW()-1,COLUMN())))+1,1)","v":88},null,null,null,null,null,"二酸化炭素排出量(t)"]
[null,null,null,null,null,null,"延床面積(㎡)"]
[{"$f":"IFERROR(MAX(INDIRECT(ADDRESS(1,COLUMN())):INDIRECT(ADDRESS(ROW()-1,COLUMN())))+1,1)","v":89},null,null,null,null,null,"二酸化炭素排出量(t)"]
[null,null,null,null,null,null,"延床面積(㎡)"]
[{"$f":"IFERROR(MAX(INDIRECT(ADDRESS(1,COLUMN())):INDIRECT(ADDRESS(ROW()-1,COLUMN())))+1,1)","v":90},null,null,null,null,null,"二酸化炭素排出量(t)"]
[null,null,null,null,null,null,"延床面積(㎡)"]
[{"$f":"IFERROR(MAX(INDIRECT(ADDRESS(1,COLUMN())):INDIRECT(ADDRESS(ROW()-1,COLUMN())))+1,1)","v":91},null,null,null,null,null,"二酸化炭素排出量(t)"]
[null,null,null,null,null,null,"延床面積(㎡)"]
[{"$f":"IFERROR(MAX(INDIRECT(ADDRESS(1,COLUMN())):INDIRECT(ADDRESS(ROW()-1,COLUMN())))+1,1)","v":92},null,null,null,null,null,"二酸化炭素排出量(t)"]
[null,null,null,null,null,null,"延床面積(㎡)"]
[{"$f":"IFERROR(MAX(INDIRECT(ADDRESS(1,COLUMN())):INDIRECT(ADDRESS(ROW()-1,COLUMN())))+1,1)","v":93},null,null,null,null,null,"二酸化炭素排出量(t)"]
[null,null,null,null,null,null,"延床面積(㎡)"]
[{"$f":"IFERROR(MAX(INDIRECT(ADDRESS(1,COLUMN())):INDIRECT(ADDRESS(ROW()-1,COLUMN())))+1,1)","v":94},null,null,null,null,null,"二酸化炭素排出量(t)"]
[null,null,null,null,null,null,"延床面積(㎡)"]
[{"$f":"IFERROR(MAX(INDIRECT(ADDRESS(1,COLUMN())):INDIRECT(ADDRESS(ROW()-1,COLUMN())))+1,1)","v":95},null,null,null,null,null,"二酸化炭素排出量(t)"]
[null,null,null,null,null,null,"延床面積(㎡)"]
[{"$f":"IFERROR(MAX(INDIRECT(ADDRESS(1,COLUMN())):INDIRECT(ADDRESS(ROW()-1,COLUMN())))+1,1)","v":96},null,null,null,null,null,"二酸化炭素排出量(t)"]
[null,null,null,null,null,null,"延床面積(㎡)"]
[{"$f":"IFERROR(MAX(INDIRECT(ADDRESS(1,COLUMN())):INDIRECT(ADDRESS(ROW()-1,COLUMN())))+1,1)","v":97},null,null,null,null,null,"二酸化炭素排出量(t)"]
[null,null,null,null,null,null,"延床面積(㎡)"]
[{"$f":"IFERROR(MAX(INDIRECT(ADDRESS(1,COLUMN())):INDIRECT(ADDRESS(ROW()-1,COLUMN())))+1,1)","v":98},null,null,null,null,null,"二酸化炭素排出量(t)"]
[null,null,null,null,null,null,"延床面積(㎡)"]
[{"$f":"IFERROR(MAX(INDIRECT(ADDRESS(1,COLUMN())):INDIRECT(ADDRESS(ROW()-1,COLUMN())))+1,1)","v":99},null,null,null,null,null,"二酸化炭素排出量(t)"]
[null,null,null,null,null,null,"延床面積(㎡)"]
[{"$f":"IFERROR(MAX(INDIRECT(ADDRESS(1,COLUMN())):INDIRECT(ADDRESS(ROW()-1,COLUMN())))+1,1)","v":100},null,null,null,null,null,"二酸化炭素排出量(t)"]
[null,null,null,null,null,null,"延床面積(㎡)"]

{"sheet":"⑤","index":10,"n_rows":109,"n_cols":28,"rows_kept":109,"cut":false,"hidden":false,"merged":[[3,0,3,1],[4,0,4,1],[7,10,7,14],[9,10,9,14],[10,10,10,14],[11,10,11,14],[12,10,12,14],[7,8,7,9],[9,8,9,9],[9,2,9,6],[10,2,10,6],[11,2,11,6],[12,2,12,6],[7,2,7,6],[10,8,10,9],[11,8,11,9],[12,8,12,9],[8,2,8,6],[8,8,8,9],[8,10,8,14],[41,2,41,6],[42,2,42,6],[28,8,28,9],[25,2,25,6],[25,8,25,9],[26,2,26,6],[26,8,26,9],[23,2,23,6],[23,8,23,9],[24,2,24,6],[24,8,24,9],[32,2,32,6],[33,2,33,6],[34,2,34,6],[35,2,35,6],[36,2,36,6],[37,2,37,6],[38,2,38,6],[39,2,39,6],[40,2,40,6],[13,2,13,6],[14,2,14,6],[15,2,15,6],[16,2,16,6],[27,2,27,6],[28,2,28,6],[29,2,29,6],[30,2,30,6],[31,2,31,6],[21,2,21,6],[22,2,22,6],[19,2,19,6],[20,2,20,6],[17,2,17,6],[18,2,18,6],[11,15,11,16],[12,15,12,16],[13,15,13,16],[23,10,23,14],[24,10,24,14],[25,10,25,14],[26,10,26,14],[27,10,27,14],[27,8,27,9],[15,8,15,9],[16,8,16,9],[15,10,15,14],[16,10,16,14],[13,8,13,9],[14,8,14,9],[13,10,13,14],[14,10,14,14],[21,8,21,9],[22,8,22,9],[19,8,19,9],[20,8,20,9],[17,8,17,9],[18,8,18,9],[28,10,28,14],[17,10,17,14],[18,10,18,14],[19,10,19,14],[20,10,20,14],[21,10,21,14],[22,10,22,14],[26,15,26,16],[27,15,27,16],[28,15,28,16],[22,15,22,16],[23,15,23,16],[24,15,24,16],[25,15,25,16],[7,20,7,21],[9,20,9,21],[10,20,10,21],[11,20,11,21],[12,20,12,21],[13,20,13,21],[14,20,14,21],[20,15,20,16],[21,15,21,16],[14,15,14,16],[15,15,15,16],[16,15,16,16],[17,15,17,16],[18,15,18,16],[19,15,19,16],[9,15,9,16],[10,15,10,16],[9,17,9,18],[10,17,10,18],[11,17,11,18],[12,17,12,18],[13,17,13,18],[14,17,14,18],[15,17,15,18],[25,20,25,21],[26,20,26,21],[15,20,15,21],[16,20,16,21],[17,20,17,21],[18,20,18,21],[19,20,19,21],[20,20,20,21],[21,20,21,21],[22,20,22,21],[28,17,28,18],[7,22,7,23],[9,22,9,23],[10,22,10,23],[11,22,11,23],[12,22,12,23],[13,22,13,23],[14,22,14,23],[22,17,22,18],[23,17,23,18],[24,17,24,18],[25,17,25,18],[26,17,26,18],[27,17,27,18],[16,17,16,18],[17,17,17,18],[18,17,18,18],[19,17,19,18],[20,17,20,18],[21,17,21,18],[27,20,27,21],[28,20,28,21],[23,20,23,21],[24,20,24,21],[27,22,27,23],[28,22,28,23],[7,24,7,25],[9,24,9,25],[10,24,10,25],[11,24,11,25],[12,24,12,25],[13,24,13,25],[14,24,14,25],[15,24,15,25],[21,22,21,23],[22,22,22,23],[23,22,23,23],[24,22,24,23],[25,22,25,23],[26,22,26,23],[15,22,15,23],[16,22,16,23],[17,22,17,23],[18,22,18,23],[19,22,19,23],[20,22,20,23],[28,24,28,25],[22,24,22,25],[23,24,23,25],[24,24,24,25],[25,24,25,25],[26,24,26,25],[27,24,27,25],[16,24,16,25],[17,24,17,25],[18,24,18,25],[19,24,19,25],[20,24,20,25],[21,24,21,25],[43,2,43,6],[44,2,44,6],[45,2,45,6],[46,2,46,6],[47,2,47,6],[48,2,48,6],[49,2,49,6],[50,2,50,6],[51,2,51,6],[52,2,52,6],[53,2,53,6],[54,2,54,6],[55,2,55,6],[56,2,56,6],[57,2,57,6],[58,2,58,6],[29,8,29,9],[30,8,30,9],[31,8,31,9],[32,8,32,9],[33,8,33,9],[34,8,34,9],[35,8,35,9],[36,8,36,9],[37,8,37,9],[38,8,38,9],[39,8,39,9],[40,8,40,9],[41,8,41,9],[42,8,42,9],[43,8,43,9],[44,8,44,9],[45,8,45,9],[46,8,46,9],[47,8,47,9],[48,8,48,9],[49,8,49,9],[50,8,50,9],[51,8,51,9],[52,8,52,9],[53,8,53,9],[54,8,54,9],[55,8,55,9],[56,8,56,9],[57,8,57,9],[58,8,58,9],[29,10,29,14],[30,10,30,14],[31,10,31,14],[32,10,32,14],[33,10,33,14],[34,10,34,14],[35,10,35,14],[36,10,36,14],[37,10,37,14],[38,10,38,14],[39,10,39,14],[40,10,40,14],[41,10,41,14],[42,10,42,14],[43,10,43,14],[44,10,44,14],[45,10,45,14],[46,10,46,14],[47,10,47,14],[48,10,48,14],[49,10,49,14],[50,10,50,14],[51,10,51,14],[52,10,52,14],[53,10,53,14],[54,10,54,14],[55,10,55,14],[56,10,56,14],[57,10,57,14],[58,10,58,14],[29,15,29,16],[30,15,30,16],[31,15,31,16],[32,15,32,16],[33,15,33,16],[34,15,34,16],[35,15,35,16],[36,15,36,16],[37,15,37,16],[38,15,38,16],[39,15,39,16],[40,15,40,16],[41,15,41,16],[42,15,42,16],[43,15,43,16],[44,15,44,16],[45,15,45,16],[46,15,46,16],[47,15,47,16],[48,15,48,16],[49,15,49,16],[50,15,50,16],[51,15,51,16],[29,17,29,18],[30,17,30,18],[31,17,31,18],[32,17,32,18],[33,17,33,18],[34,17,34,18],[35,17,35,18],[36,17,36,18],[37,17,37,18],[38,20,38,21],[39,20,39,21],[40,20,40,21],[41,20,41,21],[42,20,42,21],[43,20,43,21],[44,20,44,21],[45,20,45,21],[47,17,47,18],[38,17,38,18],[39,17,39,18],[40,17,40,18],[41,17,41,18],[42,17,42,18],[43,17,43,18],[44,17,44,18],[45,17,45,18],[29,20,29,21],[30,20,30,21],[31,20,31,21],[32,20,32,21],[33,20,33,21],[34,20,34,21],[35,20,35,21],[36,20,36,21],[37,20,37,21],[52,15,52,16],[53,15,53,16],[54,15,54,16],[41,22,41,23],[42,22,42,23],[43,22,43,23],[44,22,44,23],[45,22,45,23],[58,17,58,18],[48,17,48,18],[52,20,52,21],[53,20,53,21],[54,20,54,21],[52,17,52,18],[55,15,55,16],[56,15,56,16],[57,15,57,16],[58,15,58,16],[49,17,49,18],[50,17,50,18],[51,17,51,18],[55,20,55,21],[56,20,56,21],[57,20,57,21],[55,17,55,18],[56,17,56,18],[57,17,57,18],[46,22,46,23],[47,22,47,23],[48,22,48,23],[49,22,49,23],[50,22,50,23],[51,22,51,23],[49,20,49,21],[50,20,50,21],[51,20,51,21],[46,20,46,21],[47,20,47,21],[48,20,48,21],[46,17,46,18],[53,17,53,18],[54,17,54,18],[32,22,32,23],[33,22,33,23],[34,22,34,23],[35,22,35,23],[36,22,36,23],[37,22,37,23],[38,22,38,23],[39,22,39,23],[40,22,40,23],[7,15,7,16],[7,17,7,18],[46,24,46,25],[47,24,47,25],[48,24,48,25],[49,24,49,25],[50,24,50,25],[51,24,51,25],[52,24,52,25],[52,22,52,23],[29,24,29,25],[30,24,30,25],[31,24,31,25],[32,24,32,25],[33,24,33,25],[34,24,34,25],[35,24,35,25],[36,24,36,25],[37,24,37,25],[38,24,38,25],[39,24,39,25],[40,24,40,25],[41,24,41,25],[42,24,42,25],[8,15,8,16],[8,17,8,18],[8,20,8,21],[8,22,8,23],[8,24,8,25],[55,24,55,25],[56,24,56,25],[57,24,57,25],[58,24,58,25],[53,24,53,25],[54,24,54,25],[53,22,53,23],[54,22,54,23],[55,22,55,23],[56,22,56,23],[57,22,57,23],[58,22,58,23],[43,24,43,25],[44,24,44,25],[45,24,45,25],[58,20,58,21],[29,22,29,23],[30,22,30,23],[31,22,31,23],[60,2,60,6],[60,8,60,9],[60,10,60,14],[60,15,60,16],[60,17,60,18],[60,20,60,21],[60,22,60,23],[60,24,60,25],[61,2,61,6],[61,8,61,9],[61,10,61,14],[61,15,61,16],[61,17,61,18],[61,20,61,21],[61,22,61,23],[61,24,61,25],[62,2,62,6],[62,8,62,9],[62,10,62,14],[62,15,62,16],[62,17,62,18],[62,20,62,21],[62,22,62,23],[62,24,62,25],[63,2,63,6],[63,8,63,9],[63,10,63,14],[63,15,63,16],[63,17,63,18],[63,20,63,21],[63,22,63,23],[63,24,63,25],[64,2,64,6],[64,8,64,9],[64,10,64,14],[64,15,64,16],[64,17,64,18],[64,20,64,21],[64,22,64,23],[64,24,64,25],[65,2,65,6],[65,8,65,9],[65,10,65,14],[65,15,65,16],[65,17,65,18],[65,20,65,21],[65,22,65,23],[65,24,65,25],[66,2,66,6],[66,8,66,9],[66,10,66,14],[66,15,66,16],[66,17,66,18],[66,20,66,21],[66,22,66,23],[66,24,66,25],[67,2,67,6],[67,8,67,9],[67,10,67,14],[67,15,67,16],[67,17,67,18],[67,20,67,21],[67,22,67,23],[67,24,67,25],[68,2,68,6],[68,8,68,9],[68,10,68,14],[68,15,68,16],[68,17,68,18],[68,20,68,21],[68,22,68,23],[68,24,68,25],[69,2,69,6],[69,8,69,9],[69,10,69,14],[69,15,69,16],[69,17,69,18],[69,20,69,21],[69,22,69,23],[69,24,69,25],[70,2,70,6],[70,8,70,9],[70,10,70,14],[70,15,70,16],[70,17,70,18],[70,20,70,21],[70,22,70,23],[70,24,70,25],[71,2,71,6],[71,8,71,9],[71,10,71,14],[71,15,71,16],[71,17,71,18],[71,20,71,21],[71,22,71,23],[71,24,71,25],[72,2,72,6],[72,8,72,9],[72,10,72,14],[72,15,72,16],[72,17,72,18],[72,20,72,21],[72,22,72,23],[72,24,72,25],[73,2,73,6],[73,8,73,9],[73,10,73,14],[73,15,73,16],[73,17,73,18],[73,20,73,21],[73,22,73,23],[73,24,73,25],[74,2,74,6],[74,8,74,9],[74,10,74,14],[74,15,74,16],[74,17,74,18],[74,20,74,21],[74,22,74,23],[74,24,74,25],[75,2,75,6],[75,8,75,9],[75,10,75,14],[75,15,75,16],[75,17,75,18],[75,20,75,21],[75,22,75,23],[75,24,75,25],[76,2,76,6],[76,8,76,9],[76,10,76,14],[76,15,76,16],[76,17,76,18],[76,20,76,21],[76,22,76,23],[76,24,76,25],[77,2,77,6],[77,8,77,9],[77,10,77,14],[77,15,77,16],[77,17,77,18],[77,20,77,21],[77,22,77,23],[77,24,77,25],[80,2,80,6],[80,8,80,9],[80,10,80,14],[80,15,80,16],[80,17,80,18],[80,20,80,21],[80,22,80,23],[80,24,80,25],[81,2,81,6],[81,8,81,9],[81,10,81,14],[81,15,81,16],[81,17,81,18],[81,20,81,21],[81,22,81,23],[81,24,81,25],[82,2,82,6],[82,8,82,9],[82,10,82,14],[82,15,82,16],[82,17,82,18],[82,20,82,21],[82,22,82,23],[82,24,82,25],[83,2,83,6],[83,8,83,9],[83,10,83,14],[83,15,83,16],[83,17,83,18],[83,20,83,21],[83,22,83,23],[83,24,83,25],[84,2,84,6],[84,8,84,9],[84,10,84,14],[84,15,84,16],[84,17,84,18],[84,20,84,21],[84,22,84,23],[84,24,84,25],[85,2,85,6],[85,8,85,9],[85,10,85,14],[85,15,85,16],[85,17,85,18],[85,20,85,21],[85,22,85,23],[85,24,85,25],[86,2,86,6],[86,8,86,9],[86,10,86,14],[86,15,86,16],[86,17,86,18],[86,20,86,21],[86,22,86,23],[86,24,86,25],[87,2,87,6],[87,8,87,9],[87,10,87,14],[87,15,87,16],[87,17,87,18],[87,20,87,21],[87,22,87,23],[87,24,87,25],[88,2,88,6],[88,8,88,9],[88,10,88,14],[88,15,88,16],[88,17,88,18],[88,20,88,21],[88,22,88,23],[88,24,88,25],[89,2,89,6],[89,8,89,9],[89,10,89,14],[89,15,89,16],[89,17,89,18],[89,20,89,21],[89,22,89,23],[89,24,89,25],[90,2,90,6],[90,8,90,9],[90,10,90,14],[90,15,90,16],[90,17,90,18],[90,20,90,21],[90,22,90,23],[90,24,90,25],[91,2,91,6],[91,8,91,9],[91,10,91,14],[91,15,91,16],[91,17,91,18],[91,20,91,21],[91,22,91,23],[91,24,91,25],[92,2,92,6],[92,8,92,9],[92,10,92,14],[92,15,92,16],[92,17,92,18],[92,20,92,21],[92,22,92,23],[92,24,92,25],[93,2,93,6],[93,8,93,9],[93,10,93,14],[93,15,93,16],[93,17,93,18],[93,20,93,21],[93,22,93,23],[93,24,93,25],[94,2,94,6],[94,8,94,9],[94,10,94,14],[94,15,94,16],[94,17,94,18],[94,20,94,21],[94,22,94,23],[94,24,94,25],[95,2,95,6],[95,8,95,9],[95,10,95,14],[95,15,95,16],[95,17,95,18],[95,20,95,21],[95,22,95,23],[95,24,95,25],[96,2,96,6],[96,8,96,9],[96,10,96,14],[96,15,96,16],[96,17,96,18],[96,20,96,21],[96,22,96,23],[96,24,96,25],[97,2,97,6],[97,8,97,9],[97,10,97,14],[97,15,97,16],[97,17,97,18],[97,20,97,21],[97,22,97,23],[97,24,97,25],[98,2,98,6],[98,8,98,9],[98,10,98,14],[98,15,98,16],[98,17,98,18],[98,20,98,21],[98,22,98,23],[98,24,98,25],[99,2,99,6],[99,8,99,9],[99,10,99,14],[99,15,99,16],[99,17,99,18],[99,20,99,21],[99,22,99,23],[99,24,99,25],[100,2,100,6],[100,8,100,9],[100,10,100,14],[100,15,100,16],[100,17,100,18],[100,20,100,21],[100,22,100,23],[100,24,100,25],[101,2,101,6],[101,8,101,9],[101,10,101,14],[101,15,101,16],[101,17,101,18],[101,20,101,21],[101,22,101,23],[101,24,101,25],[102,2,102,6],[102,8,102,9],[102,10,102,14],[102,15,102,16],[102,17,102,18],[102,20,102,21],[102,22,102,23],[102,24,102,25],[103,2,103,6],[103,8,103,9],[103,10,103,14],[103,15,103,16],[103,17,103,18],[103,20,103,21],[103,22,103,23],[103,24,103,25],[104,2,104,6],[104,8,104,9],[104,10,104,14],[104,15,104,16],[104,17,104,18],[104,20,104,21],[104,22,104,23],[104,24,104,25],[105,2,105,6],[105,8,105,9],[105,10,105,14],[105,15,105,16],[105,17,105,18],[105,20,105,21],[105,22,105,23],[105,24,105,25],[108,2,108,6],[108,8,108,9],[108,10,108,14],[108,15,108,16],[108,17,108,18],[108,20,108,21],[108,22,108,23],[108,24,108,25],[106,2,106,6],[106,8,106,9],[106,10,106,14],[106,15,106,16],[106,17,106,18],[106,20,106,21],[106,22,106,23],[106,24,106,25],[107,2,107,6],[107,8,107,9],[107,10,107,14],[107,15,107,16],[107,17,107,18],[107,20,107,21],[107,22,107,23],[107,24,107,25],[59,2,59,6],[59,8,59,9],[59,10,59,14],[59,15,59,16],[59,17,59,18],[59,20,59,21],[59,22,59,23],[59,24,59,25],[79,2,79,6],[79,8,79,9],[79,10,79,14],[79,15,79,16],[79,17,79,18],[79,20,79,21],[79,22,79,23],[79,24,79,25],[78,2,78,6],[78,8,78,9],[78,10,78,14],[78,15,78,16],[78,17,78,18],[78,20,78,21],[78,22,78,23],[78,24,78,25]]}
[]
["♯補正を行う年度及び契約していた小売電気事業者をプルダウンから選択後、受け入れた電気量を青色セルに記入してください。"]
["♯「小売電気事業者名」のプルダウンに表示されない事業者から再エネ電気の調達を行った場合は「小売電気事業者名」及「調整前（後）CO2排出係数」を手入力してください。"]
["補正値合計",null,{"$f":"補正結果!O14","v":"2015年度"},{"$f":"補正結果!U14","v":"2016年度"},{"$f":"補正結果!AA14","v":"2017年度"},{"$f":"補正結果!AG14","v":"2018年度"},{"$f":"補正結果!AM14","v":"2019年度"}]
["補正二酸化炭素排出量（t）",null,{"$f":"SUMIF(H:H,C4,Y:Z)*-1","v":0},{"$f":"SUMIF(H:H,D4,Y:Z)*-1","v":0},{"$f":"SUMIF(H:H,E4,Y:Z)*-1","v":0},{"$f":"SUMIF(H:H,F4,Y:Z)*-1","v":0},{"$f":"SUMIF(H:H,G4,Y:Z)*-1","v":0}]
[]
[null,null,null,null,null,null,null,null,null,null,null,null,null,null,null,null,null,null,null,null,null,null,null,null,null,null,"調整前調整後チェック","適用排出係数"]
["No.","事業所番号","事業所名",null,null,null,null,"受入年度","受入年度の排出係数",null,"小売電気事業者名",null,null,null,null,"小売電気事業者\nの調整前CO2排出係数",null,"小売電気事業者\nの調整後CO2排出係数",null,"適用\n排出係数","（参考）小売電気事業者\nの再エネ率",null,"受け入れた\n再エネ電気の量（千kWh）",null,"合計二酸化炭素削減量\n（tCO2）"]
[{"$f":"IFERROR(MAX(INDIRECT(ADDRESS(1,COLUMN())):INDIRECT(ADDRESS(ROW()-1,COLUMN())))+1,1)","v":1},null,null,null,null,null,null,null,{"$f":"IFERROR(VLOOKUP(H9,'（非）⑤排出係数'!$A$1:$B$6,2,FALSE),\" \")","v":" "},null,null,null,null,null,null,{"$f":"IFERROR(VLOOKUP(K9,INDIRECT(\"_\"&H9),2,FALSE),\"\")","v":""},null,{"$f":"IFERROR(VLOOKUP(K9,INDIRECT(\"_\"&H9),3,FALSE),\"\")","v":""},null,null,{"$f":"IFERROR(VLOOKUP(K9,INDIRECT(\"_\"&H9),4,FALSE),\"\")","v":""},null,null,null,{"$f":"IFERROR(ROUNDDOWN((I9-AB9)*W9,0),\"\")","v":""},null,{"$f":"IF(T9=\"調整前\",1,IF(T9=\"調整後\",2,0))","v":0},{"$f":"IF(AA9=1,P9,IF(AA9=2,R9,\"\"))","v":""}]
[1,null,null,null,null,null,null,null,{"$f":"IFERROR(VLOOKUP(H10,'（非）⑤排出係数'!$A$1:$B$6,2,FALSE),\" \")","v":" "},null,null,null,null,null,null,{"$f":"IFERROR(VLOOKUP(K10,INDIRECT(\"_\"&H10),2,FALSE),\"\")","v":""},null,{"$f":"IFERROR(VLOOKUP(K10,INDIRECT(\"_\"&H10),3,FALSE),\"\")","v":""},null,null,{"$f":"IFERROR(VLOOKUP(K10,INDIRECT(\"_\"&H10),4,FALSE),\"\")","v":""},null,null,null,{"$f":"IFERROR(ROUNDDOWN((I10-AB10)*W10,0),\"\")","v":""},null,{"$f":"IF(T10=\"調整前\",1,IF(T10=\"調整後\",2,0))","v":0},{"$f":"IF(AA10=1,P10,IF(AA10=2,R10,\"\"))","v":""}]
[{"$f":"IFERROR(MAX(INDIRECT(ADDRESS(1,COLUMN())):INDIRECT(ADDRESS(ROW()-1,COLUMN())))+1,1)","v":2},null,null,null,null,null,null,null,{"$f":"IFERROR(VLOOKUP(H11,'（非）⑤排出係数'!$A$1:$B$6,2,FALSE),\" \")","v":" "},null,null,null,null,null,null,"",null,"",null,null,{"$f":"IFERROR(VLOOKUP(K11,INDIRECT(\"_\"&H11),4,FALSE),\"\")","v":""},null,null,null,{"$f":"IFERROR(ROUNDDOWN((I11-AB11)*W11,0),\"\")","v":""},null,{"$f":"IF(T11=\"調整前\",1,IF(T11=\"調整後\",2,0))","v":0},{"$f":"IF(AA11=1,P11,IF(AA11=2,R11,\"\"))","v":""}]
[{"$f":"IFERROR(MAX(INDIRECT(ADDRESS(1,COLUMN())):INDIRECT(ADDRESS(ROW()-1,COLUMN())))+1,1)","v":3},null,null,null,null,null,null,null,{"$f":"IFERROR(VLOOKUP(H12,'（非）⑤排出係数'!$A$1:$B$6,2,FALSE),\" \")","v":" "},null,null,null,null,null,null,"",null,"",null,null,"",null,null,null,"",null,0,""]
[{"$f":"IFERROR(MAX(INDIRECT(ADDRESS(1,COLUMN())):INDIRECT(ADDRESS(ROW()-1,COLUMN())))+1,1)","v":4},null,null,null,null,null,null,null,{"$f":"IFERROR(VLOOKUP(H13,'（非）⑤排出係数'!$A$1:$B$6,2,FALSE),\" \")","v":" "},null,null,null,null,null,null,"",null,"",null,null,"",null,null,null,"",null,0,""]
[{"$f":"IFERROR(MAX(INDIRECT(ADDRESS(1,COLUMN())):INDIRECT(ADDRESS(ROW()-1,COLUMN())))+1,1)","v":5},null,null,null,null,null,null,null,{"$f":"IFERROR(VLOOKUP(H14,'（非）⑤排出係数'!$A$1:$B$6,2,FALSE),\" \")","v":" "},null,null,null,null,null,null,"",null,"",null,null,"",null,null,null,"",null,0,""]
[{"$f":"IFERROR(MAX(INDIRECT(ADDRESS(1,COLUMN())):INDIRECT(ADDRESS(ROW()-1,COLUMN())))+1,1)","v":6},null,null,null,null,null,null,null,{"$f":"IFERROR(VLOOKUP(H15,'（非）⑤排出係数'!$A$1:$B$6,2,FALSE),\" \")","v":" "},null,null,null,null,null,null,"",null,"",null,null,"",null,null,null,"",null,0,""]
[{"$f":"IFERROR(MAX(INDIRECT(ADDRESS(1,COLUMN())):INDIRECT(ADDRESS(ROW()-1,COLUMN())))+1,1)","v":7},null,null,null,null,null,null,null,{"$f":"IFERROR(VLOOKUP(H16,'（非）⑤排出係数'!$A$1:$B$6,2,FALSE),\" \")","v":" "},null,null,null,null,null,null,"",null,"",null,null,"",null,null,null,"",null,0,""]
[{"$f":"IFERROR(MAX(INDIRECT(ADDRESS(1,COLUMN())):INDIRECT(ADDRESS(ROW()-1,COLUMN())))+1,1)","v":8},null,null,null,null,null,null,null,{"$f":"IFERROR(VLOOKUP(H17,'（非）⑤排出係数'!$A$1:$B$6,2,FALSE),\" \")","v":" "},null,null,null,null,null,null,"",null,"",null,null,"",null,null,null,"",null,0,""]
[{"$f":"IFERROR(MAX(INDIRECT(ADDRESS(1,COLUMN())):INDIRECT(ADDRESS(ROW()-1,COLUMN())))+1,1)","v":9},null,null,null,null,null,null,null,{"$f":"IFERROR(VLOOKUP(H18,'（非）⑤排出係数'!$A$1:$B$6,2,FALSE),\" \")","v":" "},null,null,null,null,null,null,"",null,"",null,null,"",null,null,null,"",null,0,""]
[{"$f":"IFERROR(MAX(INDIRECT(ADDRESS(1,COLUMN())):INDIRECT(ADDRESS(ROW()-1,COLUMN())))+1,1)","v":10},null,null,null,null,null,null,null,{"$f":"IFERROR(VLOOKUP(H19,'（非）⑤排出係数'!$A$1:$B$6,2,FALSE),\" \")","v":" "},null,null,null,null,null,null,"",null,"",null,null,"",null,null,null,"",null,0,""]
[{"$f":"IFERROR(MAX(INDIRECT(ADDRESS(1,COLUMN())):INDIRECT(ADDRESS(ROW()-1,COLUMN())))+1,1)","v":11},null,null,null,null,null,null,null,{"$f":"IFERROR(VLOOKUP(H20,'（非）⑤排出係数'!$A$1:$B$6,2,FALSE),\" \")","v":" "},null,null,null,null,null,null,"",null,"",null,null,"",null,null,null,"",null,0,""]
[{"$f":"IFERROR(MAX(INDIRECT(ADDRESS(1,COLUMN())):INDIRECT(ADDRESS(ROW()-1,COLUMN())))+1,1)","v":12},null,null,null,null,null,null,null,{"$f":"IFERROR(VLOOKUP(H21,'（非）⑤排出係数'!$A$1:$B$6,2,FALSE),\" \")","v":" "},null,null,null,null,null,null,"",null,"",null,null,"",null,null,null,"",null,0,""]
[{"$f":"IFERROR(MAX(INDIRECT(ADDRESS(1,COLUMN())):INDIRECT(ADDRESS(ROW()-1,COLUMN())))+1,1)","v":13},null,null,null,null,null,null,null,{"$f":"IFERROR(VLOOKUP(H22,'（非）⑤排出係数'!$A$1:$B$6,2,FALSE),\" \")","v":" "},null,null,null,null,null,null,"",null,"",null,null,"",null,null,null,"",null,0,""]
[{"$f":"IFERROR(MAX(INDIRECT(ADDRESS(1,COLUMN())):INDIRECT(ADDRESS(ROW()-1,COLUMN())))+1,1)","v":14},null,null,null,null,null,null,null,{"$f":"IFERROR(VLOOKUP(H23,'（非）⑤排出係数'!$A$1:$B$6,2,FALSE),\" \")","v":" "},null,null,null,null,null,null,"",null,"",null,null,"",null,null,null,"",null,0,""]
[{"$f":"IFERROR(MAX(INDIRECT(ADDRESS(1,COLUMN())):INDIRECT(ADDRESS(ROW()-1,COLUMN())))+1,1)","v":15},null,null,null,null,null,null,null,{"$f":"IFERROR(VLOOKUP(H24,'（非）⑤排出係数'!$A$1:$B$6,2,FALSE),\" \")","v":" "},null,null,null,null,null,null,"",null,"",null,null,"",null,null,null,"",null,0,""]
[{"$f":"IFERROR(MAX(INDIRECT(ADDRESS(1,COLUMN())):INDIRECT(ADDRESS(ROW()-1,COLUMN())))+1,1)","v":16},null,null,null,null,null,null,null,{"$f":"IFERROR(VLOOKUP(H25,'（非）⑤排出係数'!$A$1:$B$6,2,FALSE),\" \")","v":" "},null,null,null,null,null,null,"",null,"",null,null,"",null,null,null,"",null,0,""]
[{"$f":"IFERROR(MAX(INDIRECT(ADDRESS(1,COLUMN())):INDIRECT(ADDRESS(ROW()-1,COLUMN())))+1,1)","v":17},null,null,null,null,null,null,null,{"$f":"IFERROR(VLOOKUP(H26,'（非）⑤排出係数'!$A$1:$B$6,2,FALSE),\" \")","v":" "},null,null,null,null,null,null,"",null,"",null,null,"",null,null,null,"",null,0,""]
[{"$f":"IFERROR(MAX(INDIRECT(ADDRESS(1,COLUMN())):INDIRECT(ADDRESS(ROW()-1,COLUMN())))+1,1)","v":18},null,null,null,null,null,null,null,{"$f":"IFERROR(VLOOKUP(H27,'（非）⑤排出係数'!$A$1:$B$6,2,FALSE),\" \")","v":" "},null,null,null,null,null,null,"",null,"",null,null,"",null,null,null,"",null,0,""]
[{"$f":"IFERROR(MAX(INDIRECT(ADDRESS(1,COLUMN())):INDIRECT(ADDRESS(ROW()-1,COLUMN())))+1,1)","v":19},null,null,null,null,null,null,null,{"$f":"IFERROR(VLOOKUP(H28,'（非）⑤排出係数'!$A$1:$B$6,2,FALSE),\" \")","v":" "},null,null,null,null,null,null,"",null,"",null,null,"",null,null,null,"",null,0,""]
[{"$f":"IFERROR(MAX(INDIRECT(ADDRESS(1,COLUMN())):INDIRECT(ADDRESS(ROW()-1,COLUMN())))+1,1)","v":20},null,null,null,null,null,null,null,{"$f":"IFERROR(VLOOKUP(H29,'（非）⑤排出係数'!$A$1:$B$6,2,FALSE),\" \")","v":" "},null,null,null,null,null,null,"",null,"",null,null,"",null,null,null,"",null,0,""]
[{"$f":"IFERROR(MAX(INDIRECT(ADDRESS(1,COLUMN())):INDIRECT(ADDRESS(ROW()-1,COLUMN())))+1,1)","v":21},null,null,null,null,null,null,null,{"$f":"IFERROR(VLOOKUP(H30,'（非）⑤排出係数'!$A$1:$B$6,2,FALSE),\" \")","v":" "},null,null,null,null,null,null,"",null,"",null,null,"",null,null,null,"",null,0,""]
[{"$f":"IFERROR(MAX(INDIRECT(ADDRESS(1,COLUMN())):INDIRECT(ADDRESS(ROW()-1,COLUMN())))+1,1)","v":22},null,null,null,null,null,null,null,{"$f":"IFERROR(VLOOKUP(H31,'（非）⑤排出係数'!$A$1:$B$6,2,FALSE),\" \")","v":" "},null,null,null,null,null,null,"",null,"",null,null,"",null,null,null,"",null,0,""]
[{"$f":"IFERROR(MAX(INDIRECT(ADDRESS(1,COLUMN())):INDIRECT(ADDRESS(ROW()-1,COLUMN())))+1,1)","v":23},null,null,null,null,null,null,null,{"$f":"IFERROR(VLOOKUP(H32,'（非）⑤排出係数'!$A$1:$B$6,2,FALSE),\" \")","v":" "},null,null,null,null,null,null,"",null,"",null,null,"",null,null,null,"",null,0,""]
[{"$f":"IFERROR(MAX(INDIRECT(ADDRESS(1,COLUMN())):INDIRECT(ADDRESS(ROW()-1,COLUMN())))+1,1)","v":24},null,null,null,null,null,null,null,{"$f":"IFERROR(VLOOKUP(H33,'（非）⑤排出係数'!$A$1:$B$6,2,FALSE),\" \")","v":" "},null,null,null,null,null,null,"",null,"",null,null,"",null,null,null,"",null,0,""]
[{"$f":"IFERROR(MAX(INDIRECT(ADDRESS(1,COLUMN())):INDIRECT(ADDRESS(ROW()-1,COLUMN())))+1,1)","v":25},null,null,null,null,null,null,null,{"$f":"IFERROR(VLOOKUP(H34,'（非）⑤排出係数'!$A$1:$B$6,2,FALSE),\" \")","v":" "},null,null,null,null,null,null,"",null,"",null,null,"",null,null,null,"",null,0,""]
[{"$f":"IFERROR(MAX(INDIRECT(ADDRESS(1,COLUMN())):INDIRECT(ADDRESS(ROW()-1,COLUMN())))+1,1)","v":26},null,null,null,null,null,null,null,{"$f":"IFERROR(VLOOKUP(H35,'（非）⑤排出係数'!$A$1:$B$6,2,FALSE),\" \")","v":" "},null,null,null,null,null,null,"",null,"",null,null,"",null,null,null,"",null,0,""]
[{"$f":"IFERROR(MAX(INDIRECT(ADDRESS(1,COLUMN())):INDIRECT(ADDRESS(ROW()-1,COLUMN())))+1,1)","v":27},null,null,null,null,null,null,null,{"$f":"IFERROR(VLOOKUP(H36,'（非）⑤排出係数'!$A$1:$B$6,2,FALSE),\" \")","v":" "},null,null,null,null,null,null,"",null,"",null,null,"",null,null,null,"",null,0,""]
[{"$f":"IFERROR(MAX(INDIRECT(ADDRESS(1,COLUMN())):INDIRECT(ADDRESS(ROW()-1,COLUMN())))+1,1)","v":28},null,null,null,null,null,null,null,{"$f":"IFERROR(VLOOKUP(H37,'（非）⑤排出係数'!$A$1:$B$6,2,FALSE),\" \")","v":" "},null,null,null,null,null,null,"",null,"",null,null,"",null,null,null,"",null,0,""]
[{"$f":"IFERROR(MAX(INDIRECT(ADDRESS(1,COLUMN())):INDIRECT(ADDRESS(ROW()-1,COLUMN())))+1,1)","v":29},null,null,null,null,null,null,null,{"$f":"IFERROR(VLOOKUP(H38,'（非）⑤排出係数'!$A$1:$B$6,2,FALSE),\" \")","v":" "},null,null,null,null,null,null,"",null,"",null,null,"",null,null,null,"",null,0,""]
[{"$f":"IFERROR(MAX(INDIRECT(ADDRESS(1,COLUMN())):INDIRECT(ADDRESS(ROW()-1,COLUMN())))+1,1)","v":30},null,null,null,null,null,null,null,{"$f":"IFERROR(VLOOKUP(H39,'（非）⑤排出係数'!$A$1:$B$6,2,FALSE),\" \")","v":" "},null,null,null,null,null,null,"",null,"",null,null,"",null,null,null,"",null,0,""]
[{"$f":"IFERROR(MAX(INDIRECT(ADDRESS(1,COLUMN())):INDIRECT(ADDRESS(ROW()-1,COLUMN())))+1,1)","v":31},null,null,null,null,null,null,null,{"$f":"IFERROR(VLOOKUP(H40,'（非）⑤排出係数'!$A$1:$B$6,2,FALSE),\" \")","v":" "},null,null,null,null,null,null,"",null,"",null,null,"",null,null,null,"",null,0,""]
[{"$f":"IFERROR(MAX(INDIRECT(ADDRESS(1,COLUMN())):INDIRECT(ADDRESS(ROW()-1,COLUMN())))+1,1)","v":32},null,null,null,null,null,null,null,{"$f":"IFERROR(VLOOKUP(H41,'（非）⑤排出係数'!$A$1:$B$6,2,FALSE),\" \")","v":" "},null,null,null,null,null,null,"",null,"",null,null,"",null,null,null,"",null,0,""]
[{"$f":"IFERROR(MAX(INDIRECT(ADDRESS(1,COLUMN())):INDIRECT(ADDRESS(ROW()-1,COLUMN())))+1,1)","v":33},null,null,null,null,null,null,null,{"$f":"IFERROR(VLOOKUP(H42,'（非）⑤排出係数'!$A$1:$B$6,2,FALSE),\" \")","v":" "},null,null,null,null,null,null,{"$f":"IFERROR(VLOOKUP(K42,INDIRECT(\"_\"&H42),2,FALSE),\"\")","v":""},null,{"$f":"IFERROR(VLOOKUP(K42,INDIRECT(\"_\"&H42),3,FALSE),\"\")","v":""},null,null,"",null,null,null,{"$f":"IFERROR(ROUNDDOWN((I42-AB42)*W42,0),\"\")","v":""},null,0,""]
[{"$f":"IFERROR(MAX(INDIRECT(ADDRESS(1,COLUMN())):INDIRECT(ADDRESS(ROW()-1,COLUMN())))+1,1)","v":34},null,null,null,null,null,null,null,{"$f":"IFERROR(VLOOKUP(H43,'（非）⑤排出係数'!$A$1:$B$6,2,FALSE),\" \")","v":" "},null,null,null,null,null,null,"",null,"",null,null,"",null,null,null,"",null,0,""]
[{"$f":"IFERROR(MAX(INDIRECT(ADDRESS(1,COLUMN())):INDIRECT(ADDRESS(ROW()-1,COLUMN())))+1,1)","v":35},null,null,null,null,null,null,null,{"$f":"IFERROR(VLOOKUP(H44,'（非）⑤排出係数'!$A$1:$B$6,2,FALSE),\" \")","v":" "},null,null,null,null,null,null,"",null,"",null,null,"",null,null,null,"",null,0,""]
[{"$f":"IFERROR(MAX(INDIRECT(ADDRESS(1,COLUMN())):INDIRECT(ADDRESS(ROW()-1,COLUMN())))+1,1)","v":36},null,null,null,null,null,null,null,{"$f":"IFERROR(VLOOKUP(H45,'（非）⑤排出係数'!$A$1:$B$6,2,FALSE),\" \")","v":" "},null,null,null,null,null,null,"",null,"",null,null,"",null,null,null,"",null,0,""]
[{"$f":"IFERROR(MAX(INDIRECT(ADDRESS(1,COLUMN())):INDIRECT(ADDRESS(ROW()-1,COLUMN())))+1,1)","v":37},null,null,null,null,null,null,null,{"$f":"IFERROR(VLOOKUP(H46,'（非）⑤排出係数'!$A$1:$B$6,2,FALSE),\" \")","v":" "},null,null,null,null,null,null,"",null,"",null,null,"",null,null,null,"",null,0,""]
[{"$f":"IFERROR(MAX(INDIRECT(ADDRESS(1,COLUMN())):INDIRECT(ADDRESS(ROW()-1,COLUMN())))+1,1)","v":38},null,null,null,null,null,null,null,{"$f":"IFERROR(VLOOKUP(H47,'（非）⑤排出係数'!$A$1:$B$6,2,FALSE),\" \")","v":" "},null,null,null,null,null,null,"",null,"",null,null,"",null,null,null,"",null,0,""]
[{"$f":"IFERROR(MAX(INDIRECT(ADDRESS(1,COLUMN())):INDIRECT(ADDRESS(ROW()-1,COLUMN())))+1,1)","v":39},null,null,null,null,null,null,null,{"$f":"IFERROR(VLOOKUP(H48,'（非）⑤排出係数'!$A$1:$B$6,2,FALSE),\" \")","v":" "},null,null,null,null,null,null,"",null,"",null,null,"",null,null,null,"",null,0,""]
[{"$f":"IFERROR(MAX(INDIRECT(ADDRESS(1,COLUMN())):INDIRECT(ADDRESS(ROW()-1,COLUMN())))+1,1)","v":40},null,null,null,null,null,null,null,{"$f":"IFERROR(VLOOKUP(H49,'（非）⑤排出係数'!$A$1:$B$6,2,FALSE),\" \")","v":" "},null,null,null,null,null,null,"",null,"",null,null,"",null,null,null,"",null,0,""]
[{"$f":"IFERROR(MAX(INDIRECT(ADDRESS(1,COLUMN())):INDIRECT(ADDRESS(ROW()-1,COLUMN())))+1,1)","v":41},null,null,null,null,null,null,null,{"$f":"IFERROR(VLOOKUP(H50,'（非）⑤排出係数'!$A$1:$B$6,2,FALSE),\" \")","v":" "},null,null,null,null,null,null,"",null,"",null,null,"",null,null,null,"",null,0,""]
[{"$f":"IFERROR(MAX(INDIRECT(ADDRESS(1,COLUMN())):INDIRECT(ADDRESS(ROW()-1,COLUMN())))+1,1)","v":42},null,null,null,null,null,null,null,{"$f":"IFERROR(VLOOKUP(H51,'（非）⑤排出係数'!$A$1:$B$6,2,FALSE),\" \")","v":" "},null,null,null,null,null,null,"",null,"",null,null,"",null,null,null,"",null,0,""]
[{"$f":"IFERROR(MAX(INDIRECT(ADDRESS(1,COLUMN())):INDIRECT(ADDRESS(ROW()-1,COLUMN())))+1,1)","v":43},null,null,null,null,null,null,null,{"$f":"IFERROR(VLOOKUP(H52,'（非）⑤排出係数'!$A$1:$B$6,2,FALSE),\" \")","v":" "},null,null,null,null,null,null,"",null,"",null,null,"",null,null,null,"",null,0,""]
[{"$f":"IFERROR(MAX(INDIRECT(ADDRESS(1,COLUMN())):INDIRECT(ADDRESS(ROW()-1,COLUMN())))+1,1)","v":44},null,null,null,null,null,null,null,{"$f":"IFERROR(VLOOKUP(H53,'（非）⑤排出係数'!$A$1:$B$6,2,FALSE),\" \")","v":" "},null,null,null,null,null,null,"",null,"",null,null,"",null,null,null,"",null,0,""]
[{"$f":"IFERROR(MAX(INDIRECT(ADDRESS(1,COLUMN())):INDIRECT(ADDRESS(ROW()-1,COLUMN())))+1,1)","v":45},null,null,null,null,null,null,null,{"$f":"IFERROR(VLOOKUP(H54,'（非）⑤排出係数'!$A$1:$B$6,2,FALSE),\" \")","v":" "},null,null,null,null,null,null,"",null,"",null,null,"",null,null,null,"",null,0,""]
[{"$f":"IFERROR(MAX(INDIRECT(ADDRESS(1,COLUMN())):INDIRECT(ADDRESS(ROW()-1,COLUMN())))+1,1)","v":46},null,null,null,null,null,null,null,{"$f":"IFERROR(VLOOKUP(H55,'（非）⑤排出係数'!$A$1:$B$6,2,FALSE),\" \")","v":" "},null,null,null,null,null,null,"",null,"",null,null,"",null,null,null,"",null,0,""]
[{"$f":"IFERROR(MAX(INDIRECT(ADDRESS(1,COLUMN())):INDIRECT(ADDRESS(ROW()-1,COLUMN())))+1,1)","v":47},null,null,null,null,null,null,null,{"$f":"IFERROR(VLOOKUP(H56,'（非）⑤排出係数'!$A$1:$B$6,2,FALSE),\" \")","v":" "},null,null,null,null,null,null,"",null,"",null,null,"",null,null,null,"",null,0,""]
[{"$f":"IFERROR(MAX(INDIRECT(ADDRESS(1,COLUMN())):INDIRECT(ADDRESS(ROW()-1,COLUMN())))+1,1)","v":48},null,null,null,null,null,null,null,{"$f":"IFERROR(VLOOKUP(H57,'（非）⑤排出係数'!$A$1:$B$6,2,FALSE),\" \")","v":" "},null,null,null,null,null,null,"",null,"",null,null,"",null,null,null,"",null,0,""]
[{"$f":"IFERROR(MAX(INDIRECT(ADDRESS(1,COLUMN())):INDIRECT(ADDRESS(ROW()-1,COLUMN())))+1,1)","v":49},null,null,null,null,null,null,null,{"$f":"IFERROR(VLOOKUP(H58,'（非）⑤排出係数'!$A$1:$B$6,2,FALSE),\" \")","v":" "},null,null,null,null,null,null,"",null,"",null,null,"",null,null,null,"",null,0,""]
[{"$f":"IFERROR(MAX(INDIRECT(ADDRESS(1,COLUMN())):INDIRECT(ADDRESS(ROW()-1,COLUMN())))+1,1)","v":50},null,null,null,null,null,null,null,{"$f":"IFERROR(VLOOKUP(H59,'（非）⑤排出係数'!$A$1:$B$6,2,FALSE),\" \")","v":" "},null,null,null,null,null,null,"",null,"",null,null,"",null,null,null,"",null,0,""]
[{"$f":"IFERROR(MAX(INDIRECT(ADDRESS(1,COLUMN())):INDIRECT(ADDRESS(ROW()-1,COLUMN())))+1,1)","v":51},null,null,null,null,null,null,null,{"$f":"IFERROR(VLOOKUP(H60,'（非）⑤排出係数'!$A$1:$B$6,2,FALSE),\" \")","v":" "},null,null,null,null,null,null,"",null,"",null,null,{"$f":"IFERROR(VLOOKUP(K60,INDIRECT(\"_\"&H60),4,FALSE),\"\")","v":""},null,null,null,{"$f":"IFERROR(ROUNDDOWN((I60-AB60)*W60,0),\"\")","v":""},null,{"$f":"IF(T60=\"調整前\",1,IF(T60=\"調整後\",2,0))","v":0},{"$f":"IF(AA60=1,P60,IF(AA60=2,R60,\"\"))","v":""}]
[{"$f":"IFERROR(MAX(INDIRECT(ADDRESS(1,COLUMN())):INDIRECT(ADDRESS(ROW()-1,COLUMN())))+1,1)","v":52},null,null,null,null,null,null,null,{"$f":"IFERROR(VLOOKUP(H61,'（非）⑤排出係数'!$A$1:$B$6,2,FALSE),\" \")","v":" "},null,null,null,null,null,null,"",null,"",null,null,"",null,null,null,"",null,0,""]
[{"$f":"IFERROR(MAX(INDIRECT(ADDRESS(1,COLUMN())):INDIRECT(ADDRESS(ROW()-1,COLUMN())))+1,1)","v":53},null,null,null,null,null,null,null,{"$f":"IFERROR(VLOOKUP(H62,'（非）⑤排出係数'!$A$1:$B$6,2,FALSE),\" \")","v":" "},null,null,null,null,null,null,"",null,"",null,null,"",null,null,null,"",null,0,""]
[{"$f":"IFERROR(MAX(INDIRECT(ADDRESS(1,COLUMN())):INDIRECT(ADDRESS(ROW()-1,COLUMN())))+1,1)","v":54},null,null,null,null,null,null,null,{"$f":"IFERROR(VLOOKUP(H63,'（非）⑤排出係数'!$A$1:$B$6,2,FALSE),\" \")","v":" "},null,null,null,null,null,null,"",null,"",null,null,"",null,null,null,"",null,0,""]
[{"$f":"IFERROR(MAX(INDIRECT(ADDRESS(1,COLUMN())):INDIRECT(ADDRESS(ROW()-1,COLUMN())))+1,1)","v":55},null,null,null,null,null,null,null,{"$f":"IFERROR(VLOOKUP(H64,'（非）⑤排出係数'!$A$1:$B$6,2,FALSE),\" \")","v":" "},null,null,null,null,null,null,"",null,"",null,null,"",null,null,null,"",null,0,""]
[{"$f":"IFERROR(MAX(INDIRECT(ADDRESS(1,COLUMN())):INDIRECT(ADDRESS(ROW()-1,COLUMN())))+1,1)","v":56},null,null,null,null,null,null,null,{"$f":"IFERROR(VLOOKUP(H65,'（非）⑤排出係数'!$A$1:$B$6,2,FALSE),\" \")","v":" "},null,null,null,null,null,null,"",null,"",null,null,"",null,null,null,"",null,0,""]
[{"$f":"IFERROR(MAX(INDIRECT(ADDRESS(1,COLUMN())):INDIRECT(ADDRESS(ROW()-1,COLUMN())))+1,1)","v":57},null,null,null,null,null,null,null,{"$f":"IFERROR(VLOOKUP(H66,'（非）⑤排出係数'!$A$1:$B$6,2,FALSE),\" \")","v":" "},null,null,null,null,null,null,"",null,"",null,null,"",null,null,null,"",null,0,""]
[{"$f":"IFERROR(MAX(INDIRECT(ADDRESS(1,COLUMN())):INDIRECT(ADDRESS(ROW()-1,COLUMN())))+1,1)","v":58},null,null,null,null,null,null,null,{"$f":"IFERROR(VLOOKUP(H67,'（非）⑤排出係数'!$A$1:$B$6,2,FALSE),\" \")","v":" "},null,null,null,null,null,null,"",null,"",null,null,"",null,null,null,"",null,0,""]
[{"$f":"IFERROR(MAX(INDIRECT(ADDRESS(1,COLUMN())):INDIRECT(ADDRESS(ROW()-1,COLUMN())))+1,1)","v":59},null,null,null,null,null,null,null,{"$f":"IFERROR(VLOOKUP(H68,'（非）⑤排出係数'!$A$1:$B$6,2,FALSE),\" \")","v":" "},null,null,null,null,null,null,"",null,"",null,null,"",null,null,null,"",null,0,""]
[{"$f":"IFERROR(MAX(INDIRECT(ADDRESS(1,COLUMN())):INDIRECT(ADDRESS(ROW()-1,COLUMN())))+1,1)","v":60},null,null,null,null,null,null,null,{"$f":"IFERROR(VLOOKUP(H69,'（非）⑤排出係数'!$A$1:$B$6,2,FALSE),\" \")","v":" "},null,null,null,null,null,null,"",null,"",null,null,"",null,null,null,"",null,0,""]
[{"$f":"IFERROR(MAX(INDIRECT(ADDRESS(1,COLUMN())):INDIRECT(ADDRESS(ROW()-1,COLUMN())))+1,1)","v":61},null,null,null,null,null,null,null,{"$f":"IFERROR(VLOOKUP(H70,'（非）⑤排出係数'!$A$1:$B$6,2,FALSE),\" \")","v":" "},null,null,null,null,null,null,"",null,"",null,null,"",null,null,null,"",null,0,""]
[{"$f":"IFERROR(MAX(INDIRECT(ADDRESS(1,COLUMN())):INDIRECT(ADDRESS(ROW()-1,COLUMN())))+1,1)","v":62},null,null,null,null,null,null,null,{"$f":"IFERROR(VLOOKUP(H71,'（非）⑤排出係数'!$A$1:$B$6,2,FALSE),\" \")","v":" "},null,null,null,null,null,null,"",null,"",null,null,"",null,null,null,"",null,0,""]
[{"$f":"IFERROR(MAX(INDIRECT(ADDRESS(1,COLUMN())):INDIRECT(ADDRESS(ROW()-1,COLUMN())))+1,1)","v":63},null,null,null,null,null,null,null,{"$f":"IFERROR(VLOOKUP(H72,'（非）⑤排出係数'!$A$1:$B$6,2,FALSE),\" \")","v":" "},null,null,null,null,null,null,"",null,"",null,null,"",null,null,null,"",null,0,""]
[{"$f":"IFERROR(MAX(INDIRECT(ADDRESS(1,COLUMN())):INDIRECT(ADDRESS(ROW()-1,COLUMN())))+1,1)","v":64},null,null,null,null,null,null,null,{"$f":"IFERROR(VLOOKUP(H73,'（非）⑤排出係数'!$A$1:$B$6,2,FALSE),\" \")","v":" "},null,null,null,null,null,null,"",null,"",null,null,"",null,null,null,"",null,0,""]
[{"$f":"IFERROR(MAX(INDIRECT(ADDRESS(1,COLUMN())):INDIRECT(ADDRESS(ROW()-1,COLUMN())))+1,1)","v":65},null,null,null,null,null,null,null,{"$f":"IFERROR(VLOOKUP(H74,'（非）⑤排出係数'!$A$1:$B$6,2,FALSE),\" \")","v":" "},null,null,null,null,null,null,"",null,"",null,null,"",null,null,null,"",null,0,""]
[{"$f":"IFERROR(MAX(INDIRECT(ADDRESS(1,COLUMN())):INDIRECT(ADDRESS(ROW()-1,COLUMN())))+1,1)","v":66},null,null,null,null,null,null,null,{"$f":"IFERROR(VLOOKUP(H75,'（非）⑤排出係数'!$A$1:$B$6,2,FALSE),\" \")","v":" "},null,null,null,null,null,null,"",null,"",null,null,"",null,null,null,"",null,0,""]
[{"$f":"IFERROR(MAX(INDIRECT(ADDRESS(1,COLUMN())):INDIRECT(ADDRESS(ROW()-1,COLUMN())))+1,1)","v":67},null,null,null,null,null,null,null,{"$f":"IFERROR(VLOOKUP(H76,'（非）⑤排出係数'!$A$1:$B$6,2,FALSE),\" \")","v":" "},null,null,null,null,null,null,"",null,"",null,null,"",null,null,null,"",null,0,""]
[{"$f":"IFERROR(MAX(INDIRECT(ADDRESS(1,COLUMN())):INDIRECT(ADDRESS(ROW()-1,COLUMN())))+1,1)","v":68},null,null,null,null,null,null,null,{"$f":"IFERROR(VLOOKUP(H77,'（非）⑤排出係数'!$A$1:$B$6,2,FALSE),\" \")","v":" "},null,null,null,null,null,null,"",null,"",null,null,"",null,null,null,"",null,0,""]
[{"$f":"IFERROR(MAX(INDIRECT(ADDRESS(1,COLUMN())):INDIRECT(ADDRESS(ROW()-1,COLUMN())))+1,1)","v":69},null,null,null,null,null,null,null,{"$f":"IFERROR(VLOOKUP(H78,'（非）⑤排出係数'!$A$1:$B$6,2,FALSE),\" \")","v":" "},null,null,null,null,null,null,"",null,"",null,null,"",null,null,null,"",null,0,""]
[{"$f":"IFERROR(MAX(INDIRECT(ADDRESS(1,COLUMN())):INDIRECT(ADDRESS(ROW()-1,COLUMN())))+1,1)","v":70},null,null,null,null,null,null,null,{"$f":"IFERROR(VLOOKUP(H79,'（非）⑤排出係数'!$A$1:$B$6,2,FALSE),\" \")","v":" "},null,null,null,null,null,null,"",null,"",null,null,"",null,null,null,"",null,0,""]
[{"$f":"IFERROR(MAX(INDIRECT(ADDRESS(1,COLUMN())):INDIRECT(ADDRESS(ROW()-1,COLUMN())))+1,1)","v":71},null,null,null,null,null,null,null,{"$f":"IFERROR(VLOOKUP(H80,'（非）⑤排出係数'!$A$1:$B$6,2,FALSE),\" \")","v":" "},null,null,null,null,null,null,"",null,"",null,null,{"$f":"IFERROR(VLOOKUP(K80,INDIRECT(\"_\"&H80),4,FALSE),\"\")","v":""},null,null,null,{"$f":"IFERROR(ROUNDDOWN((I80-AB80)*W80,0),\"\")","v":""},null,{"$f":"IF(T80=\"調整前\",1,IF(T80=\"調整後\",2,0))","v":0},{"$f":"IF(AA80=1,P80,IF(AA80=2,R80,\"\"))","v":""}]
[{"$f":"IFERROR(MAX(INDIRECT(ADDRESS(1,COLUMN())):INDIRECT(ADDRESS(ROW()-1,COLUMN())))+1,1)","v":72},null,null,null,null,null,null,null,{"$f":"IFERROR(VLOOKUP(H81,'（非）⑤排出係数'!$A$1:$B$6,2,FALSE),\" \")","v":" "},null,null,null,null,null,null,"",null,"",null,null,"",null,null,null,"",null,0,""]
[{"$f":"IFERROR(MAX(INDIRECT(ADDRESS(1,COLUMN())):INDIRECT(ADDRESS(ROW()-1,COLUMN())))+1,1)","v":73},null,null,null,null,null,null,null,{"$f":"IFERROR(VLOOKUP(H82,'（非）⑤排出係数'!$A$1:$B$6,2,FALSE),\" \")","v":" "},null,null,null,null,null,null,"",null,"",null,null,"",null,null,null,"",null,0,""]
[{"$f":"IFERROR(MAX(INDIRECT(ADDRESS(1,COLUMN())):INDIRECT(ADDRESS(ROW()-1,COLUMN())))+1,1)","v":74},null,null,null,null,null,null,null,{"$f":"IFERROR(VLOOKUP(H83,'（非）⑤排出係数'!$A$1:$B$6,2,FALSE),\" \")","v":" "},null,null,null,null,null,null,"",null,"",null,null,"",null,null,null,"",null,0,""]
[{"$f":"IFERROR(MAX(INDIRECT(ADDRESS(1,COLUMN())):INDIRECT(ADDRESS(ROW()-1,COLUMN())))+1,1)","v":75},null,null,null,null,null,null,null,{"$f":"IFERROR(VLOOKUP(H84,'（非）⑤排出係数'!$A$1:$B$6,2,FALSE),\" \")","v":" "},null,null,null,null,null,null,"",null,"",null,null,"",null,null,null,"",null,0,""]
[{"$f":"IFERROR(MAX(INDIRECT(ADDRESS(1,COLUMN())):INDIRECT(ADDRESS(ROW()-1,COLUMN())))+1,1)","v":76},null,null,null,null,null,null,null,{"$f":"IFERROR(VLOOKUP(H85,'（非）⑤排出係数'!$A$1:$B$6,2,FALSE),\" \")","v":" "},null,null,null,null,null,null,"",null,"",null,null,"",null,null,null,"",null,0,""]
[{"$f":"IFERROR(MAX(INDIRECT(ADDRESS(1,COLUMN())):INDIRECT(ADDRESS(ROW()-1,COLUMN())))+1,1)","v":77},null,null,null,null,null,null,null,{"$f":"IFERROR(VLOOKUP(H86,'（非）⑤排出係数'!$A$1:$B$6,2,FALSE),\" \")","v":" "},null,null,null,null,null,null,"",null,"",null,null,"",null,null,null,"",null,0,""]
[{"$f":"IFERROR(MAX(INDIRECT(ADDRESS(1,COLUMN())):INDIRECT(ADDRESS(ROW()-1,COLUMN())))+1,1)","v":78},null,null,null,null,null,null,null,{"$f":"IFERROR(VLOOKUP(H87,'（非）⑤排出係数'!$A$1:$B$6,2,FALSE),\" \")","v":" "},null,null,null,null,null,null,"",null,"",null,null,"",null,null,null,"",null,0,""]
[{"$f":"IFERROR(MAX(INDIRECT(ADDRESS(1,COLUMN())):INDIRECT(ADDRESS(ROW()-1,COLUMN())))+1,1)","v":79},null,null,null,null,null,null,null,{"$f":"IFERROR(VLOOKUP(H88,'（非）⑤排出係数'!$A$1:$B$6,2,FALSE),\" \")","v":" "},null,null,null,null,null,null,"",null,"",null,null,"",null,null,null,"",null,0,""]
[{"$f":"IFERROR(MAX(INDIRECT(ADDRESS(1,COLUMN())):INDIRECT(ADDRESS(ROW()-1,COLUMN())))+1,1)","v":80},null,null,null,null,null,null,null,{"$f":"IFERROR(VLOOKUP(H89,'（非）⑤排出係数'!$A$1:$B$6,2,FALSE),\" \")","v":" "},null,null,null,null,null,null,"",null,"",null,null,"",null,null,null,"",null,0,""]
[{"$f":"IFERROR(MAX(INDIRECT(ADDRESS(1,COLUMN())):INDIRECT(ADDRESS(ROW()-1,COLUMN())))+1,1)","v":81},null,null,null,null,null,null,null,{"$f":"IFERROR(VLOOKUP(H90,'（非）⑤排出係数'!$A$1:$B$6,2,FALSE),\" \")","v":" "},null,null,null,null,null,null,"",null,"",null,null,"",null,null,null,"",null,0,""]
[{"$f":"IFERROR(MAX(INDIRECT(ADDRESS(1,COLUMN())):INDIRECT(ADDRESS(ROW()-1,COLUMN())))+1,1)","v":82},null,null,null,null,null,null,null,{"$f":"IFERROR(VLOOKUP(H91,'（非）⑤排出係数'!$A$1:$B$6,2,FALSE),\" \")","v":" "},null,null,null,null,null,null,"",null,"",null,null,"",null,null,null,"",null,0,""]
[{"$f":"IFERROR(MAX(INDIRECT(ADDRESS(1,COLUMN())):INDIRECT(ADDRESS(ROW()-1,COLUMN())))+1,1)","v":83},null,null,null,null,null,null,null,{"$f":"IFERROR(VLOOKUP(H92,'（非）⑤排出係数'!$A$1:$B$6,2,FALSE),\" \")","v":" "},null,null,null,null,null,null,"",null,"",null,null,{"$f":"IFERROR(VLOOKUP(K92,INDIRECT(\"_\"&H92),4,FALSE),\"\")","v":""},null,null,null,{"$f":"IFERROR(ROUNDDOWN((I92-AB92)*W92,0),\"\")","v":""},null,{"$f":"IF(T92=\"調整前\",1,IF(T92=\"調整後\",2,0))","v":0},{"$f":"IF(AA92=1,P92,IF(AA92=2,R92,\"\"))","v":""}]
[{"$f":"IFERROR(MAX(INDIRECT(ADDRESS(1,COLUMN())):INDIRECT(ADDRESS(ROW()-1,COLUMN())))+1,1)","v":84},null,null,null,null,null,null,null,{"$f":"IFERROR(VLOOKUP(H93,'（非）⑤排出係数'!$A$1:$B$6,2,FALSE),\" \")","v":" "},null,null,null,null,null,null,"",null,"",null,null,"",null,null,null,"",null,0,""]
[{"$f":"IFERROR(MAX(INDIRECT(ADDRESS(1,COLUMN())):INDIRECT(ADDRESS(ROW()-1,COLUMN())))+1,1)","v":85},null,null,null,null,null,null,null,{"$f":"IFERROR(VLOOKUP(H94,'（非）⑤排出係数'!$A$1:$B$6,2,FALSE),\" \")","v":" "},null,null,null,null,null,null,"",null,"",null,null,"",null,null,null,"",null,0,""]
[{"$f":"IFERROR(MAX(INDIRECT(ADDRESS(1,COLUMN())):INDIRECT(ADDRESS(ROW()-1,COLUMN())))+1,1)","v":86},null,null,null,null,null,null,null,{"$f":"IFERROR(VLOOKUP(H95,'（非）⑤排出係数'!$A$1:$B$6,2,FALSE),\" \")","v":" "},null,null,null,null,null,null,"",null,"",null,null,"",null,null,null,"",null,0,""]
[{"$f":"IFERROR(MAX(INDIRECT(ADDRESS(1,COLUMN())):INDIRECT(ADDRESS(ROW()-1,COLUMN())))+1,1)","v":87},null,null,null,null,null,null,null,{"$f":"IFERROR(VLOOKUP(H96,'（非）⑤排出係数'!$A$1:$B$6,2,FALSE),\" \")","v":" "},null,null,null,null,null,null,"",null,"",null,null,"",null,null,null,"",null,0,""]
[{"$f":"IFERROR(MAX(INDIRECT(ADDRESS(1,COLUMN())):INDIRECT(ADDRESS(ROW()-1,COLUMN())))+1,1)","v":88},null,null,null,null,null,null,null,{"$f":"IFERROR(VLOOKUP(H97,'（非）⑤排出係数'!$A$1:$B$6,2,FALSE),\" \")","v":" "},null,null,null,null,null,null,"",null,"",null,null,"",null,null,null,"",null,0,""]
[{"$f":"IFERROR(MAX(INDIRECT(ADDRESS(1,COLUMN())):INDIRECT(ADDRESS(ROW()-1,COLUMN())))+1,1)","v":89},null,null,null,null,null,null,null,{"$f":"IFERROR(VLOOKUP(H98,'（非）⑤排出係数'!$A$1:$B$6,2,FALSE),\" \")","v":" "},null,null,null,null,null,null,"",null,"",null,null,"",null,null,null,"",null,0,""]
[{"$f":"IFERROR(MAX(INDIRECT(ADDRESS(1,COLUMN())):INDIRECT(ADDRESS(ROW()-1,COLUMN())))+1,1)","v":90},null,null,null,null,null,null,null,{"$f":"IFERROR(VLOOKUP(H99,'（非）⑤排出係数'!$A$1:$B$6,2,FALSE),\" \")","v":" "},null,null,null,null,null,null,"",null,"",null,null,"",null,null,null,"",null,0,""]
[{"$f":"IFERROR(MAX(INDIRECT(ADDRESS(1,COLUMN())):INDIRECT(ADDRESS(ROW()-1,COLUMN())))+1,1)","v":91},null,null,null,null,null,null,null,{"$f":"IFERROR(VLOOKUP(H100,'（非）⑤排出係数'!$A$1:$B$6,2,FALSE),\" \")","v":" "},null,null,null,null,null,null,"",null,"",null,null,"",null,null,null,"",null,0,""]
[{"$f":"IFERROR(MAX(INDIRECT(ADDRESS(1,COLUMN())):INDIRECT(ADDRESS(ROW()-1,COLUMN())))+1,1)","v":92},null,null,null,null,null,null,null,{"$f":"IFERROR(VLOOKUP(H101,'（非）⑤排出係数'!$A$1:$B$6,2,FALSE),\" \")","v":" "},null,null,null,null,null,null,"",null,"",null,null,"",null,null,null,"",null,0,""]
[{"$f":"IFERROR(MAX(INDIRECT(ADDRESS(1,COLUMN())):INDIRECT(ADDRESS(ROW()-1,COLUMN())))+1,1)","v":93},null,null,null,null,null,null,null,{"$f":"IFERROR(VLOOKUP(H102,'（非）⑤排出係数'!$A$1:$B$6,2,FALSE),\" \")","v":" "},null,null,null,null,null,null,"",null,"",null,null,"",null,null,null,"",null,0,""]
[{"$f":"IFERROR(MAX(INDIRECT(ADDRESS(1,COLUMN())):INDIRECT(ADDRESS(ROW()-1,COLUMN())))+1,1)","v":94},null,null,null,null,null,null,null,{"$f":"IFERROR(VLOOKUP(H103,'（非）⑤排出係数'!$A$1:$B$6,2,FALSE),\" \")","v":" "},null,null,null,null,null,null,"",null,"",null,null,"",null,null,null,"",null,0,""]
[{"$f":"IFERROR(MAX(INDIRECT(ADDRESS(1,COLUMN())):INDIRECT(ADDRESS(ROW()-1,COLUMN())))+1,1)","v":95},null,null,null,null,null,null,null,{"$f":"IFERROR(VLOOKUP(H104,'（非）⑤排出係数'!$A$1:$B$6,2,FALSE),\" \")","v":" "},null,null,null,null,null,null,"",null,"",null,null,"",null,null,null,"",null,0,""]
[{"$f":"IFERROR(MAX(INDIRECT(ADDRESS(1,COLUMN())):INDIRECT(ADDRESS(ROW()-1,COLUMN())))+1,1)","v":96},null,null,null,null,null,null,null,{"$f":"IFERROR(VLOOKUP(H105,'（非）⑤排出係数'!$A$1:$B$6,2,FALSE),\" \")","v":" "},null,null,null,null,null,null,"",null,"",null,null,"",null,null,null,"",null,0,""]
[{"$f":"IFERROR(MAX(INDIRECT(ADDRESS(1,COLUMN())):INDIRECT(ADDRESS(ROW()-1,COLUMN())))+1,1)","v":97},null,null,null,null,null,null,null,{"$f":"IFERROR(VLOOKUP(H106,'（非）⑤排出係数'!$A$1:$B$6,2,FALSE),\" \")","v":" "},null,null,null,null,null,null,{"$f":"IFERROR(VLOOKUP(K106,INDIRECT(\"_\"&H106),2,FALSE),\"\")","v":""},null,{"$f":"IFERROR(VLOOKUP(K106,INDIRECT(\"_\"&H106),3,FALSE),\"\")","v":""},null,null,"",null,null,null,"",null,0,""]
[{"$f":"IFERROR(MAX(INDIRECT(ADDRESS(1,COLUMN())):INDIRECT(ADDRESS(ROW()-1,COLUMN())))+1,1)","v":98},null,null,null,null,null,null,null,{"$f":"IFERROR(VLOOKUP(H107,'（非）⑤排出係数'!$A$1:$B$6,2,FALSE),\" \")","v":" "},null,null,null,null,null,null,"",null,"",null,null,"",null,null,null,"",null,0,""]
[{"$f":"IFERROR(MAX(INDIRECT(ADDRESS(1,COLUMN())):INDIRECT(ADDRESS(ROW()-1,COLUMN())))+1,1)","v":99},null,null,null,null,null,null,null,{"$f":"IFERROR(VLOOKUP(H108,'（非）⑤排出係数'!$A$1:$B$6,2,FALSE),\" \")","v":" "},null,null,null,null,null,null,"",null,"",null,null,"",null,null,null,"",null,0,""]
[{"$f":"IFERROR(MAX(INDIRECT(ADDRESS(1,COLUMN())):INDIRECT(ADDRESS(ROW()-1,COLUMN())))+1,1)","v":100},null,null,null,null,null,null,null,{"$f":"IFERROR(VLOOKUP(H109,'（非）⑤排出係数'!$A$1:$B$6,2,FALSE),\" \")","v":" "},null,null,null,null,null,null,"",null,"",null,null,"",null,null,null,"",null,0,""]

{"sheet":"⑥","index":11,"n_rows":108,"n_cols":17,"rows_kept":108,"cut":false,"hidden":false,"merged":[[6,10,6,11],[8,10,8,11],[9,10,9,11],[10,10,10,11],[11,10,11,11],[12,10,12,11],[26,14,26,15],[27,2,27,6],[27,8,27,9],[27,14,27,15],[26,2,26,6],[26,8,26,9],[24,14,24,15],[25,2,25,6],[25,8,25,9],[25,14,25,15],[24,2,24,6],[24,8,24,9],[25,10,25,11],[26,10,26,11],[27,10,27,11],[24,10,24,11],[27,12,27,13],[24,12,24,13],[25,12,25,13],[26,12,26,13],[22,14,22,15],[23,2,23,6],[23,8,23,9],[23,14,23,15],[22,2,22,6],[22,8,22,9],[20,14,20,15],[21,2,21,6],[21,8,21,9],[21,14,21,15],[20,2,20,6],[20,8,20,9],[20,10,20,11],[21,10,21,11],[22,10,22,11],[23,10,23,11],[21,12,21,13],[22,12,22,13],[23,12,23,13],[20,12,20,13],[18,14,18,15],[19,2,19,6],[19,8,19,9],[19,14,19,15],[18,2,18,6],[18,8,18,9],[16,14,16,15],[17,2,17,6],[17,8,17,9],[17,14,17,15],[16,2,16,6],[16,8,16,9],[19,10,19,11],[16,10,16,11],[17,10,17,11],[18,10,18,11],[16,12,16,13],[17,12,17,13],[18,12,18,13],[19,12,19,13],[14,14,14,15],[15,2,15,6],[15,8,15,9],[15,14,15,15],[14,2,14,6],[14,8,14,9],[14,12,14,13],[12,14,12,15],[13,2,13,6],[13,8,13,9],[13,14,13,15],[12,2,12,6],[12,8,12,9],[12,12,12,13],[13,12,13,13],[13,10,13,11],[14,10,14,11],[15,10,15,11],[15,12,15,13],[6,14,6,15],[8,2,8,6],[8,8,8,9],[2,0,2,1],[3,0,3,1],[6,2,6,6],[6,8,6,9],[10,14,10,15],[11,2,11,6],[11,8,11,9],[11,14,11,15],[10,2,10,6],[10,8,10,9],[8,14,8,15],[9,2,9,6],[9,8,9,9],[9,14,9,15],[6,12,6,13],[8,12,8,13],[9,12,9,13],[10,12,10,13],[11,12,11,13],[7,2,7,6],[7,8,7,9],[28,2,28,6],[28,8,28,9],[28,10,28,11],[28,12,28,13],[28,14,28,15],[29,2,29,6],[29,8,29,9],[29,10,29,11],[29,12,29,13],[29,14,29,15],[30,2,30,6],[30,8,30,9],[30,10,30,11],[30,12,30,13],[30,14,30,15],[31,2,31,6],[31,8,31,9],[31,10,31,11],[31,12,31,13],[31,14,31,15],[32,2,32,6],[32,8,32,9],[32,10,32,11],[32,12,32,13],[32,14,32,15],[33,2,33,6],[33,8,33,9],[33,10,33,11],[33,12,33,13],[33,14,33,15],[34,2,34,6],[34,8,34,9],[34,10,34,11],[34,12,34,13],[34,14,34,15],[35,2,35,6],[35,8,35,9],[35,10,35,11],[35,12,35,13],[35,14,35,15],[36,2,36,6],[36,8,36,9],[36,10,36,11],[36,12,36,13],[36,14,36,15],[37,2,37,6],[37,8,37,9],[37,10,37,11],[37,12,37,13],[37,14,37,15],[38,2,38,6],[38,8,38,9],[38,10,38,11],[38,12,38,13],[38,14,38,15],[39,2,39,6],[39,8,39,9],[39,10,39,11],[39,12,39,13],[39,14,39,15],[40,2,40,6],[40,8,40,9],[40,10,40,11],[40,12,40,13],[40,14,40,15],[41,2,41,6],[41,8,41,9],[41,10,41,11],[41,12,41,13],[41,14,41,15],[42,2,42,6],[42,8,42,9],[42,10,42,11],[42,12,42,13],[42,14,42,15],[43,2,43,6],[43,8,43,9],[43,10,43,11],[43,12,43,13],[43,14,43,15],[44,2,44,6],[44,8,44,9],[44,10,44,11],[44,12,44,13],[44,14,44,15],[45,2,45,6],[45,8,45,9],[45,10,45,11],[45,12,45,13],[45,14,45,15],[46,2,46,6],[46,8,46,9],[46,10,46,11],[46,12,46,13],[46,14,46,15],[47,2,47,6],[47,8,47,9],[47,10,47,11],[47,12,47,13],[47,14,47,15],[48,2,48,6],[48,8,48,9],[48,10,48,11],[48,12,48,13],[48,14,48,15],[49,2,49,6],[49,8,49,9],[49,10,49,11],[49,12,49,13],[49,14,49,15],[50,2,50,6],[50,8,50,9],[50,10,50,11],[50,12,50,13],[50,14,50,15],[51,2,51,6],[51,8,51,9],[51,10,51,11],[51,12,51,13],[51,14,51,15],[52,8,52,9],[52,10,52,11],[52,12,52,13],[52,14,52,15],[53,2,53,6],[53,8,53,9],[53,10,53,11],[53,12,53,13],[53,14,53,15],[7,10,7,11],[7,12,7,13],[7,14,7,15],[56,2,56,6],[56,8,56,9],[56,10,56,11],[56,12,56,13],[56,14,56,15],[57,2,57,6],[57,8,57,9],[57,10,57,11],[57,12,57,13],[57,14,57,15],[54,2,54,6],[54,8,54,9],[54,10,54,11],[54,12,54,13],[54,14,54,15],[55,2,55,6],[55,8,55,9],[55,10,55,11],[55,12,55,13],[55,14,55,15],[52,2,52,6],[60,2,60,6],[60,8,60,9],[60,10,60,11],[60,12,60,13],[60,14,60,15],[61,2,61,6],[61,8,61,9],[61,10,61,11],[61,12,61,13],[61,14,61,15],[62,2,62,6],[62,8,62,9],[62,10,62,11],[62,12,62,13],[62,14,62,15],[63,2,63,6],[63,8,63,9],[63,10,63,11],[63,12,63,13],[63,14,63,15],[64,2,64,6],[64,8,64,9],[64,10,64,11],[64,12,64,13],[64,14,64,15],[65,2,65,6],[65,8,65,9],[65,10,65,11],[65,12,65,13],[65,14,65,15],[66,2,66,6],[66,8,66,9],[66,10,66,11],[66,12,66,13],[66,14,66,15],[67,2,67,6],[67,8,67,9],[67,10,67,11],[67,12,67,13],[67,14,67,15],[68,2,68,6],[68,8,68,9],[68,10,68,11],[68,12,68,13],[68,14,68,15],[69,2,69,6],[69,8,69,9],[69,10,69,11],[69,12,69,13],[69,14,69,15],[70,2,70,6],[70,8,70,9],[70,10,70,11],[70,12,70,13],[70,14,70,15],[71,2,71,6],[71,8,71,9],[71,10,71,11],[71,12,71,13],[71,14,71,15],[72,2,72,6],[72,8,72,9],[72,10,72,11],[72,12,72,13],[72,14,72,15],[73,2,73,6],[73,8,73,9],[73,10,73,11],[73,12,73,13],[73,14,73,15],[74,2,74,6],[74,8,74,9],[74,10,74,11],[74,12,74,13],[74,14,74,15],[75,2,75,6],[75,8,75,9],[75,10,75,11],[75,12,75,13],[75,14,75,15],[76,2,76,6],[76,8,76,9],[76,10,76,11],[76,12,76,13],[76,14,76,15],[77,2,77,6],[77,8,77,9],[77,10,77,11],[77,12,77,13],[77,14,77,15],[58,2,58,6],[58,8,58,9],[58,10,58,11],[58,12,58,13],[58,14,58,15],[59,2,59,6],[59,8,59,9],[59,10,59,11],[59,12,59,13],[59,14,59,15],[78,2,78,6],[78,8,78,9],[78,10,78,11],[78,12,78,13],[78,14,78,15],[79,2,79,6],[79,8,79,9],[79,10,79,11],[79,12,79,13],[79,14,79,15],[80,2,80,6],[80,8,80,9],[80,10,80,11],[80,12,80,13],[80,14,80,15],[81,2,81,6],[81,8,81,9],[81,10,81,11],[81,12,81,13],[81,14,81,15],[82,2,82,6],[82,8,82,9],[82,10,82,11],[82,12,82,13],[82,14,82,15],[83,2,83,6],[83,8,83,9],[83,10,83,11],[83,12,83,13],[83,14,83,15],[84,2,84,6],[84,8,84,9],[84,10,84,11],[84,12,84,13],[84,14,84,15],[85,2,85,6],[85,8,85,9],[85,10,85,11],[85,12,85,13],[85,14,85,15],[86,2,86,6],[86,8,86,9],[86,10,86,11],[86,12,86,13],[86,14,86,15],[87,2,87,6],[87,8,87,9],[87,10,87,11],[87,12,87,13],[87,14,87,15],[88,2,88,6],[88,8,88,9],[88,10,88,11],[88,12,88,13],[88,14,88,15],[89,2,89,6],[89,8,89,9],[89,10,89,11],[89,12,89,13],[89,14,89,15],[90,2,90,6],[90,8,90,9],[90,10,90,11],[90,12,90,13],[90,14,90,15],[91,2,91,6],[91,8,91,9],[91,10,91,11],[91,12,91,13],[91,14,91,15],[92,2,92,6],[92,8,92,9],[92,10,92,11],[92,12,92,13],[92,14,92,15],[93,2,93,6],[93,8,93,9],[93,10,93,11],[93,12,93,13],[93,14,93,15],[94,2,94,6],[94,8,94,9],[94,10,94,11],[94,12,94,13],[94,14,94,15],[95,2,95,6],[95,8,95,9],[95,10,95,11],[95,12,95,13],[95,14,95,15],[96,2,96,6],[96,8,96,9],[96,10,96,11],[96,12,96,13],[96,14,96,15],[97,2,97,6],[97,8,97,9],[97,10,97,11],[97,12,97,13],[97,14,97,15],[98,2,98,6],[98,8,98,9],[98,10,98,11],[98,12,98,13],[98,14,98,15],[99,2,99,6],[99,8,99,9],[99,10,99,11],[99,12,99,13],[99,14,99,15],[100,2,100,6],[100,8,100,9],[100,10,100,11],[100,12,100,13],[100,14,100,15],[101,2,101,6],[101,8,101,9],[101,10,101,11],[101,12,101,13],[101,14,101,15],[102,2,102,6],[102,8,102,9],[102,10,102,11],[102,12,102,13],[102,14,102,15],[103,2,103,6],[103,8,103,9],[103,10,103,11],[103,12,103,13],[103,14,103,15],[104,2,104,6],[104,8,104,9],[104,10,104,11],[104,12,104,13],[104,14,104,15],[105,2,105,6],[105,8,105,9],[105,10,105,11],[105,12,105,13],[105,14,105,15],[106,2,106,6],[106,8,106,9],[106,10,106,11],[106,12,106,13],[106,14,106,15],[107,2,107,6],[107,8,107,9],[107,10,107,11],[107,12,107,13],[107,14,107,15]]}
[]
["♯補正を行う年度及び証書種別を選択後、最終所有者電力（熱）量を青色セルに記入してください。"]
["補正値合計",null,{"$f":"補正結果!O14","v":"2015年度"},{"$f":"補正結果!U14","v":"2016年度"},{"$f":"補正結果!AA14","v":"2017年度"},{"$f":"補正結果!AG14","v":"2018年度"},{"$f":"補正結果!AM14","v":"2019年度"}]
["補正二酸化炭素排出量（t）",null,{"$f":"SUMIF(H:H,C3,O:P)*-1","v":0},{"$f":"SUMIF(H:H,D3,O:P)*-1","v":0},{"$f":"SUMIF(H:H,E3,O:P)*-1","v":0},{"$f":"SUMIF(H:H,F3,O:P)*-1","v":0},{"$f":"SUMIF(H:H,G3,O:P)*-1","v":0}]
[]
[null,null,null,null,null,null,null,null,null,null,null,null,null,null,null,null,"証書種別チェック"]
["No.","事業所番号","事業所名",null,null,null,null,"利用年度","証書種別",null,"排出係数",null,"最終保有者電力量（千kWh）\n最終保有者熱量（MJ）",null,"合計二酸化炭素削減量\n（tCO2）"]
[{"$f":"IFERROR(MAX(INDIRECT(ADDRESS(1,COLUMN())):INDIRECT(ADDRESS(ROW()-1,COLUMN())))+1,1)","v":1},null,null,null,null,null,null,null,null,null,{"$f":"IFERROR(IF(I8=\"グリーン電力証書\",VLOOKUP(H8,'（非）⑥証書種別・排出係数'!$A$1:$B$6,2,FALSE),IF(I8=\"グリーン熱証書\",VLOOKUP(H8,'（非）⑥証書種別・排出係数'!$A$1:$C$6,3,FALSE),\"\")),\"\")","v":""},null,null,null,{"$f":"IFERROR(IF(Q8=1,ROUNDDOWN(K8*M8,0),IF(Q8=2,ROUNDDOWN(K8*M8/1000,0),\" \")),\"\")","v":" "},null,{"$f":"IF(I8=\"グリーン電力証書\",1,IF(I8=\"グリーン熱証書\",2,0))","v":0}]
[1,null,null,null,null,null,null,null,null,null,{"$f":"IFERROR(IF(I9=\"グリーン電力証書\",VLOOKUP(H9,'（非）⑥証書種別・排出係数'!$A$1:$B$6,2,FALSE),IF(I9=\"グリーン熱証書\",VLOOKUP(H9,'（非）⑥証書種別・排出係数'!$A$1:$C$6,3,FALSE),\"\")),\"\")","v":""},null,null,null,{"$f":"IFERROR(IF(Q9=1,ROUNDDOWN(K9*M9,0),IF(Q9=2,ROUNDDOWN(K9*M9/1000,0),\" \")),\"\")","v":" "},null,{"$f":"IF(I9=\"グリーン電力証書\",1,IF(I9=\"グリーン熱証書\",2,0))","v":0}]
[{"$f":"IFERROR(MAX(INDIRECT(ADDRESS(1,COLUMN())):INDIRECT(ADDRESS(ROW()-1,COLUMN())))+1,1)","v":2},null,null,null,null,null,null,null,null,null,{"$f":"IFERROR(IF(I10=\"グリーン電力証書\",VLOOKUP(H10,'（非）⑥証書種別・排出係数'!$A$1:$B$6,2,FALSE),IF(I10=\"グリーン熱証書\",VLOOKUP(H10,'（非）⑥証書種別・排出係数'!$A$1:$C$6,3,FALSE),\"\")),\"\")","v":""},null,null,null,{"$f":"IFERROR(IF(Q10=1,ROUNDDOWN(K10*M10,0),IF(Q10=2,ROUNDDOWN(K10*M10/1000,0),\" \")),\"\")","v":" "},null,{"$f":"IF(I10=\"グリーン電力証書\",1,IF(I10=\"グリーン熱証書\",2,0))","v":0}]
[{"$f":"IFERROR(MAX(INDIRECT(ADDRESS(1,COLUMN())):INDIRECT(ADDRESS(ROW()-1,COLUMN())))+1,1)","v":3},null,null,null,null,null,null,null,null,null,{"$f":"IFERROR(IF(I11=\"グリーン電力証書\",VLOOKUP(H11,'（非）⑥証書種別・排出係数'!$A$1:$B$6,2,FALSE),IF(I11=\"グリーン熱証書\",VLOOKUP(H11,'（非）⑥証書種別・排出係数'!$A$1:$C$6,3,FALSE),\"\")),\"\")","v":""},null,null,null," ",null,{"$f":"IF(I11=\"グリーン電力証書\",1,IF(I11=\"グリーン熱証書\",2,0))","v":0}]
[{"$f":"IFERROR(MAX(INDIRECT(ADDRESS(1,COLUMN())):INDIRECT(ADDRESS(ROW()-1,COLUMN())))+1,1)","v":4},null,null,null,null,null,null,null,null,null,{"$f":"IFERROR(IF(I12=\"グリーン電力証書\",VLOOKUP(H12,'（非）⑥証書種別・排出係数'!$A$1:$B$6,2,FALSE),IF(I12=\"グリーン熱証書\",VLOOKUP(H12,'（非）⑥証書種別・排出係数'!$A$1:$C$6,3,FALSE),\"\")),\"\")","v":""},null,null,null," ",null,0]
[{"$f":"IFERROR(MAX(INDIRECT(ADDRESS(1,COLUMN())):INDIRECT(ADDRESS(ROW()-1,COLUMN())))+1,1)","v":5},null,null,null,null,null,null,null,null,null,{"$f":"IFERROR(IF(I13=\"グリーン電力証書\",VLOOKUP(H13,'（非）⑥証書種別・排出係数'!$A$1:$B$6,2,FALSE),IF(I13=\"グリーン熱証書\",VLOOKUP(H13,'（非）⑥証書種別・排出係数'!$A$1:$C$6,3,FALSE),\"\")),\"\")","v":""},null,null,null," ",null,0]
[{"$f":"IFERROR(MAX(INDIRECT(ADDRESS(1,COLUMN())):INDIRECT(ADDRESS(ROW()-1,COLUMN())))+1,1)","v":6},null,null,null,null,null,null,null,null,null,{"$f":"IFERROR(IF(I14=\"グリーン電力証書\",VLOOKUP(H14,'（非）⑥証書種別・排出係数'!$A$1:$B$6,2,FALSE),IF(I14=\"グリーン熱証書\",VLOOKUP(H14,'（非）⑥証書種別・排出係数'!$A$1:$C$6,3,FALSE),\"\")),\"\")","v":""},null,null,null," ",null,0]
[{"$f":"IFERROR(MAX(INDIRECT(ADDRESS(1,COLUMN())):INDIRECT(ADDRESS(ROW()-1,COLUMN())))+1,1)","v":7},null,null,null,null,null,null,null,null,null,{"$f":"IFERROR(IF(I15=\"グリーン電力証書\",VLOOKUP(H15,'（非）⑥証書種別・排出係数'!$A$1:$B$6,2,FALSE),IF(I15=\"グリーン熱証書\",VLOOKUP(H15,'（非）⑥証書種別・排出係数'!$A$1:$C$6,3,FALSE),\"\")),\"\")","v":""},null,null,null," ",null,0]
[{"$f":"IFERROR(MAX(INDIRECT(ADDRESS(1,COLUMN())):INDIRECT(ADDRESS(ROW()-1,COLUMN())))+1,1)","v":8},null,null,null,null,null,null,null,null,null,{"$f":"IFERROR(IF(I16=\"グリーン電力証書\",VLOOKUP(H16,'（非）⑥証書種別・排出係数'!$A$1:$B$6,2,FALSE),IF(I16=\"グリーン熱証書\",VLOOKUP(H16,'（非）⑥証書種別・排出係数'!$A$1:$C$6,3,FALSE),\"\")),\"\")","v":""},null,null,null," ",null,0]
[{"$f":"IFERROR(MAX(INDIRECT(ADDRESS(1,COLUMN())):INDIRECT(ADDRESS(ROW()-1,COLUMN())))+1,1)","v":9},null,null,null,null,null,null,null,null,null,{"$f":"IFERROR(IF(I17=\"グリーン電力証書\",VLOOKUP(H17,'（非）⑥証書種別・排出係数'!$A$1:$B$6,2,FALSE),IF(I17=\"グリーン熱証書\",VLOOKUP(H17,'（非）⑥証書種別・排出係数'!$A$1:$C$6,3,FALSE),\"\")),\"\")","v":""},null,null,null," ",null,0]
[{"$f":"IFERROR(MAX(INDIRECT(ADDRESS(1,COLUMN())):INDIRECT(ADDRESS(ROW()-1,COLUMN())))+1,1)","v":10},null,null,null,null,null,null,null,null,null,{"$f":"IFERROR(IF(I18=\"グリーン電力証書\",VLOOKUP(H18,'（非）⑥証書種別・排出係数'!$A$1:$B$6,2,FALSE),IF(I18=\"グリーン熱証書\",VLOOKUP(H18,'（非）⑥証書種別・排出係数'!$A$1:$C$6,3,FALSE),\"\")),\"\")","v":""},null,null,null," ",null,0]
[{"$f":"IFERROR(MAX(INDIRECT(ADDRESS(1,COLUMN())):INDIRECT(ADDRESS(ROW()-1,COLUMN())))+1,1)","v":11},null,null,null,null,null,null,null,null,null,{"$f":"IFERROR(IF(I19=\"グリーン電力証書\",VLOOKUP(H19,'（非）⑥証書種別・排出係数'!$A$1:$B$6,2,FALSE),IF(I19=\"グリーン熱証書\",VLOOKUP(H19,'（非）⑥証書種別・排出係数'!$A$1:$C$6,3,FALSE),\"\")),\"\")","v":""},null,null,null," ",null,0]
[{"$f":"IFERROR(MAX(INDIRECT(ADDRESS(1,COLUMN())):INDIRECT(ADDRESS(ROW()-1,COLUMN())))+1,1)","v":12},null,null,null,null,null,null,null,null,null,{"$f":"IFERROR(IF(I20=\"グリーン電力証書\",VLOOKUP(H20,'（非）⑥証書種別・排出係数'!$A$1:$B$6,2,FALSE),IF(I20=\"グリーン熱証書\",VLOOKUP(H20,'（非）⑥証書種別・排出係数'!$A$1:$C$6,3,FALSE),\"\")),\"\")","v":""},null,null,null," ",null,0]
[{"$f":"IFERROR(MAX(INDIRECT(ADDRESS(1,COLUMN())):INDIRECT(ADDRESS(ROW()-1,COLUMN())))+1,1)","v":13},null,null,null,null,null,null,null,null,null,{"$f":"IFERROR(IF(I21=\"グリーン電力証書\",VLOOKUP(H21,'（非）⑥証書種別・排出係数'!$A$1:$B$6,2,FALSE),IF(I21=\"グリーン熱証書\",VLOOKUP(H21,'（非）⑥証書種別・排出係数'!$A$1:$C$6,3,FALSE),\"\")),\"\")","v":""},null,null,null," ",null,0]
[{"$f":"IFERROR(MAX(INDIRECT(ADDRESS(1,COLUMN())):INDIRECT(ADDRESS(ROW()-1,COLUMN())))+1,1)","v":14},null,null,null,null,null,null,null,null,null,{"$f":"IFERROR(IF(I22=\"グリーン電力証書\",VLOOKUP(H22,'（非）⑥証書種別・排出係数'!$A$1:$B$6,2,FALSE),IF(I22=\"グリーン熱証書\",VLOOKUP(H22,'（非）⑥証書種別・排出係数'!$A$1:$C$6,3,FALSE),\"\")),\"\")","v":""},null,null,null," ",null,0]
[{"$f":"IFERROR(MAX(INDIRECT(ADDRESS(1,COLUMN())):INDIRECT(ADDRESS(ROW()-1,COLUMN())))+1,1)","v":15},null,null,null,null,null,null,null,null,null,{"$f":"IFERROR(IF(I23=\"グリーン電力証書\",VLOOKUP(H23,'（非）⑥証書種別・排出係数'!$A$1:$B$6,2,FALSE),IF(I23=\"グリーン熱証書\",VLOOKUP(H23,'（非）⑥証書種別・排出係数'!$A$1:$C$6,3,FALSE),\"\")),\"\")","v":""},null,null,null," ",null,0]
[{"$f":"IFERROR(MAX(INDIRECT(ADDRESS(1,COLUMN())):INDIRECT(ADDRESS(ROW()-1,COLUMN())))+1,1)","v":16},null,null,null,null,null,null,null,null,null,{"$f":"IFERROR(IF(I24=\"グリーン電力証書\",VLOOKUP(H24,'（非）⑥証書種別・排出係数'!$A$1:$B$6,2,FALSE),IF(I24=\"グリーン熱証書\",VLOOKUP(H24,'（非）⑥証書種別・排出係数'!$A$1:$C$6,3,FALSE),\"\")),\"\")","v":""},null,null,null," ",null,0]
[{"$f":"IFERROR(MAX(INDIRECT(ADDRESS(1,COLUMN())):INDIRECT(ADDRESS(ROW()-1,COLUMN())))+1,1)","v":17},null,null,null,null,null,null,null,null,null,{"$f":"IFERROR(IF(I25=\"グリーン電力証書\",VLOOKUP(H25,'（非）⑥証書種別・排出係数'!$A$1:$B$6,2,FALSE),IF(I25=\"グリーン熱証書\",VLOOKUP(H25,'（非）⑥証書種別・排出係数'!$A$1:$C$6,3,FALSE),\"\")),\"\")","v":""},null,null,null," ",null,0]
[{"$f":"IFERROR(MAX(INDIRECT(ADDRESS(1,COLUMN())):INDIRECT(ADDRESS(ROW()-1,COLUMN())))+1,1)","v":18},null,null,null,null,null,null,null,null,null,{"$f":"IFERROR(IF(I26=\"グリーン電力証書\",VLOOKUP(H26,'（非）⑥証書種別・排出係数'!$A$1:$B$6,2,FALSE),IF(I26=\"グリーン熱証書\",VLOOKUP(H26,'（非）⑥証書種別・排出係数'!$A$1:$C$6,3,FALSE),\"\")),\"\")","v":""},null,null,null," ",null,0]
[{"$f":"IFERROR(MAX(INDIRECT(ADDRESS(1,COLUMN())):INDIRECT(ADDRESS(ROW()-1,COLUMN())))+1,1)","v":19},null,null,null,null,null,null,null,null,null,{"$f":"IFERROR(IF(I27=\"グリーン電力証書\",VLOOKUP(H27,'（非）⑥証書種別・排出係数'!$A$1:$B$6,2,FALSE),IF(I27=\"グリーン熱証書\",VLOOKUP(H27,'（非）⑥証書種別・排出係数'!$A$1:$C$6,3,FALSE),\"\")),\"\")","v":""},null,null,null," ",null,0]
[{"$f":"IFERROR(MAX(INDIRECT(ADDRESS(1,COLUMN())):INDIRECT(ADDRESS(ROW()-1,COLUMN())))+1,1)","v":20},null,null,null,null,null,null,null,null,null,{"$f":"IFERROR(IF(I28=\"グリーン電力証書\",VLOOKUP(H28,'（非）⑥証書種別・排出係数'!$A$1:$B$6,2,FALSE),IF(I28=\"グリーン熱証書\",VLOOKUP(H28,'（非）⑥証書種別・排出係数'!$A$1:$C$6,3,FALSE),\"\")),\"\")","v":""},null,null,null," ",null,0]
[{"$f":"IFERROR(MAX(INDIRECT(ADDRESS(1,COLUMN())):INDIRECT(ADDRESS(ROW()-1,COLUMN())))+1,1)","v":21},null,null,null,null,null,null,null,null,null,{"$f":"IFERROR(IF(I29=\"グリーン電力証書\",VLOOKUP(H29,'（非）⑥証書種別・排出係数'!$A$1:$B$6,2,FALSE),IF(I29=\"グリーン熱証書\",VLOOKUP(H29,'（非）⑥証書種別・排出係数'!$A$1:$C$6,3,FALSE),\"\")),\"\")","v":""},null,null,null,{"$f":"IFERROR(IF(Q29=1,ROUNDDOWN(K29*M29,0),IF(Q29=2,ROUNDDOWN(K29*M29/1000,0),\" \")),\"\")","v":" "},null,{"$f":"IF(I29=\"グリーン電力証書\",1,IF(I29=\"グリーン熱証書\",2,0))","v":0}]
[{"$f":"IFERROR(MAX(INDIRECT(ADDRESS(1,COLUMN())):INDIRECT(ADDRESS(ROW()-1,COLUMN())))+1,1)","v":22},null,null,null,null,null,null,null,null,null,{"$f":"IFERROR(IF(I30=\"グリーン電力証書\",VLOOKUP(H30,'（非）⑥証書種別・排出係数'!$A$1:$B$6,2,FALSE),IF(I30=\"グリーン熱証書\",VLOOKUP(H30,'（非）⑥証書種別・排出係数'!$A$1:$C$6,3,FALSE),\"\")),\"\")","v":""},null,null,null," ",null,0]
[{"$f":"IFERROR(MAX(INDIRECT(ADDRESS(1,COLUMN())):INDIRECT(ADDRESS(ROW()-1,COLUMN())))+1,1)","v":23},null,null,null,null,null,null,null,null,null,{"$f":"IFERROR(IF(I31=\"グリーン電力証書\",VLOOKUP(H31,'（非）⑥証書種別・排出係数'!$A$1:$B$6,2,FALSE),IF(I31=\"グリーン熱証書\",VLOOKUP(H31,'（非）⑥証書種別・排出係数'!$A$1:$C$6,3,FALSE),\"\")),\"\")","v":""},null,null,null," ",null,0]
[{"$f":"IFERROR(MAX(INDIRECT(ADDRESS(1,COLUMN())):INDIRECT(ADDRESS(ROW()-1,COLUMN())))+1,1)","v":24},null,null,null,null,null,null,null,null,null,{"$f":"IFERROR(IF(I32=\"グリーン電力証書\",VLOOKUP(H32,'（非）⑥証書種別・排出係数'!$A$1:$B$6,2,FALSE),IF(I32=\"グリーン熱証書\",VLOOKUP(H32,'（非）⑥証書種別・排出係数'!$A$1:$C$6,3,FALSE),\"\")),\"\")","v":""},null,null,null," ",null,0]
[{"$f":"IFERROR(MAX(INDIRECT(ADDRESS(1,COLUMN())):INDIRECT(ADDRESS(ROW()-1,COLUMN())))+1,1)","v":25},null,null,null,null,null,null,null,null,null,{"$f":"IFERROR(IF(I33=\"グリーン電力証書\",VLOOKUP(H33,'（非）⑥証書種別・排出係数'!$A$1:$B$6,2,FALSE),IF(I33=\"グリーン熱証書\",VLOOKUP(H33,'（非）⑥証書種別・排出係数'!$A$1:$C$6,3,FALSE),\"\")),\"\")","v":""},null,null,null," ",null,0]
[{"$f":"IFERROR(MAX(INDIRECT(ADDRESS(1,COLUMN())):INDIRECT(ADDRESS(ROW()-1,COLUMN())))+1,1)","v":26},null,null,null,null,null,null,null,null,null,{"$f":"IFERROR(IF(I34=\"グリーン電力証書\",VLOOKUP(H34,'（非）⑥証書種別・排出係数'!$A$1:$B$6,2,FALSE),IF(I34=\"グリーン熱証書\",VLOOKUP(H34,'（非）⑥証書種別・排出係数'!$A$1:$C$6,3,FALSE),\"\")),\"\")","v":""},null,null,null," ",null,0]
[{"$f":"IFERROR(MAX(INDIRECT(ADDRESS(1,COLUMN())):INDIRECT(ADDRESS(ROW()-1,COLUMN())))+1,1)","v":27},null,null,null,null,null,null,null,null,null,{"$f":"IFERROR(IF(I35=\"グリーン電力証書\",VLOOKUP(H35,'（非）⑥証書種別・排出係数'!$A$1:$B$6,2,FALSE),IF(I35=\"グリーン熱証書\",VLOOKUP(H35,'（非）⑥証書種別・排出係数'!$A$1:$C$6,3,FALSE),\"\")),\"\")","v":""},null,null,null," ",null,0]
[{"$f":"IFERROR(MAX(INDIRECT(ADDRESS(1,COLUMN())):INDIRECT(ADDRESS(ROW()-1,COLUMN())))+1,1)","v":28},null,null,null,null,null,null,null,null,null,{"$f":"IFERROR(IF(I36=\"グリーン電力証書\",VLOOKUP(H36,'（非）⑥証書種別・排出係数'!$A$1:$B$6,2,FALSE),IF(I36=\"グリーン熱証書\",VLOOKUP(H36,'（非）⑥証書種別・排出係数'!$A$1:$C$6,3,FALSE),\"\")),\"\")","v":""},null,null,null," ",null,0]
[{"$f":"IFERROR(MAX(INDIRECT(ADDRESS(1,COLUMN())):INDIRECT(ADDRESS(ROW()-1,COLUMN())))+1,1)","v":29},null,null,null,null,null,null,null,null,null,{"$f":"IFERROR(IF(I37=\"グリーン電力証書\",VLOOKUP(H37,'（非）⑥証書種別・排出係数'!$A$1:$B$6,2,FALSE),IF(I37=\"グリーン熱証書\",VLOOKUP(H37,'（非）⑥証書種別・排出係数'!$A$1:$C$6,3,FALSE),\"\")),\"\")","v":""},null,null,null," ",null,0]
[{"$f":"IFERROR(MAX(INDIRECT(ADDRESS(1,COLUMN())):INDIRECT(ADDRESS(ROW()-1,COLUMN())))+1,1)","v":30},null,null,null,null,null,null,null,null,null,{"$f":"IFERROR(IF(I38=\"グリーン電力証書\",VLOOKUP(H38,'（非）⑥証書種別・排出係数'!$A$1:$B$6,2,FALSE),IF(I38=\"グリーン熱証書\",VLOOKUP(H38,'（非）⑥証書種別・排出係数'!$A$1:$C$6,3,FALSE),\"\")),\"\")","v":""},null,null,null," ",null,0]
[{"$f":"IFERROR(MAX(INDIRECT(ADDRESS(1,COLUMN())):INDIRECT(ADDRESS(ROW()-1,COLUMN())))+1,1)","v":31},null,null,null,null,null,null,null,null,null,{"$f":"IFERROR(IF(I39=\"グリーン電力証書\",VLOOKUP(H39,'（非）⑥証書種別・排出係数'!$A$1:$B$6,2,FALSE),IF(I39=\"グリーン熱証書\",VLOOKUP(H39,'（非）⑥証書種別・排出係数'!$A$1:$C$6,3,FALSE),\"\")),\"\")","v":""},null,null,null," ",null,0]
[{"$f":"IFERROR(MAX(INDIRECT(ADDRESS(1,COLUMN())):INDIRECT(ADDRESS(ROW()-1,COLUMN())))+1,1)","v":32},null,null,null,null,null,null,null,null,null,{"$f":"IFERROR(IF(I40=\"グリーン電力証書\",VLOOKUP(H40,'（非）⑥証書種別・排出係数'!$A$1:$B$6,2,FALSE),IF(I40=\"グリーン熱証書\",VLOOKUP(H40,'（非）⑥証書種別・排出係数'!$A$1:$C$6,3,FALSE),\"\")),\"\")","v":""},null,null,null," ",null,0]
[{"$f":"IFERROR(MAX(INDIRECT(ADDRESS(1,COLUMN())):INDIRECT(ADDRESS(ROW()-1,COLUMN())))+1,1)","v":33},null,null,null,null,null,null,null,null,null,{"$f":"IFERROR(IF(I41=\"グリーン電力証書\",VLOOKUP(H41,'（非）⑥証書種別・排出係数'!$A$1:$B$6,2,FALSE),IF(I41=\"グリーン熱証書\",VLOOKUP(H41,'（非）⑥証書種別・排出係数'!$A$1:$C$6,3,FALSE),\"\")),\"\")","v":""},null,null,null," ",null,0]
[{"$f":"IFERROR(MAX(INDIRECT(ADDRESS(1,COLUMN())):INDIRECT(ADDRESS(ROW()-1,COLUMN())))+1,1)","v":34},null,null,null,null,null,null,null,null,null,{"$f":"IFERROR(IF(I42=\"グリーン電力証書\",VLOOKUP(H42,'（非）⑥証書種別・排出係数'!$A$1:$B$6,2,FALSE),IF(I42=\"グリーン熱証書\",VLOOKUP(H42,'（非）⑥証書種別・排出係数'!$A$1:$C$6,3,FALSE),\"\")),\"\")","v":""},null,null,null," ",null,0]
[{"$f":"IFERROR(MAX(INDIRECT(ADDRESS(1,COLUMN())):INDIRECT(ADDRESS(ROW()-1,COLUMN())))+1,1)","v":35},null,null,null,null,null,null,null,null,null,{"$f":"IFERROR(IF(I43=\"グリーン電力証書\",VLOOKUP(H43,'（非）⑥証書種別・排出係数'!$A$1:$B$6,2,FALSE),IF(I43=\"グリーン熱証書\",VLOOKUP(H43,'（非）⑥証書種別・排出係数'!$A$1:$C$6,3,FALSE),\"\")),\"\")","v":""},null,null,null," ",null,0]
[{"$f":"IFERROR(MAX(INDIRECT(ADDRESS(1,COLUMN())):INDIRECT(ADDRESS(ROW()-1,COLUMN())))+1,1)","v":36},null,null,null,null,null,null,null,null,null,{"$f":"IFERROR(IF(I44=\"グリーン電力証書\",VLOOKUP(H44,'（非）⑥証書種別・排出係数'!$A$1:$B$6,2,FALSE),IF(I44=\"グリーン熱証書\",VLOOKUP(H44,'（非）⑥証書種別・排出係数'!$A$1:$C$6,3,FALSE),\"\")),\"\")","v":""},null,null,null," ",null,0]
[{"$f":"IFERROR(MAX(INDIRECT(ADDRESS(1,COLUMN())):INDIRECT(ADDRESS(ROW()-1,COLUMN())))+1,1)","v":37},null,null,null,null,null,null,null,null,null,{"$f":"IFERROR(IF(I45=\"グリーン電力証書\",VLOOKUP(H45,'（非）⑥証書種別・排出係数'!$A$1:$B$6,2,FALSE),IF(I45=\"グリーン熱証書\",VLOOKUP(H45,'（非）⑥証書種別・排出係数'!$A$1:$C$6,3,FALSE),\"\")),\"\")","v":""},null,null,null," ",null,0]
[{"$f":"IFERROR(MAX(INDIRECT(ADDRESS(1,COLUMN())):INDIRECT(ADDRESS(ROW()-1,COLUMN())))+1,1)","v":38},null,null,null,null,null,null,null,null,null,{"$f":"IFERROR(IF(I46=\"グリーン電力証書\",VLOOKUP(H46,'（非）⑥証書種別・排出係数'!$A$1:$B$6,2,FALSE),IF(I46=\"グリーン熱証書\",VLOOKUP(H46,'（非）⑥証書種別・排出係数'!$A$1:$C$6,3,FALSE),\"\")),\"\")","v":""},null,null,null," ",null,0]
[{"$f":"IFERROR(MAX(INDIRECT(ADDRESS(1,COLUMN())):INDIRECT(ADDRESS(ROW()-1,COLUMN())))+1,1)","v":39},null,null,null,null,null,null,null,null,null,{"$f":"IFERROR(IF(I47=\"グリーン電力証書\",VLOOKUP(H47,'（非）⑥証書種別・排出係数'!$A$1:$B$6,2,FALSE),IF(I47=\"グリーン熱証書\",VLOOKUP(H47,'（非）⑥証書種別・排出係数'!$A$1:$C$6,3,FALSE),\"\")),\"\")","v":""},null,null,null,{"$f":"IFERROR(IF(Q47=1,ROUNDDOWN(K47*M47,0),IF(Q47=2,ROUNDDOWN(K47*M47/1000,0),\" \")),\"\")","v":" "},null,{"$f":"IF(I47=\"グリーン電力証書\",1,IF(I47=\"グリーン熱証書\",2,0))","v":0}]
[{"$f":"IFERROR(MAX(INDIRECT(ADDRESS(1,COLUMN())):INDIRECT(ADDRESS(ROW()-1,COLUMN())))+1,1)","v":40},null,null,null,null,null,null,null,null,null,{"$f":"IFERROR(IF(I48=\"グリーン電力証書\",VLOOKUP(H48,'（非）⑥証書種別・排出係数'!$A$1:$B$6,2,FALSE),IF(I48=\"グリーン熱証書\",VLOOKUP(H48,'（非）⑥証書種別・排出係数'!$A$1:$C$6,3,FALSE),\"\")),\"\")","v":""},null,null,null," ",null,0]
[{"$f":"IFERROR(MAX(INDIRECT(ADDRESS(1,COLUMN())):INDIRECT(ADDRESS(ROW()-1,COLUMN())))+1,1)","v":41},null,null,null,null,null,null,null,null,null,{"$f":"IFERROR(IF(I49=\"グリーン電力証書\",VLOOKUP(H49,'（非）⑥証書種別・排出係数'!$A$1:$B$6,2,FALSE),IF(I49=\"グリーン熱証書\",VLOOKUP(H49,'（非）⑥証書種別・排出係数'!$A$1:$C$6,3,FALSE),\"\")),\"\")","v":""},null,null,null," ",null,0]
[{"$f":"IFERROR(MAX(INDIRECT(ADDRESS(1,COLUMN())):INDIRECT(ADDRESS(ROW()-1,COLUMN())))+1,1)","v":42},null,null,null,null,null,null,null,null,null,{"$f":"IFERROR(IF(I50=\"グリーン電力証書\",VLOOKUP(H50,'（非）⑥証書種別・排出係数'!$A$1:$B$6,2,FALSE),IF(I50=\"グリーン熱証書\",VLOOKUP(H50,'（非）⑥証書種別・排出係数'!$A$1:$C$6,3,FALSE),\"\")),\"\")","v":""},null,null,null," ",null,0]
[{"$f":"IFERROR(MAX(INDIRECT(ADDRESS(1,COLUMN())):INDIRECT(ADDRESS(ROW()-1,COLUMN())))+1,1)","v":43},null,null,null,null,null,null,null,null,null,{"$f":"IFERROR(IF(I51=\"グリーン電力証書\",VLOOKUP(H51,'（非）⑥証書種別・排出係数'!$A$1:$B$6,2,FALSE),IF(I51=\"グリーン熱証書\",VLOOKUP(H51,'（非）⑥証書種別・排出係数'!$A$1:$C$6,3,FALSE),\"\")),\"\")","v":""},null,null,null," ",null,0]
[{"$f":"IFERROR(MAX(INDIRECT(ADDRESS(1,COLUMN())):INDIRECT(ADDRESS(ROW()-1,COLUMN())))+1,1)","v":44},null,null,null,null,null,null,null,null,null,{"$f":"IFERROR(IF(I52=\"グリーン電力証書\",VLOOKUP(H52,'（非）⑥証書種別・排出係数'!$A$1:$B$6,2,FALSE),IF(I52=\"グリーン熱証書\",VLOOKUP(H52,'（非）⑥証書種別・排出係数'!$A$1:$C$6,3,FALSE),\"\")),\"\")","v":""},null,null,null," ",null,0]
[{"$f":"IFERROR(MAX(INDIRECT(ADDRESS(1,COLUMN())):INDIRECT(ADDRESS(ROW()-1,COLUMN())))+1,1)","v":45},null,null,null,null,null,null,null,null,null,{"$f":"IFERROR(IF(I53=\"グリーン電力証書\",VLOOKUP(H53,'（非）⑥証書種別・排出係数'!$A$1:$B$6,2,FALSE),IF(I53=\"グリーン熱証書\",VLOOKUP(H53,'（非）⑥証書種別・排出係数'!$A$1:$C$6,3,FALSE),\"\")),\"\")","v":""},null,null,null," ",null,0]
[{"$f":"IFERROR(MAX(INDIRECT(ADDRESS(1,COLUMN())):INDIRECT(ADDRESS(ROW()-1,COLUMN())))+1,1)","v":46},null,null,null,null,null,null,null,null,null,{"$f":"IFERROR(IF(I54=\"グリーン電力証書\",VLOOKUP(H54,'（非）⑥証書種別・排出係数'!$A$1:$B$6,2,FALSE),IF(I54=\"グリーン熱証書\",VLOOKUP(H54,'（非）⑥証書種別・排出係数'!$A$1:$C$6,3,FALSE),\"\")),\"\")","v":""},null,null,null," ",null,0]
[{"$f":"IFERROR(MAX(INDIRECT(ADDRESS(1,COLUMN())):INDIRECT(ADDRESS(ROW()-1,COLUMN())))+1,1)","v":47},null,null,null,null,null,null,null,null,null,{"$f":"IFERROR(IF(I55=\"グリーン電力証書\",VLOOKUP(H55,'（非）⑥証書種別・排出係数'!$A$1:$B$6,2,FALSE),IF(I55=\"グリーン熱証書\",VLOOKUP(H55,'（非）⑥証書種別・排出係数'!$A$1:$C$6,3,FALSE),\"\")),\"\")","v":""},null,null,null," ",null,0]
[{"$f":"IFERROR(MAX(INDIRECT(ADDRESS(1,COLUMN())):INDIRECT(ADDRESS(ROW()-1,COLUMN())))+1,1)","v":48},null,null,null,null,null,null,null,null,null,{"$f":"IFERROR(IF(I56=\"グリーン電力証書\",VLOOKUP(H56,'（非）⑥証書種別・排出係数'!$A$1:$B$6,2,FALSE),IF(I56=\"グリーン熱証書\",VLOOKUP(H56,'（非）⑥証書種別・排出係数'!$A$1:$C$6,3,FALSE),\"\")),\"\")","v":""},null,null,null," ",null,0]
[{"$f":"IFERROR(MAX(INDIRECT(ADDRESS(1,COLUMN())):INDIRECT(ADDRESS(ROW()-1,COLUMN())))+1,1)","v":49},null,null,null,null,null,null,null,null,null,{"$f":"IFERROR(IF(I57=\"グリーン電力証書\",VLOOKUP(H57,'（非）⑥証書種別・排出係数'!$A$1:$B$6,2,FALSE),IF(I57=\"グリーン熱証書\",VLOOKUP(H57,'（非）⑥証書種別・排出係数'!$A$1:$C$6,3,FALSE),\"\")),\"\")","v":""},null,null,null," ",null,0]
[{"$f":"IFERROR(MAX(INDIRECT(ADDRESS(1,COLUMN())):INDIRECT(ADDRESS(ROW()-1,COLUMN())))+1,1)","v":50},null,null,null,null,null,null,null,null,null,{"$f":"IFERROR(IF(I58=\"グリーン電力証書\",VLOOKUP(H58,'（非）⑥証書種別・排出係数'!$A$1:$B$6,2,FALSE),IF(I58=\"グリーン熱証書\",VLOOKUP(H58,'（非）⑥証書種別・排出係数'!$A$1:$C$6,3,FALSE),\"\")),\"\")","v":""},null,null,null," ",null,0]
[{"$f":"IFERROR(MAX(INDIRECT(ADDRESS(1,COLUMN())):INDIRECT(ADDRESS(ROW()-1,COLUMN())))+1,1)","v":51},null,null,null,null,null,null,null,null,null,{"$f":"IFERROR(IF(I59=\"グリーン電力証書\",VLOOKUP(H59,'（非）⑥証書種別・排出係数'!$A$1:$B$6,2,FALSE),IF(I59=\"グリーン熱証書\",VLOOKUP(H59,'（非）⑥証書種別・排出係数'!$A$1:$C$6,3,FALSE),\"\")),\"\")","v":""},null,null,null,{"$f":"IFERROR(IF(Q59=1,ROUNDDOWN(K59*M59,0),IF(Q59=2,ROUNDDOWN(K59*M59/1000,0),\" \")),\"\")","v":" "},null,{"$f":"IF(I59=\"グリーン電力証書\",1,IF(I59=\"グリーン熱証書\",2,0))","v":0}]
[{"$f":"IFERROR(MAX(INDIRECT(ADDRESS(1,COLUMN())):INDIRECT(ADDRESS(ROW()-1,COLUMN())))+1,1)","v":52},null,null,null,null,null,null,null,null,null,{"$f":"IFERROR(IF(I60=\"グリーン電力証書\",VLOOKUP(H60,'（非）⑥証書種別・排出係数'!$A$1:$B$6,2,FALSE),IF(I60=\"グリーン熱証書\",VLOOKUP(H60,'（非）⑥証書種別・排出係数'!$A$1:$C$6,3,FALSE),\"\")),\"\")","v":""},null,null,null," ",null,0]
[{"$f":"IFERROR(MAX(INDIRECT(ADDRESS(1,COLUMN())):INDIRECT(ADDRESS(ROW()-1,COLUMN())))+1,1)","v":53},null,null,null,null,null,null,null,null,null,{"$f":"IFERROR(IF(I61=\"グリーン電力証書\",VLOOKUP(H61,'（非）⑥証書種別・排出係数'!$A$1:$B$6,2,FALSE),IF(I61=\"グリーン熱証書\",VLOOKUP(H61,'（非）⑥証書種別・排出係数'!$A$1:$C$6,3,FALSE),\"\")),\"\")","v":""},null,null,null," ",null,0]
[{"$f":"IFERROR(MAX(INDIRECT(ADDRESS(1,COLUMN())):INDIRECT(ADDRESS(ROW()-1,COLUMN())))+1,1)","v":54},null,null,null,null,null,null,null,null,null,{"$f":"IFERROR(IF(I62=\"グリーン電力証書\",VLOOKUP(H62,'（非）⑥証書種別・排出係数'!$A$1:$B$6,2,FALSE),IF(I62=\"グリーン熱証書\",VLOOKUP(H62,'（非）⑥証書種別・排出係数'!$A$1:$C$6,3,FALSE),\"\")),\"\")","v":""},null,null,null," ",null,0]
[{"$f":"IFERROR(MAX(INDIRECT(ADDRESS(1,COLUMN())):INDIRECT(ADDRESS(ROW()-1,COLUMN())))+1,1)","v":55},null,null,null,null,null,null,null,null,null,{"$f":"IFERROR(IF(I63=\"グリーン電力証書\",VLOOKUP(H63,'（非）⑥証書種別・排出係数'!$A$1:$B$6,2,FALSE),IF(I63=\"グリーン熱証書\",VLOOKUP(H63,'（非）⑥証書種別・排出係数'!$A$1:$C$6,3,FALSE),\"\")),\"\")","v":""},null,null,null," ",null,0]
[{"$f":"IFERROR(MAX(INDIRECT(ADDRESS(1,COLUMN())):INDIRECT(ADDRESS(ROW()-1,COLUMN())))+1,1)","v":56},null,null,null,null,null,null,null,null,null,{"$f":"IFERROR(IF(I64=\"グリーン電力証書\",VLOOKUP(H64,'（非）⑥証書種別・排出係数'!$A$1:$B$6,2,FALSE),IF(I64=\"グリーン熱証書\",VLOOKUP(H64,'（非）⑥証書種別・排出係数'!$A$1:$C$6,3,FALSE),\"\")),\"\")","v":""},null,null,null," ",null,0]
[{"$f":"IFERROR(MAX(INDIRECT(ADDRESS(1,COLUMN())):INDIRECT(ADDRESS(ROW()-1,COLUMN())))+1,1)","v":57},null,null,null,null,null,null,null,null,null,{"$f":"IFERROR(IF(I65=\"グリーン電力証書\",VLOOKUP(H65,'（非）⑥証書種別・排出係数'!$A$1:$B$6,2,FALSE),IF(I65=\"グリーン熱証書\",VLOOKUP(H65,'（非）⑥証書種別・排出係数'!$A$1:$C$6,3,FALSE),\"\")),\"\")","v":""},null,null,null," ",null,0]
[{"$f":"IFERROR(MAX(INDIRECT(ADDRESS(1,COLUMN())):INDIRECT(ADDRESS(ROW()-1,COLUMN())))+1,1)","v":58},null,null,null,null,null,null,null,null,null,{"$f":"IFERROR(IF(I66=\"グリーン電力証書\",VLOOKUP(H66,'（非）⑥証書種別・排出係数'!$A$1:$B$6,2,FALSE),IF(I66=\"グリーン熱証書\",VLOOKUP(H66,'（非）⑥証書種別・排出係数'!$A$1:$C$6,3,FALSE),\"\")),\"\")","v":""},null,null,null," ",null,0]
[{"$f":"IFERROR(MAX(INDIRECT(ADDRESS(1,COLUMN())):INDIRECT(ADDRESS(ROW()-1,COLUMN())))+1,1)","v":59},null,null,null,null,null,null,null,null,null,{"$f":"IFERROR(IF(I67=\"グリーン電力証書\",VLOOKUP(H67,'（非）⑥証書種別・排出係数'!$A$1:$B$6,2,FALSE),IF(I67=\"グリーン熱証書\",VLOOKUP(H67,'（非）⑥証書種別・排出係数'!$A$1:$C$6,3,FALSE),\"\")),\"\")","v":""},null,null,null," ",null,0]
[{"$f":"IFERROR(MAX(INDIRECT(ADDRESS(1,COLUMN())):INDIRECT(ADDRESS(ROW()-1,COLUMN())))+1,1)","v":60},null,null,null,null,null,null,null,null,null,{"$f":"IFERROR(IF(I68=\"グリーン電力証書\",VLOOKUP(H68,'（非）⑥証書種別・排出係数'!$A$1:$B$6,2,FALSE),IF(I68=\"グリーン熱証書\",VLOOKUP(H68,'（非）⑥証書種別・排出係数'!$A$1:$C$6,3,FALSE),\"\")),\"\")","v":""},null,null,null," ",null,0]
[{"$f":"IFERROR(MAX(INDIRECT(ADDRESS(1,COLUMN())):INDIRECT(ADDRESS(ROW()-1,COLUMN())))+1,1)","v":61},null,null,null,null,null,null,null,null,null,{"$f":"IFERROR(IF(I69=\"グリーン電力証書\",VLOOKUP(H69,'（非）⑥証書種別・排出係数'!$A$1:$B$6,2,FALSE),IF(I69=\"グリーン熱証書\",VLOOKUP(H69,'（非）⑥証書種別・排出係数'!$A$1:$C$6,3,FALSE),\"\")),\"\")","v":""},null,null,null," ",null,0]
[{"$f":"IFERROR(MAX(INDIRECT(ADDRESS(1,COLUMN())):INDIRECT(ADDRESS(ROW()-1,COLUMN())))+1,1)","v":62},null,null,null,null,null,null,null,null,null,{"$f":"IFERROR(IF(I70=\"グリーン電力証書\",VLOOKUP(H70,'（非）⑥証書種別・排出係数'!$A$1:$B$6,2,FALSE),IF(I70=\"グリーン熱証書\",VLOOKUP(H70,'（非）⑥証書種別・排出係数'!$A$1:$C$6,3,FALSE),\"\")),\"\")","v":""},null,null,null," ",null,0]
[{"$f":"IFERROR(MAX(INDIRECT(ADDRESS(1,COLUMN())):INDIRECT(ADDRESS(ROW()-1,COLUMN())))+1,1)","v":63},null,null,null,null,null,null,null,null,null,{"$f":"IFERROR(IF(I71=\"グリーン電力証書\",VLOOKUP(H71,'（非）⑥証書種別・排出係数'!$A$1:$B$6,2,FALSE),IF(I71=\"グリーン熱証書\",VLOOKUP(H71,'（非）⑥証書種別・排出係数'!$A$1:$C$6,3,FALSE),\"\")),\"\")","v":""},null,null,null," ",null,0]
[{"$f":"IFERROR(MAX(INDIRECT(ADDRESS(1,COLUMN())):INDIRECT(ADDRESS(ROW()-1,COLUMN())))+1,1)","v":64},null,null,null,null,null,null,null,null,null,{"$f":"IFERROR(IF(I72=\"グリーン電力証書\",VLOOKUP(H72,'（非）⑥証書種別・排出係数'!$A$1:$B$6,2,FALSE),IF(I72=\"グリーン熱証書\",VLOOKUP(H72,'（非）⑥証書種別・排出係数'!$A$1:$C$6,3,FALSE),\"\")),\"\")","v":""},null,null,null," ",null,0]
[{"$f":"IFERROR(MAX(INDIRECT(ADDRESS(1,COLUMN())):INDIRECT(ADDRESS(ROW()-1,COLUMN())))+1,1)","v":65},null,null,null,null,null,null,null,null,null,{"$f":"IFERROR(IF(I73=\"グリーン電力証書\",VLOOKUP(H73,'（非）⑥証書種別・排出係数'!$A$1:$B$6,2,FALSE),IF(I73=\"グリーン熱証書\",VLOOKUP(H73,'（非）⑥証書種別・排出係数'!$A$1:$C$6,3,FALSE),\"\")),\"\")","v":""},null,null,null," ",null,0]
[{"$f":"IFERROR(MAX(INDIRECT(ADDRESS(1,COLUMN())):INDIRECT(ADDRESS(ROW()-1,COLUMN())))+1,1)","v":66},null,null,null,null,null,null,null,null,null,{"$f":"IFERROR(IF(I74=\"グリーン電力証書\",VLOOKUP(H74,'（非）⑥証書種別・排出係数'!$A$1:$B$6,2,FALSE),IF(I74=\"グリーン熱証書\",VLOOKUP(H74,'（非）⑥証書種別・排出係数'!$A$1:$C$6,3,FALSE),\"\")),\"\")","v":""},null,null,null," ",null,0]
[{"$f":"IFERROR(MAX(INDIRECT(ADDRESS(1,COLUMN())):INDIRECT(ADDRESS(ROW()-1,COLUMN())))+1,1)","v":67},null,null,null,null,null,null,null,null,null,{"$f":"IFERROR(IF(I75=\"グリーン電力証書\",VLOOKUP(H75,'（非）⑥証書種別・排出係数'!$A$1:$B$6,2,FALSE),IF(I75=\"グリーン熱証書\",VLOOKUP(H75,'（非）⑥証書種別・排出係数'!$A$1:$C$6,3,FALSE),\"\")),\"\")","v":""},null,null,null," ",null,0]
[{"$f":"IFERROR(MAX(INDIRECT(ADDRESS(1,COLUMN())):INDIRECT(ADDRESS(ROW()-1,COLUMN())))+1,1)","v":68},null,null,null,null,null,null,null,null,null,{"$f":"IFERROR(IF(I76=\"グリーン電力証書\",VLOOKUP(H76,'（非）⑥証書種別・排出係数'!$A$1:$B$6,2,FALSE),IF(I76=\"グリーン熱証書\",VLOOKUP(H76,'（非）⑥証書種別・排出係数'!$A$1:$C$6,3,FALSE),\"\")),\"\")","v":""},null,null,null," ",null,0]
[{"$f":"IFERROR(MAX(INDIRECT(ADDRESS(1,COLUMN())):INDIRECT(ADDRESS(ROW()-1,COLUMN())))+1,1)","v":69},null,null,null,null,null,null,null,null,null,{"$f":"IFERROR(IF(I77=\"グリーン電力証書\",VLOOKUP(H77,'（非）⑥証書種別・排出係数'!$A$1:$B$6,2,FALSE),IF(I77=\"グリーン熱証書\",VLOOKUP(H77,'（非）⑥証書種別・排出係数'!$A$1:$C$6,3,FALSE),\"\")),\"\")","v":""},null,null,null," ",null,0]
[{"$f":"IFERROR(MAX(INDIRECT(ADDRESS(1,COLUMN())):INDIRECT(ADDRESS(ROW()-1,COLUMN())))+1,1)","v":70},null,null,null,null,null,null,null,null,null,{"$f":"IFERROR(IF(I78=\"グリーン電力証書\",VLOOKUP(H78,'（非）⑥証書種別・排出係数'!$A$1:$B$6,2,FALSE),IF(I78=\"グリーン熱証書\",VLOOKUP(H78,'（非）⑥証書種別・排出係数'!$A$1:$C$6,3,FALSE),\"\")),\"\")","v":""},null,null,null," ",null,0]
[{"$f":"IFERROR(MAX(INDIRECT(ADDRESS(1,COLUMN())):INDIRECT(ADDRESS(ROW()-1,COLUMN())))+1,1)","v":71},null,null,null,null,null,null,null,null,null,{"$f":"IFERROR(IF(I79=\"グリーン電力証書\",VLOOKUP(H79,'（非）⑥証書種別・排出係数'!$A$1:$B$6,2,FALSE),IF(I79=\"グリーン熱証書\",VLOOKUP(H79,'（非）⑥証書種別・排出係数'!$A$1:$C$6,3,FALSE),\"\")),\"\")","v":""},null,null,null," ",null,0]
[{"$f":"IFERROR(MAX(INDIRECT(ADDRESS(1,COLUMN())):INDIRECT(ADDRESS(ROW()-1,COLUMN())))+1,1)","v":72},null,null,null,null,null,null,null,null,null,{"$f":"IFERROR(IF(I80=\"グリーン電力証書\",VLOOKUP(H80,'（非）⑥証書種別・排出係数'!$A$1:$B$6,2,FALSE),IF(I80=\"グリーン熱証書\",VLOOKUP(H80,'（非）⑥証書種別・排出係数'!$A$1:$C$6,3,FALSE),\"\")),\"\")","v":""},null,null,null," ",null,0]
[{"$f":"IFERROR(MAX(INDIRECT(ADDRESS(1,COLUMN())):INDIRECT(ADDRESS(ROW()-1,COLUMN())))+1,1)","v":73},null,null,null,null,null,null,null,null,null,{"$f":"IFERROR(IF(I81=\"グリーン電力証書\",VLOOKUP(H81,'（非）⑥証書種別・排出係数'!$A$1:$B$6,2,FALSE),IF(I81=\"グリーン熱証書\",VLOOKUP(H81,'（非）⑥証書種別・排出係数'!$A$1:$C$6,3,FALSE),\"\")),\"\")","v":""},null,null,null," ",null,0]
[{"$f":"IFERROR(MAX(INDIRECT(ADDRESS(1,COLUMN())):INDIRECT(ADDRESS(ROW()-1,COLUMN())))+1,1)","v":74},null,null,null,null,null,null,null,null,null,{"$f":"IFERROR(IF(I82=\"グリーン電力証書\",VLOOKUP(H82,'（非）⑥証書種別・排出係数'!$A$1:$B$6,2,FALSE),IF(I82=\"グリーン熱証書\",VLOOKUP(H82,'（非）⑥証書種別・排出係数'!$A$1:$C$6,3,FALSE),\"\")),\"\")","v":""},null,null,null," ",null,0]
[{"$f":"IFERROR(MAX(INDIRECT(ADDRESS(1,COLUMN())):INDIRECT(ADDRESS(ROW()-1,COLUMN())))+1,1)","v":75},null,null,null,null,null,null,null,null,null,{"$f":"IFERROR(IF(I83=\"グリーン電力証書\",VLOOKUP(H83,'（非）⑥証書種別・排出係数'!$A$1:$B$6,2,FALSE),IF(I83=\"グリーン熱証書\",VLOOKUP(H83,'（非）⑥証書種別・排出係数'!$A$1:$C$6,3,FALSE),\"\")),\"\")","v":""},null,null,null," ",null,0]
[{"$f":"IFERROR(MAX(INDIRECT(ADDRESS(1,COLUMN())):INDIRECT(ADDRESS(ROW()-1,COLUMN())))+1,1)","v":76},null,null,null,null,null,null,null,null,null,{"$f":"IFERROR(IF(I84=\"グリーン電力証書\",VLOOKUP(H84,'（非）⑥証書種別・排出係数'!$A$1:$B$6,2,FALSE),IF(I84=\"グリーン熱証書\",VLOOKUP(H84,'（非）⑥証書種別・排出係数'!$A$1:$C$6,3,FALSE),\"\")),\"\")","v":""},null,null,null," ",null,0]
[{"$f":"IFERROR(MAX(INDIRECT(ADDRESS(1,COLUMN())):INDIRECT(ADDRESS(ROW()-1,COLUMN())))+1,1)","v":77},null,null,null,null,null,null,null,null,null,{"$f":"IFERROR(IF(I85=\"グリーン電力証書\",VLOOKUP(H85,'（非）⑥証書種別・排出係数'!$A$1:$B$6,2,FALSE),IF(I85=\"グリーン熱証書\",VLOOKUP(H85,'（非）⑥証書種別・排出係数'!$A$1:$C$6,3,FALSE),\"\")),\"\")","v":""},null,null,null," ",null,0]
[{"$f":"IFERROR(MAX(INDIRECT(ADDRESS(1,COLUMN())):INDIRECT(ADDRESS(ROW()-1,COLUMN())))+1,1)","v":78},null,null,null,null,null,null,null,null,null,{"$f":"IFERROR(IF(I86=\"グリーン電力証書\",VLOOKUP(H86,'（非）⑥証書種別・排出係数'!$A$1:$B$6,2,FALSE),IF(I86=\"グリーン熱証書\",VLOOKUP(H86,'（非）⑥証書種別・排出係数'!$A$1:$C$6,3,FALSE),\"\")),\"\")","v":""},null,null,null," ",null,0]
[{"$f":"IFERROR(MAX(INDIRECT(ADDRESS(1,COLUMN())):INDIRECT(ADDRESS(ROW()-1,COLUMN())))+1,1)","v":79},null,null,null,null,null,null,null,null,null,{"$f":"IFERROR(IF(I87=\"グリーン電力証書\",VLOOKUP(H87,'（非）⑥証書種別・排出係数'!$A$1:$B$6,2,FALSE),IF(I87=\"グリーン熱証書\",VLOOKUP(H87,'（非）⑥証書種別・排出係数'!$A$1:$C$6,3,FALSE),\"\")),\"\")","v":""},null,null,null," ",null,0]
[{"$f":"IFERROR(MAX(INDIRECT(ADDRESS(1,COLUMN())):INDIRECT(ADDRESS(ROW()-1,COLUMN())))+1,1)","v":80},null,null,null,null,null,null,null,null,null,{"$f":"IFERROR(IF(I88=\"グリーン電力証書\",VLOOKUP(H88,'（非）⑥証書種別・排出係数'!$A$1:$B$6,2,FALSE),IF(I88=\"グリーン熱証書\",VLOOKUP(H88,'（非）⑥証書種別・排出係数'!$A$1:$C$6,3,FALSE),\"\")),\"\")","v":""},null,null,null," ",null,0]
[{"$f":"IFERROR(MAX(INDIRECT(ADDRESS(1,COLUMN())):INDIRECT(ADDRESS(ROW()-1,COLUMN())))+1,1)","v":81},null,null,null,null,null,null,null,null,null,{"$f":"IFERROR(IF(I89=\"グリーン電力証書\",VLOOKUP(H89,'（非）⑥証書種別・排出係数'!$A$1:$B$6,2,FALSE),IF(I89=\"グリーン熱証書\",VLOOKUP(H89,'（非）⑥証書種別・排出係数'!$A$1:$C$6,3,FALSE),\"\")),\"\")","v":""},null,null,null," ",null,0]
[{"$f":"IFERROR(MAX(INDIRECT(ADDRESS(1,COLUMN())):INDIRECT(ADDRESS(ROW()-1,COLUMN())))+1,1)","v":82},null,null,null,null,null,null,null,null,null,{"$f":"IFERROR(IF(I90=\"グリーン電力証書\",VLOOKUP(H90,'（非）⑥証書種別・排出係数'!$A$1:$B$6,2,FALSE),IF(I90=\"グリーン熱証書\",VLOOKUP(H90,'（非）⑥証書種別・排出係数'!$A$1:$C$6,3,FALSE),\"\")),\"\")","v":""},null,null,null," ",null,0]
[{"$f":"IFERROR(MAX(INDIRECT(ADDRESS(1,COLUMN())):INDIRECT(ADDRESS(ROW()-1,COLUMN())))+1,1)","v":83},null,null,null,null,null,null,null,null,null,{"$f":"IFERROR(IF(I91=\"グリーン電力証書\",VLOOKUP(H91,'（非）⑥証書種別・排出係数'!$A$1:$B$6,2,FALSE),IF(I91=\"グリーン熱証書\",VLOOKUP(H91,'（非）⑥証書種別・排出係数'!$A$1:$C$6,3,FALSE),\"\")),\"\")","v":""},null,null,null,{"$f":"IFERROR(IF(Q91=1,ROUNDDOWN(K91*M91,0),IF(Q91=2,ROUNDDOWN(K91*M91/1000,0),\" \")),\"\")","v":" "},null,{"$f":"IF(I91=\"グリーン電力証書\",1,IF(I91=\"グリーン熱証書\",2,0))","v":0}]
[{"$f":"IFERROR(MAX(INDIRECT(ADDRESS(1,COLUMN())):INDIRECT(ADDRESS(ROW()-1,COLUMN())))+1,1)","v":84},null,null,null,null,null,null,null,null,null,{"$f":"IFERROR(IF(I92=\"グリーン電力証書\",VLOOKUP(H92,'（非）⑥証書種別・排出係数'!$A$1:$B$6,2,FALSE),IF(I92=\"グリーン熱証書\",VLOOKUP(H92,'（非）⑥証書種別・排出係数'!$A$1:$C$6,3,FALSE),\"\")),\"\")","v":""},null,null,null," ",null,0]
[{"$f":"IFERROR(MAX(INDIRECT(ADDRESS(1,COLUMN())):INDIRECT(ADDRESS(ROW()-1,COLUMN())))+1,1)","v":85},null,null,null,null,null,null,null,null,null,{"$f":"IFERROR(IF(I93=\"グリーン電力証書\",VLOOKUP(H93,'（非）⑥証書種別・排出係数'!$A$1:$B$6,2,FALSE),IF(I93=\"グリーン熱証書\",VLOOKUP(H93,'（非）⑥証書種別・排出係数'!$A$1:$C$6,3,FALSE),\"\")),\"\")","v":""},null,null,null," ",null,0]
[{"$f":"IFERROR(MAX(INDIRECT(ADDRESS(1,COLUMN())):INDIRECT(ADDRESS(ROW()-1,COLUMN())))+1,1)","v":86},null,null,null,null,null,null,null,null,null,{"$f":"IFERROR(IF(I94=\"グリーン電力証書\",VLOOKUP(H94,'（非）⑥証書種別・排出係数'!$A$1:$B$6,2,FALSE),IF(I94=\"グリーン熱証書\",VLOOKUP(H94,'（非）⑥証書種別・排出係数'!$A$1:$C$6,3,FALSE),\"\")),\"\")","v":""},null,null,null," ",null,0]
[{"$f":"IFERROR(MAX(INDIRECT(ADDRESS(1,COLUMN())):INDIRECT(ADDRESS(ROW()-1,COLUMN())))+1,1)","v":87},null,null,null,null,null,null,null,null,null,{"$f":"IFERROR(IF(I95=\"グリーン電力証書\",VLOOKUP(H95,'（非）⑥証書種別・排出係数'!$A$1:$B$6,2,FALSE),IF(I95=\"グリーン熱証書\",VLOOKUP(H95,'（非）⑥証書種別・排出係数'!$A$1:$C$6,3,FALSE),\"\")),\"\")","v":""},null,null,null," ",null,0]
[{"$f":"IFERROR(MAX(INDIRECT(ADDRESS(1,COLUMN())):INDIRECT(ADDRESS(ROW()-1,COLUMN())))+1,1)","v":88},null,null,null,null,null,null,null,null,null,{"$f":"IFERROR(IF(I96=\"グリーン電力証書\",VLOOKUP(H96,'（非）⑥証書種別・排出係数'!$A$1:$B$6,2,FALSE),IF(I96=\"グリーン熱証書\",VLOOKUP(H96,'（非）⑥証書種別・排出係数'!$A$1:$C$6,3,FALSE),\"\")),\"\")","v":""},null,null,null," ",null,0]
[{"$f":"IFERROR(MAX(INDIRECT(ADDRESS(1,COLUMN())):INDIRECT(ADDRESS(ROW()-1,COLUMN())))+1,1)","v":89},null,null,null,null,null,null,null,null,null,{"$f":"IFERROR(IF(I97=\"グリーン電力証書\",VLOOKUP(H97,'（非）⑥証書種別・排出係数'!$A$1:$B$6,2,FALSE),IF(I97=\"グリーン熱証書\",VLOOKUP(H97,'（非）⑥証書種別・排出係数'!$A$1:$C$6,3,FALSE),\"\")),\"\")","v":""},null,null,null," ",null,0]
[{"$f":"IFERROR(MAX(INDIRECT(ADDRESS(1,COLUMN())):INDIRECT(ADDRESS(ROW()-1,COLUMN())))+1,1)","v":90},null,null,null,null,null,null,null,null,null,{"$f":"IFERROR(IF(I98=\"グリーン電力証書\",VLOOKUP(H98,'（非）⑥証書種別・排出係数'!$A$1:$B$6,2,FALSE),IF(I98=\"グリーン熱証書\",VLOOKUP(H98,'（非）⑥証書種別・排出係数'!$A$1:$C$6,3,FALSE),\"\")),\"\")","v":""},null,null,null," ",null,0]
[{"$f":"IFERROR(MAX(INDIRECT(ADDRESS(1,COLUMN())):INDIRECT(ADDRESS(ROW()-1,COLUMN())))+1,1)","v":91},null,null,null,null,null,null,null,null,null,{"$f":"IFERROR(IF(I99=\"グリーン電力証書\",VLOOKUP(H99,'（非）⑥証書種別・排出係数'!$A$1:$B$6,2,FALSE),IF(I99=\"グリーン熱証書\",VLOOKUP(H99,'（非）⑥証書種別・排出係数'!$A$1:$C$6,3,FALSE),\"\")),\"\")","v":""},null,null,null," ",null,0]
[{"$f":"IFERROR(MAX(INDIRECT(ADDRESS(1,COLUMN())):INDIRECT(ADDRESS(ROW()-1,COLUMN())))+1,1)","v":92},null,null,null,null,null,null,null,null,null,{"$f":"IFERROR(IF(I100=\"グリーン電力証書\",VLOOKUP(H100,'（非）⑥証書種別・排出係数'!$A$1:$B$6,2,FALSE),IF(I100=\"グリーン熱証書\",VLOOKUP(H100,'（非）⑥証書種別・排出係数'!$A$1:$C$6,3,FALSE),\"\")),\"\")","v":""},null,null,null," ",null,0]
[{"$f":"IFERROR(MAX(INDIRECT(ADDRESS(1,COLUMN())):INDIRECT(ADDRESS(ROW()-1,COLUMN())))+1,1)","v":93},null,null,null,null,null,null,null,null,null,{"$f":"IFERROR(IF(I101=\"グリーン電力証書\",VLOOKUP(H101,'（非）⑥証書種別・排出係数'!$A$1:$B$6,2,FALSE),IF(I101=\"グリーン熱証書\",VLOOKUP(H101,'（非）⑥証書種別・排出係数'!$A$1:$C$6,3,FALSE),\"\")),\"\")","v":""},null,null,null," ",null,0]
[{"$f":"IFERROR(MAX(INDIRECT(ADDRESS(1,COLUMN())):INDIRECT(ADDRESS(ROW()-1,COLUMN())))+1,1)","v":94},null,null,null,null,null,null,null,null,null,{"$f":"IFERROR(IF(I102=\"グリーン電力証書\",VLOOKUP(H102,'（非）⑥証書種別・排出係数'!$A$1:$B$6,2,FALSE),IF(I102=\"グリーン熱証書\",VLOOKUP(H102,'（非）⑥証書種別・排出係数'!$A$1:$C$6,3,FALSE),\"\")),\"\")","v":""},null,null,null," ",null,0]
[{"$f":"IFERROR(MAX(INDIRECT(ADDRESS(1,COLUMN())):INDIRECT(ADDRESS(ROW()-1,COLUMN())))+1,1)","v":95},null,null,null,null,null,null,null,null,null,{"$f":"IFERROR(IF(I103=\"グリーン電力証書\",VLOOKUP(H103,'（非）⑥証書種別・排出係数'!$A$1:$B$6,2,FALSE),IF(I103=\"グリーン熱証書\",VLOOKUP(H103,'（非）⑥証書種別・排出係数'!$A$1:$C$6,3,FALSE),\"\")),\"\")","v":""},null,null,null," ",null,0]
[{"$f":"IFERROR(MAX(INDIRECT(ADDRESS(1,COLUMN())):INDIRECT(ADDRESS(ROW()-1,COLUMN())))+1,1)","v":96},null,null,null,null,null,null,null,null,null,{"$f":"IFERROR(IF(I104=\"グリーン電力証書\",VLOOKUP(H104,'（非）⑥証書種別・排出係数'!$A$1:$B$6,2,FALSE),IF(I104=\"グリーン熱証書\",VLOOKUP(H104,'（非）⑥証書種別・排出係数'!$A$1:$C$6,3,FALSE),\"\")),\"\")","v":""},null,null,null," ",null,0]
[{"$f":"IFERROR(MAX(INDIRECT(ADDRESS(1,COLUMN())):INDIRECT(ADDRESS(ROW()-1,COLUMN())))+1,1)","v":97},null,null,null,null,null,null,null,null,null,{"$f":"IFERROR(IF(I105=\"グリーン電力証書\",VLOOKUP(H105,'（非）⑥証書種別・排出係数'!$A$1:$B$6,2,FALSE),IF(I105=\"グリーン熱証書\",VLOOKUP(H105,'（非）⑥証書種別・排出係数'!$A$1:$C$6,3,FALSE),\"\")),\"\")","v":""},null,null,null," ",null,0]
[{"$f":"IFERROR(MAX(INDIRECT(ADDRESS(1,COLUMN())):INDIRECT(ADDRESS(ROW()-1,COLUMN())))+1,1)","v":98},null,null,null,null,null,null,null,null,null,{"$f":"IFERROR(IF(I106=\"グリーン電力証書\",VLOOKUP(H106,'（非）⑥証書種別・排出係数'!$A$1:$B$6,2,FALSE),IF(I106=\"グリーン熱証書\",VLOOKUP(H106,'（非）⑥証書種別・排出係数'!$A$1:$C$6,3,FALSE),\"\")),\"\")","v":""},null,null,null," ",null,0]
[{"$f":"IFERROR(MAX(INDIRECT(ADDRESS(1,COLUMN())):INDIRECT(ADDRESS(ROW()-1,COLUMN())))+1,1)","v":99},null,null,null,null,null,null,null,null,null,{"$f":"IFERROR(IF(I107=\"グリーン電力証書\",VLOOKUP(H107,'（非）⑥証書種別・排出係数'!$A$1:$B$6,2,FALSE),IF(I107=\"グリーン熱証書\",VLOOKUP(H107,'（非）⑥証書種別・排出係数'!$A$1:$C$6,3,FALSE),\"\")),\"\")","v":""},null,null,null," ",null,0]
[{"$f":"IFERROR(MAX(INDIRECT(ADDRESS(1,COLUMN())):INDIRECT(ADDRESS(ROW()-1,COLUMN())))+1,1)","v":100},null,null,null,null,null,null,null,null,null,{"$f":"IFERROR(IF(I108=\"グリーン電力証書\",VLOOKUP(H108,'（非）⑥証書種別・排出係数'!$A$1:$B$6,2,FALSE),IF(I108=\"グリーン熱証書\",VLOOKUP(H108,'（非）⑥証書種別・排出係数'!$A$1:$C$6,3,FALSE),\"\")),\"\")","v":""},null,null,null," ",null,0]

{"sheet":"（非）⑤排出係数","index":12,"n_rows":6,"n_cols":2,"rows_kept":6,"cut":false,"hidden":true,"merged":[]}
["年度","係数"]
[{"$f":"⑤!C4","v":"2015年度"},0.48899999999999999]
[{"$f":"⑤!D4","v":"2016年度"},0.48899999999999999]
[{"$f":"⑤!E4","v":"2017年度"},0.48899999999999999]
[{"$f":"⑤!F4","v":"2018年度"},0.48899999999999999]
[{"$f":"⑤!G4","v":"2019年度"},0.48899999999999999]

{"sheet":"（非）⑤小売2013年度実績","index":13,"n_rows":8,"n_cols":5,"rows_kept":8,"cut":false,"hidden":true,"merged":[]}
["エネルギー環境計画書制度",2013,"年度実績",{"$f":"B1+2","v":2015},"年度補正で使用"]
["小売電気事業者名","調整前CO2排出係数","調整後CO２排出係数","再エネ率","再エネ率（FIT）"]
["サミットエナジー株式会社",0.42,0.46,0.4304]
["オリックス株式会社",0.50800000000000001,0.60799999999999998,0.83430000000000004]
["出光グリーンパワー株式会社",0.26200000000000001,0.47099999999999997,1]
["東京エコサービス株式会社",0.08,0.16900000000000001,0.51849999999999996]
["株式会社G-Power",0,0,1]
["プレミアムグリーンパワー株式会社",0.02,2.3E-2,1]

{"sheet":"（非）⑤小売2014実績","index":14,"n_rows":12,"n_cols":5,"rows_kept":12,"cut":false,"hidden":true,"merged":[]}
["エネルギー環境計画書制度",2014,"年度実績",{"$f":"B1+2","v":2016},"年度補正で使用"]
["小売電気事業者名","調整前CO2排出係数","調整後CO２排出係数","再エネ率","再エネ率（FIT）"]
["出光グリーンパワー",0.26200000000000001,0.47099999999999997,0.33159999999999995]
["うなかみの大地",0.23799999999999999,0.36799999999999999,0.5746]
["荏原環境プラント",0.26400000000000001,0.378,0.35580000000000001]
["サミットエナジー",0.42,0.46,0.38530000000000003]
["G-Power",0,0,1]
["ダイヤモンドパワー",0.32900000000000001,0.32,0.55110000000000003]
["東京エコサービス",0.08,0.16900000000000001,0.42450000000000004]
["トヨタタービンアンドシステム",0.46700000000000003,0.45700000000000002,0.26569999999999999]
["プレミアムグリーンパワー",2.1999999999999999E-2,2.3E-2,0.82900000000000007]
["日本アルファ電力",0,0,1]

{"sheet":"（非）⑤小売2015実績","index":15,"n_rows":31,"n_cols":5,"rows_kept":31,"cut":false,"hidden":true,"merged":[]}
["エネルギー環境計画書制度",2015,"年度実績",{"$f":"B1+2","v":2017},"年度補正で使用"]
["小売電気事業者名","調整前CO2排出係数","調整後CO２排出係数","再エネ率","再エネ率（FIT）"]
["アーバンエナジー株式会社",0.23799999999999999,0.55100000000000005,0.41610000000000003,0.41610000000000003]
["アストモスエネルギー株式会社",0.35399999999999998,0.45500000000000002,0.2606,0.2306]
["株式会社アップルツリー",0.151,0.373,0.2291,0.2291]
["出光グリーンパワー株式会社",0.218,0.49199999999999999,0.58199999999999996,0.54910000000000003]
["株式会社岩手ウッドパワー",0,0.54,1,1]
["SBパワー株式会社",0.01,0.54600000000000004,1,0.9395]
["株式会社エナリス・パワー・マーケティング",0.30399999999999999,0.59599999999999997,0.53439999999999999,0.49299999999999999]
["エネサーブ株式会社",0.114,0.30299999999999999,0.80759999999999998,0.7903]
["荏原環境プラント株式会社",8.6999999999999994E-2,0.438,0.55079999999999996,0.49519999999999997]
["株式会社サイサン",0.4,0.51800000000000002,0.2414,0.2414]
["サミットエナジー株式会社",0.42499999999999999,0.53,0.3412,0.16639999999999999]
["株式会社G-Power",0,0,1,0]
["昭和シェル石油株式会社",0.29899999999999999,0.38800000000000001,0.21540000000000001,0.21540000000000001]
["株式会社S-CORE",0.158,0.39100000000000001,0.8992,0.47120000000000001]
["株式会社生活クラブエナジー",0.31900000000000001,0.39200000000000002,0.4995,0.18429999999999999]
["ダイヤモンドパワー株式会社",0.30399999999999999,0.35399999999999998,0.47799999999999998,5.4100000000000002E-2]
["東京エコサービス株式会社",0.1,0.28000000000000003,0.40810000000000002,0.37780000000000002]
["株式会社とんでん",0.39300000000000002,0.51,0.26550000000000001,0.26550000000000001]
["日産トレーデイング株式会社",0.35099999999999998,0.496,0.33110000000000001,0.33110000000000001]
["日本テクノ株式会社",0.29299999999999998,0.35199999999999998,0.45779999999999998,0.1128]
["パシフィックパワー株式会社",0.33800000000000002,0.54,0.41949999999999998,0.41949999999999998]
["株式会社パルシステム電力",7.9000000000000001E-2,0.47599999999999998,0.77110000000000001,0.77110000000000001]
["株式会社V-Power",0.246,0.59699999999999998,0.68710000000000004,0.68710000000000004]
["プレミアムグリーンパワー株式会社",1.2E-2,0.30299999999999999,0.79120000000000001,0.74390000000000001]
["三井物産株式会社",1.9E-2,0.54200000000000004,1,1]
["株式会社みらい電力",0.35499999999999998,0.497,0.34460000000000002,0.34460000000000002]
["みんな電力株式会社",0.36099999999999999,0.33300000000000002,0.3,0]
["リエスパワー株式会社",0.314,0.376,0.42520000000000002,0.39290000000000003]
["株式会社Looop",0.35299999999999998,0.53,0.31009999999999999,0.31009999999999999]

{"sheet":"（非）⑤小売2016実績","index":16,"n_rows":34,"n_cols":5,"rows_kept":34,"cut":false,"hidden":true,"merged":[]}
["エネルギー環境計画書制度",2016,"年度実績",{"$f":"B1+2","v":2018},"年度補正で使用"]
["小売電気事業者名","調整前CO2排出係数","調整後CO２排出係数","再エネ率","再エネ率（FIT）"]
["アーバンエナジー株式会社",0.314,0.41599999999999998,0.36659999999999998]
["出光グリーンパワー株式会社",0.16,0.58299999999999996,0.88490000000000002]
["ＳＢパワー株式会社",0.32400000000000001,0.53700000000000003,0.48630000000000001]
["株式会社エナリス・パワー・マーケティング",0.47599999999999998,0.56000000000000005,0.24590000000000001]
["エネサーブ株式会社",0.26,0.47199999999999998,0.52410000000000001]
["荏原環境プラント株式会社",3.0000000000000001E-3,0.29699999999999999,1]
["エフィシエント株式会社",0,0.25700000000000001,1]
["王子・伊藤忠エネクス電力販売株式会社",0.16,0.45700000000000002,0.71479999999999999]
["オリックス株式会社",0.46,0.56000000000000005,0.24790000000000001]
["株式会社Ｇ－Ｐｏｗｅｒ",0,0,1]
["昭和シェル石油株式会社",0.29699999999999999,0.45400000000000001,0.36530000000000001]
["株式会社ＳーＣＯＲＥ",0.114,0.39300000000000002,1]
["株式会社生活クラブエナジー",0.20399999999999999,0.372,0.3745]
["株式会社タクマエナジー",0.33300000000000002,0.42,0.26540000000000002]
["株式会社地球クラブ",0.39,0.49,0.29189999999999999]
["東京エコサービス株式会社",4.9000000000000002E-2,0.251,0.5554]
["公益財団法人東京都環境公社",0.10100000000000001,0.58199999999999996,0.9677]
["株式会社東芝\r\n【現:東芝エネルギーシステムズ株式会社】",0.34200000000000003,0.47499999999999998,0.31659999999999999]
["株式会社とんでん",0.24299999999999999,0.38200000000000001,0.32740000000000002]
["日産トレーデイング株式会社",0.40300000000000002,0.48399999999999999,0.27060000000000001]
["日本テクノ株式会社",0.372,0.41799999999999998,0.34520000000000001]
["パシフィックパワー株式会社",0.32800000000000001,0.495,0.38650000000000001]
["パナソニック株式会社",0.36499999999999999,0.57199999999999995,0.29670000000000002]
["株式会社パルシステム電力",0.13600000000000001,0.749,1]
["日立造船株式会社",0.13100000000000001,0.378,0.4088]
["プレミアムグリーンパワー株式会社",3.2000000000000001E-2,0.58599999999999997,1]
["丸紅新電力株式会社",0.36099999999999999,0.48299999999999998,0.33110000000000001]
["三井物産株式会社",9.9000000000000005E-2,0.505,0.99350000000000005]
["ミツウロコグリーンエネルギー株式会社",0.377,0.51300000000000001,0.31709999999999999]
["株式会社みらい電力",0.16900000000000001,0.28799999999999998,0.5958]
["みんな電力株式会社",0.22900000000000001,0.41599999999999998,0.42930000000000001]
["森の電力株式会社",0,0.48099999999999998,1]

{"sheet":"（非）⑤小売2017実績","index":17,"n_rows":37,"n_cols":5,"rows_kept":37,"cut":false,"hidden":true,"merged":[]}
["エネルギー環境計画書制度",2017,"年度実績",{"$f":"B1+2","v":2019},"年度補正で使用"]
["小売電気事業者名","調整前CO2排出係数","調整後CO２排出係数","再エネ率","再エネ率（FIT）"]
["アーバンエナジー株式会社",0.313,0.48399999999999999,0.3589]
["株式会社イーセル",0.19600000000000001,0.19500000000000001,0.47799999999999998]
["イーレックス株式会社",0.442,0.65600000000000003,0.25829999999999997]
["出光グリーンパワー株式会社",0.314,0.60699999999999998,0.65049999999999997]
["ＨＴＢエナジー株式会社",0.42899999999999999,0.44600000000000001,0.2442]
["SBパワー株式会社",0.372,0.41699999999999998,0.3342]
["エネサーブ株式会社",0.46100000000000002,0.68700000000000006,0.44529999999999997]
["荏原環境プラント株式会社",0.14099999999999999,0.39900000000000002,0.81769999999999998]
["王子・伊藤忠エネクス電力販売株式会社",0.33500000000000002,0.58599999999999997,1]
["オリックス株式会社",0.39900000000000002,0.50600000000000001,0.2364]
["サミットエナジー株式会社",0.41199999999999998,0.49199999999999999,0.41949999999999998]
["株式会社G-Power",0,0,1]
["自然電力株式会社",0.35699999999999998,0.67100000000000004,0.43730000000000002]
["昭和シェル石油株式会社",0.35099999999999998,0.46700000000000003,0.28649999999999998]
["株式会社Ｓ－ＣＯＲＥ\r\n【現：株式会社エナリス・パワー・マーケティング】",2.5999999999999999E-2,0.48299999999999998,1]
["株式会社生活クラブエナジー",0.27300000000000002,0.45900000000000002,0.3518]
["株式会社タクマエナジー",0.06,0.26700000000000002,0.53359999999999996]
["株式会社地球クラブ",0.24299999999999999,0.52100000000000002,0.58540000000000003]
["東京エコサービス株式会社",9.1999999999999998E-2,0.245,0.44650000000000001]
["公益財団法人東京都環境公社",0.104,0.54900000000000004,0.94010000000000005]
["東芝エネルギーシステムズ株式会社",0.40500000000000003,0.56699999999999995,0.33100000000000002]
["株式会社とんでん",0.36899999999999999,0.53,0.34949999999999998]
["日産トレーデイング株式会社",0.40100000000000002,0.48599999999999999,0.23319999999999999]
["日本テクノ株式会社",0.31,0.35899999999999999,0.39279999999999998]
["パナソニック株式会社",0.23699999999999999,0.48799999999999999,0.62880000000000003]
["株式会社パルシステム電力",0.106,0.58399999999999996,0.9919]
["日立造船株式会社",0.192,0.29799999999999999,0.70230000000000004]
["株式会社V-power",0.42599999999999999,0.52200000000000002,0.21029999999999999]
["プレミアムグリーンパワー株式会社",4.2999999999999997E-2,0.54800000000000004,1]
["丸紅新電力株式会社",0.40799999999999997,0.52100000000000002,0.32790000000000002]
["ミツウロコグリーンエネルギー株式会社",0.42099999999999999,0.56399999999999995,0.22939999999999999]
["株式会社みらい電力",0.39300000000000002,0.49299999999999999,0.28960000000000002]
["みんな電力株式会社",0.23499999999999999,0.53900000000000003,0.64359999999999995]
["森の電力株式会社",0,0.33400000000000002,1]
["株式会社Looop",0.33600000000000002,0.42399999999999999,0.27039999999999997]

{"sheet":"（非）⑤小売2018実績","index":18,"n_rows":35,"n_cols":5,"rows_kept":35,"cut":false,"hidden":true,"merged":[]}
["エネルギー環境計画書制度",2018,"年度実績",{"$f":"B1+2","v":2020},"年度補正で使用"]
["小売電気事業者名","調整前CO2排出係数","調整後CO２排出係数","再エネ率","再エネ率（FIT）"]
["株式会社G-Power",0,0,0.98720682302771856,0]
["ネクストエナジー・アンド・リソース株式会社",0.434,0,0.12720306513409962,0.12720306513409962]
["森の電力株式会社",1.4999999999999999E-2,0.46800000000000003,0.97035175879396973,0.97035175879396973]
["ゼロワットパワー株式会社",2.5999999999999999E-2,0.39,0.95316060453611551,0.95316060453611551]
["株式会社津軽あっぷるパワー",2.8000000000000001E-2,0.45500000000000002,0.94476585005832914,0.94476585005832914]
["株式会社横浜環境デザイン",3.5000000000000003E-2,0.55300000000000005,0.93009118541033442,0.93009118541033442]
["自然電力株式会社",0.46200000000000002,4.2999999999999997E-2,0.10920451610160901,0.10920451610160901]
["日立造船株式会社",4.5999999999999999E-2,0.16700000000000001,0.30211996861502688,0.1790062346363217]
["株式会社花巻銀河パワー",5.6000000000000001E-2,0.46200000000000002,0.89135209684834249,0.89135209684834249]
["荏原環境プラント株式会社",7.1999999999999995E-2,0.32800000000000001,0.43867229057325363,0.39018776862362176]
["東京エコサービス株式会社",9.2999999999999999E-2,0.19500000000000001,0.37254051063301752,0.25852020447521368]
["株式会社パルシステム電力",0.109,0.56399999999999995,0.68047684802388497,0.68047543071745564]
["株式会社タクマエナジー",0.11600000000000001,0.42499999999999999,0.35183899934375318,0.32919729364305778]
["出光グリーンパワー株式会社",0.151,0.38400000000000001,0.42863836624649115,0.33059228836048776]
["株式会社生活クラブエナジー",0.153,0.36899999999999999,0.4999402055856908,0.4999402055856908]
["みんな電力株式会社",0.161,0.36799999999999999,0.68672738366968744,0.49983050464417278]
["パシフィックパワー株式会社",0.20399999999999999,0.442,0.48720168636603167,0.48720168636603167]
["テス・エンジニアリング株式会社",0.22800000000000001,0.61699999999999999,0.51809064137102978,0.51808466790516516]
["アーバンエナジー株式会社",0.24399999999999999,0.40300000000000002,0.32600215532626498,0.30925509854790678]
["株式会社地球クラブ",0.252,0.47799999999999998,0.43191994969635433,0.43120404824576913]
["日本テクノ株式会社",0.26700000000000002,0.33400000000000002,0.44024780354193188,0.10132732405207645]
["ＨＴＢエナジー株式会社",0.26900000000000002,0.373,0.46993626862124099,0.46993626862124099]
["株式会社V-power",0.27300000000000002,0.43099999999999999,0.36587195527342681,0.32338263359647051]
["パナソニック株式会社",0.27400000000000002,0.51500000000000001,0.44752173193905859,0.44752173193905859]
["公益財団法人東京都環境公社",0.27800000000000002,0.56399999999999995,0.4986596274378805,0.4986596274378805]
["株式会社とんでんホールディングス",0.27900000000000003,0.52300000000000002,0.45654550423613011,0.45654550423613011]
["株式会社イーセル",0.312,0.29899999999999999,0.32785983203011876,0.32785983203011876]
["東芝エネルギーシステムズ株式会社",0.317,0.54700000000000004,0.33073176456780706,0.33073176456780706]
["株式会社エコスタイル",0.36899999999999999,0.51200000000000001,0.24174512992031055,0.24174512992031055]
["株式会社みらい電力",0.38800000000000001,0.49,0.23916505320885798,0.23916505320885798]
["株式会社ジェイコム東京",0.39700000000000002,0.51700000000000002,0.31125775125775129,0.31125775125775129]
["株式会社ジェイコムイースト",0.39700000000000002,0.51700000000000002,0.31125755988161546,0.31125755988161546]
["王子・伊藤忠エネクス電力販売株式会社",0.4,0.61499999999999999,0.36518161272119581,0.36518161272119581]

{"sheet":"（非）⑥証書種別・排出係数","index":19,"n_rows":6,"n_cols":3,"rows_kept":6,"cut":false,"hidden":true,"merged":[]}
["年度","グリーン電力証書","グリーン熱証書"]
[{"$f":"⑥!C3","v":"2015年度"},0.48899999999999999,0.06]
[{"$f":"⑥!D3","v":"2016年度"},0.48899999999999999,0.06]
[{"$f":"⑥!E3","v":"2017年度"},0.48899999999999999,0.06]
[{"$f":"⑥!F3","v":"2018年度"},0.48899999999999999,0.06]
[{"$f":"⑥!G3","v":"2019年度"},0.48899999999999999,0.06]

{"sheet":"⑦","index":20,"n_rows":13,"n_cols":5,"rows_kept":13,"cut":false,"hidden":false,"merged":[[2,0,2,1],[3,0,3,1],[152,0,153,0],[154,0,155,0],[156,0,157,0],[6,0,6,1],[9,0,9,1],[202,0,203,0],[204,0,205,0],[10,0,10,1],[11,0,11,1],[12,0,12,1],[188,0,189,0],[190,0,191,0],[192,0,193,0],[194,0,195,0],[196,0,197,0],[198,0,199,0],[176,0,177,0],[178,0,179,0],[180,0,181,0],[182,0,183,0],[184,0,185,0],[9,2,9,3],[10,2,10,3],[11,2,11,3],[12,2,12,3],[200,0,201,0],[186,0,187,0],[164,0,165,0],[166,0,167,0],[168,0,169,0],[170,0,171,0],[172,0,173,0],[174,0,175,0],[162,0,163,0],[150,0,151,0],[158,0,159,0],[160,0,161,0]]}
[]
["♯アの補正を行う場合は設置数を、イの補正を行う場合は各証書の保有量を記入してください。"]
["補正数合計",null,{"$f":"補正結果!AM14","v":"2019年度"}]
["再エネ利用事業所数（補正値）",null,{"$f":"C7+E11+E12+E13","v":0}]
[]
["ア　他の事業者が都内に有する事業所等の屋根等を賃借し、再生可能エネルギー発電設備を設置している場合"]
["設置数",null,null,"事業所"]
[]
["イ　事業者として証書による環境価値を都内において利用した場合"]
["証書種別",null,"保有量（kWh,MJ）",null,"補正事業所数"]
["グリーン電力証書",null,null,null,{"$f":"ROUNDDOWN(C11/4000,0)","v":0}]
["グリーン熱証書",null,null,null,{"$f":"ROUNDDOWN(C12/32600,0)","v":0}]
["RPS法の新エネルギー等\n電気相当量",null,null,null,{"$f":"ROUNDDOWN(C13/4000,0)","v":0}]

{"sheet":"（非）メンテナンスシート","index":21,"n_rows":0,"n_cols":0,"rows_kept":0,"cut":false,"hidden":true,"merged":[]}